{"text_format":"1","workbook":"xlsx","n_sheets":6,"sheets":["Calendrier","Conges","Extraction","Sources","Jour_feries","Disponibilités"],"not_rendered":{"charts":0,"images":1,"macros":1,"external_links":2,"defined_names":7,"comments":0,"pivot_tables":0},"unopened":[],"bounds":{"document_bytes":16777216,"sheet_cells":100000,"rows_first":2000,"rows_last":500,"rows_between":2000,"halvings":0,"cell_chars":16384,"cell_head_chars":4096},"cells_cut":0,"cells_raw":0,"read":"whole","date_system":"1900"}

{"sheet":"Calendrier","index":0,"n_rows":38,"n_cols":69,"rows_kept":38,"cut":false,"hidden":false,"merged":[[30,1,30,7],[30,16,30,22],[30,31,30,37],[30,46,30,52],[19,55,19,56],[4,1,4,7],[4,16,4,22],[4,31,4,37],[4,46,4,52],[17,1,17,7],[17,16,17,22],[6,55,6,56],[9,55,9,56],[17,31,17,37],[17,46,17,52],[7,55,7,56],[10,55,10,56]]}
[null,1,1,1,1,1,1,1,null,null,null,null,null,null,null,null,2,2,2,2,2,2,2,null,null,null,null,null,null,null,null,3,3,3,3,3,3,3,null,null,null,null,null,null,null,null,4,4,4,4,4,4,4,null,null,null,null,null,null,null,null,null,null,null,null,null,"Pâques"]
[null,{"$f":"WEEKDAY(DATE($BD$8,B1,1),2)","v":3},{"$f":"WEEKDAY(DATE($BD$8,C1,1),2)","v":3},3,3,3,3,3,null,null,null,null,null,null,null,null,{"$f":"WEEKDAY(DATE($BD$8,Q1,1),2)","v":6},{"$f":"WEEKDAY(DATE($BD$8,R1,1),2)","v":6},{"$f":"WEEKDAY(DATE($BD$8,S1,1),2)","v":6},{"$f":"WEEKDAY(DATE($BD$8,T1,1),2)","v":6},{"$f":"WEEKDAY(DATE($BD$8,U1,1),2)","v":6},{"$f":"WEEKDAY(DATE($BD$8,V1,1),2)","v":6},{"$f":"WEEKDAY(DATE($BD$8,W1,1),2)","v":6},null,null,null,null,null,null,null,null,{"$f":"WEEKDAY(DATE($BD$8,AF1,1),2)","v":7},{"$f":"WEEKDAY(DATE($BD$8,AG1,1),2)","v":7},{"$f":"WEEKDAY(DATE($BD$8,AH1,1),2)","v":7},{"$f":"WEEKDAY(DATE($BD$8,AI1,1),2)","v":7},{"$f":"WEEKDAY(DATE($BD$8,AJ1,1),2)","v":7},{"$f":"WEEKDAY(DATE($BD$8,AK1,1),2)","v":7},{"$f":"WEEKDAY(DATE($BD$8,AL1,1),2)","v":7},null,null,null,null,null,null,null,null,{"$f":"WEEKDAY(DATE($BD$8,AU1,1),2)","v":3},{"$f":"WEEKDAY(DATE($BD$8,AV1,1),2)","v":3},{"$f":"WEEKDAY(DATE($BD$8,AW1,1),2)","v":3},{"$f":"WEEKDAY(DATE($BD$8,AX1,1),2)","v":3},{"$f":"WEEKDAY(DATE($BD$8,AY1,1),2)","v":3},{"$f":"WEEKDAY(DATE($BD$8,AZ1,1),2)","v":3},{"$f":"WEEKDAY(DATE($BD$8,BA1,1),2)","v":3},null,null,null,null,null,null,null,null,null,null,null,null,null,{"$f":"ROUND(DATE(AE1,4,MOD(234-11*MOD(AE1,19),30))/7,0)*7-6","v":"1900-04-15"},null,"Accueil"]
[null,1,2,3,4,5,6,7,null,null,null,null,null,null,null,null,1,2,3,4,5,6,7,null,null,null,null,null,null,null,null,1,2,3,4,5,6,7,null,null,null,null,null,null,null,null,1,2,3,4,5,6,7]
[]
[null,{"$f":"UPPER(TEXT(DATE($BD$8,B1,1),\"mmmm aaaa\"))","v":"JANVIER 2020"},null,null,null,null,null,null,null,null,null,null,null,null,null,null,{"$f":"UPPER(TEXT(DATE($BD$8,Q1,1),\"mmmm aaaa\"))","v":"FÉVRIER 2020"},null,null,null,null,null,null,null,null,null,null,null,null,null,null,{"$f":"UPPER(TEXT(DATE($BD$8,AF1,1),\"mmmm aaaa\"))","v":"MARS 2020"},null,null,null,null,null,null,null,null,null,null,null,null,null,null,{"$f":"UPPER(TEXT(DATE($BD$8,AU1,1),\"mmmm aaaa\"))","v":"AVRIL 2020"}]
[null,"L","M","M","J","V","S","D",null,null,null,null,null,null,null,null,"L","M","M","J","V","S","D",null,null,null,null,null,null,null,null,"L","M","M","J","V","S","D",null,null,null,null,null,null,null,null,"L","M","M","J","V","S","D",null,null,null,null,null,null,null,null,null,null,null,null,null,"Jours fériés"]
[null,{"$f":"IFERROR(IF(AND(A7=\"\",B3=B2,ISNUMBER(H6)=FALSE,ISNUMBER(B6)=FALSE,B6<>\"\"),DATE($BD$8,B1,1),IF(AND(A7<>\"\",MONTH(A7+1)=MONTH(A7)),A7+1,IF(AND(H6<>\"\",MONTH(H6+1)=MONTH(H6)),H6+1,\"\"))),\"\")","v":""},{"$f":"IFERROR(IF(AND(B7=\"\",C3=C2,ISNUMBER(I6)=FALSE,ISNUMBER(C6)=FALSE,C6<>\"\"),DATE($BD$8,C1,1),IF(AND(B7<>\"\",MONTH(B7+1)=MONTH(B7)),B7+1,IF(AND(I6<>\"\",MONTH(I6+1)=MONTH(I6)),I6+1,\"\"))),\"\")","v":""},"2020-01-01","2020-01-02","2020-01-03","2020-01-04","2020-01-05",null,null,null,null,null,null,null,null,{"$f":"IFERROR(IF(AND(P7=\"\",Q3=Q2,ISNUMBER(W6)=FALSE,ISNUMBER(Q6)=FALSE,Q6<>\"\"),DATE($BD$8,Q1,1),IF(AND(P7<>\"\",MONTH(P7+1)=MONTH(P7)),P7+1,IF(AND(W6<>\"\",MONTH(W6+1)=MONTH(W6)),W6+1,\"\"))),\"\")","v":""},{"$f":"IFERROR(IF(AND(Q7=\"\",R3=R2,ISNUMBER(X6)=FALSE,ISNUMBER(R6)=FALSE,R6<>\"\"),DATE($BD$8,R1,1),IF(AND(Q7<>\"\",MONTH(Q7+1)=MONTH(Q7)),Q7+1,IF(AND(X6<>\"\",MONTH(X6+1)=MONTH(X6)),X6+1,\"\"))),\"\")","v":""},"","","","2020-02-01","2020-02-02",null,null,null,null,null,null,null,null,{"$f":"IFERROR(IF(AND(AE7=\"\",AF3=AF2,ISNUMBER(AL6)=FALSE,ISNUMBER(AF6)=FALSE,AF6<>\"\"),DATE($BD$8,AF1,1),IF(AND(AE7<>\"\",MONTH(AE7+1)=MONTH(AE7)),AE7+1,IF(AND(AL6<>\"\",MONTH(AL6+1)=MONTH(AL6)),AL6+1,\"\"))),\"\")","v":""},{"$f":"IFERROR(IF(AND(AF7=\"\",AG3=AG2,ISNUMBER(AM6)=FALSE,ISNUMBER(AG6)=FALSE,AG6<>\"\"),DATE($BD$8,AG1,1),IF(AND(AF7<>\"\",MONTH(AF7+1)=MONTH(AF7)),AF7+1,IF(AND(AM6<>\"\",MONTH(AM6+1)=MONTH(AM6)),AM6+1,\"\"))),\"\")","v":""},{"$f":"IFERROR(IF(AND(AG7=\"\",AH3=AH2,ISNUMBER(AN6)=FALSE,ISNUMBER(AH6)=FALSE,AH6<>\"\"),DATE($BD$8,AH1,1),IF(AND(AG7<>\"\",MONTH(AG7+1)=MONTH(AG7)),AG7+1,IF(AND(AN6<>\"\",MONTH(AN6+1)=MONTH(AN6)),AN6+1,\"\"))),\"\")","v":""},{"$f":"IFERROR(IF(AND(AH7=\"\",AI3=AI2,ISNUMBER(AO6)=FALSE,ISNUMBER(AI6)=FALSE,AI6<>\"\"),DATE($BD$8,AI1,1),IF(AND(AH7<>\"\",MONTH(AH7+1)=MONTH(AH7)),AH7+1,IF(AND(AO6<>\"\",MONTH(AO6+1)=MONTH(AO6)),AO6+1,\"\"))),\"\")","v":""},{"$f":"IFERROR(IF(AND(AI7=\"\",AJ3=AJ2,ISNUMBER(AP6)=FALSE,ISNUMBER(AJ6)=FALSE,AJ6<>\"\"),DATE($BD$8,AJ1,1),IF(AND(AI7<>\"\",MONTH(AI7+1)=MONTH(AI7)),AI7+1,IF(AND(AP6<>\"\",MONTH(AP6+1)=MONTH(AP6)),AP6+1,\"\"))),\"\")","v":""},{"$f":"IFERROR(IF(AND(AJ7=\"\",AK3=AK2,ISNUMBER(AQ6)=FALSE,ISNUMBER(AK6)=FALSE,AK6<>\"\"),DATE($BD$8,AK1,1),IF(AND(AJ7<>\"\",MONTH(AJ7+1)=MONTH(AJ7)),AJ7+1,IF(AND(AQ6<>\"\",MONTH(AQ6+1)=MONTH(AQ6)),AQ6+1,\"\"))),\"\")","v":""},{"$f":"IFERROR(IF(AND(AK7=\"\",AL3=AL2,ISNUMBER(AR6)=FALSE,ISNUMBER(AL6)=FALSE,AL6<>\"\"),DATE($BD$8,AL1,1),IF(AND(AK7<>\"\",MONTH(AK7+1)=MONTH(AK7)),AK7+1,IF(AND(AR6<>\"\",MONTH(AR6+1)=MONTH(AR6)),AR6+1,\"\"))),\"\")","v":"2020-03-01"},null,null,null,null,null,null,null,null,{"$f":"IFERROR(IF(AND(AT7=\"\",AU3=AU2,ISNUMBER(BA6)=FALSE,ISNUMBER(AU6)=FALSE,AU6<>\"\"),DATE($BD$8,AU1,1),IF(AND(AT7<>\"\",MONTH(AT7+1)=MONTH(AT7)),AT7+1,IF(AND(BA6<>\"\",MONTH(BA6+1)=MONTH(BA6)),BA6+1,\"\"))),\"\")","v":""},{"$f":"IFERROR(IF(AND(AU7=\"\",AV3=AV2,ISNUMBER(BB6)=FALSE,ISNUMBER(AV6)=FALSE,AV6<>\"\"),DATE($BD$8,AV1,1),IF(AND(AU7<>\"\",MONTH(AU7+1)=MONTH(AU7)),AU7+1,IF(AND(BB6<>\"\",MONTH(BB6+1)=MONTH(BB6)),BB6+1,\"\"))),\"\")","v":""},{"$f":"IFERROR(IF(AND(AV7=\"\",AW3=AW2,ISNUMBER(BC6)=FALSE,ISNUMBER(AW6)=FALSE,AW6<>\"\"),DATE($BD$8,AW1,1),IF(AND(AV7<>\"\",MONTH(AV7+1)=MONTH(AV7)),AV7+1,IF(AND(BC6<>\"\",MONTH(BC6+1)=MONTH(BC6)),BC6+1,\"\"))),\"\")","v":"2020-04-01"},{"$f":"IFERROR(IF(AND(AW7=\"\",AX3=AX2,ISNUMBER(BD6)=FALSE,ISNUMBER(AX6)=FALSE,AX6<>\"\"),DATE($BD$8,AX1,1),IF(AND(AW7<>\"\",MONTH(AW7+1)=MONTH(AW7)),AW7+1,IF(AND(BD6<>\"\",MONTH(BD6+1)=MONTH(BD6)),BD6+1,\"\"))),\"\")","v":"2020-04-02"},{"$f":"IFERROR(IF(AND(AX7=\"\",AY3=AY2,ISNUMBER(BE6)=FALSE,ISNUMBER(AY6)=FALSE,AY6<>\"\"),DATE($BD$8,AY1,1),IF(AND(AX7<>\"\",MONTH(AX7+1)=MONTH(AX7)),AX7+1,IF(AND(BE6<>\"\",MONTH(BE6+1)=MONTH(BE6)),BE6+1,\"\"))),\"\")","v":"2020-04-03"},{"$f":"IFERROR(IF(AND(AY7=\"\",AZ3=AZ2,ISNUMBER(BF6)=FALSE,ISNUMBER(AZ6)=FALSE,AZ6<>\"\"),DATE($BD$8,AZ1,1),IF(AND(AY7<>\"\",MONTH(AY7+1)=MONTH(AY7)),AY7+1,IF(AND(BF6<>\"\",MONTH(BF6+1)=MONTH(BF6)),BF6+1,\"\"))),\"\")","v":"2020-04-04"},{"$f":"IFERROR(IF(AND(AZ7=\"\",BA3=BA2,ISNUMBER(BG6)=FALSE,ISNUMBER(BA6)=FALSE,BA6<>\"\"),DATE($BD$8,BA1,1),IF(AND(AZ7<>\"\",MONTH(AZ7+1)=MONTH(AZ7)),AZ7+1,IF(AND(BG6<>\"\",MONTH(BG6+1)=MONTH(BG6)),BG6+1,\"\"))),\"\")","v":"2020-04-05"},null,null,"Année",null,null,null,null,null,null,null,null,null,null,{"$f":"DATE(AE1,1,1)","v":"1900-01-01"}]
[null,{"$f":"IFERROR(IF(AND(A8=\"\",B4=B3,ISNUMBER(H7)=FALSE,ISNUMBER(B7)=FALSE,B7<>\"\"),DATE($BD$8,B2,1),IF(AND(A8<>\"\",MONTH(A8+1)=MONTH(A8)),A8+1,IF(AND(H7<>\"\",MONTH(H7+1)=MONTH(H7)),H7+1,\"\"))),\"\")","v":"2020-01-06"},{"$f":"IFERROR(IF(AND(B8=\"\",C4=C3,ISNUMBER(I7)=FALSE,ISNUMBER(C7)=FALSE,C7<>\"\"),DATE($BD$8,C2,1),IF(AND(B8<>\"\",MONTH(B8+1)=MONTH(B8)),B8+1,IF(AND(I7<>\"\",MONTH(I7+1)=MONTH(I7)),I7+1,\"\"))),\"\")","v":"2020-01-07"},{"$f":"IFERROR(IF(AND(C8=\"\",D4=D3,ISNUMBER(J7)=FALSE,ISNUMBER(D7)=FALSE,D7<>\"\"),DATE($BD$8,D2,1),IF(AND(C8<>\"\",MONTH(C8+1)=MONTH(C8)),C8+1,IF(AND(J7<>\"\",MONTH(J7+1)=MONTH(J7)),J7+1,\"\"))),\"\")","v":"2020-01-08"},{"$f":"IFERROR(IF(AND(D8=\"\",E4=E3,ISNUMBER(K7)=FALSE,ISNUMBER(E7)=FALSE,E7<>\"\"),DATE($BD$8,E2,1),IF(AND(D8<>\"\",MONTH(D8+1)=MONTH(D8)),D8+1,IF(AND(K7<>\"\",MONTH(K7+1)=MONTH(K7)),K7+1,\"\"))),\"\")","v":"2020-01-09"},{"$f":"IFERROR(IF(AND(E8=\"\",F4=F3,ISNUMBER(L7)=FALSE,ISNUMBER(F7)=FALSE,F7<>\"\"),DATE($BD$8,F2,1),IF(AND(E8<>\"\",MONTH(E8+1)=MONTH(E8)),E8+1,IF(AND(L7<>\"\",MONTH(L7+1)=MONTH(L7)),L7+1,\"\"))),\"\")","v":"2020-01-10"},{"$f":"IFERROR(IF(AND(F8=\"\",G4=G3,ISNUMBER(M7)=FALSE,ISNUMBER(G7)=FALSE,G7<>\"\"),DATE($BD$8,G2,1),IF(AND(F8<>\"\",MONTH(F8+1)=MONTH(F8)),F8+1,IF(AND(M7<>\"\",MONTH(M7+1)=MONTH(M7)),M7+1,\"\"))),\"\")","v":"2020-01-11"},{"$f":"IFERROR(IF(AND(G8=\"\",H4=H3,ISNUMBER(N7)=FALSE,ISNUMBER(H7)=FALSE,H7<>\"\"),DATE($BD$8,H2,1),IF(AND(G8<>\"\",MONTH(G8+1)=MONTH(G8)),G8+1,IF(AND(N7<>\"\",MONTH(N7+1)=MONTH(N7)),N7+1,\"\"))),\"\")","v":"2020-01-12"},null,null,null,null,null,null,null,null,{"$f":"IFERROR(IF(AND(P8=\"\",Q4=Q3,ISNUMBER(W7)=FALSE,ISNUMBER(Q7)=FALSE,Q7<>\"\"),DATE($BD$8,Q2,1),IF(AND(P8<>\"\",MONTH(P8+1)=MONTH(P8)),P8+1,IF(AND(W7<>\"\",MONTH(W7+1)=MONTH(W7)),W7+1,\"\"))),\"\")","v":"2020-02-03"},{"$f":"IFERROR(IF(AND(Q8=\"\",R4=R3,ISNUMBER(X7)=FALSE,ISNUMBER(R7)=FALSE,R7<>\"\"),DATE($BD$8,R2,1),IF(AND(Q8<>\"\",MONTH(Q8+1)=MONTH(Q8)),Q8+1,IF(AND(X7<>\"\",MONTH(X7+1)=MONTH(X7)),X7+1,\"\"))),\"\")","v":"2020-02-04"},{"$f":"IFERROR(IF(AND(R8=\"\",S4=S3,ISNUMBER(Y7)=FALSE,ISNUMBER(S7)=FALSE,S7<>\"\"),DATE($BD$8,S2,1),IF(AND(R8<>\"\",MONTH(R8+1)=MONTH(R8)),R8+1,IF(AND(Y7<>\"\",MONTH(Y7+1)=MONTH(Y7)),Y7+1,\"\"))),\"\")","v":"2020-02-05"},{"$f":"IFERROR(IF(AND(S8=\"\",T4=T3,ISNUMBER(Z7)=FALSE,ISNUMBER(T7)=FALSE,T7<>\"\"),DATE($BD$8,T2,1),IF(AND(S8<>\"\",MONTH(S8+1)=MONTH(S8)),S8+1,IF(AND(Z7<>\"\",MONTH(Z7+1)=MONTH(Z7)),Z7+1,\"\"))),\"\")","v":"2020-02-06"},{"$f":"IFERROR(IF(AND(T8=\"\",U4=U3,ISNUMBER(AA7)=FALSE,ISNUMBER(U7)=FALSE,U7<>\"\"),DATE($BD$8,U2,1),IF(AND(T8<>\"\",MONTH(T8+1)=MONTH(T8)),T8+1,IF(AND(AA7<>\"\",MONTH(AA7+1)=MONTH(AA7)),AA7+1,\"\"))),\"\")","v":"2020-02-07"},{"$f":"IFERROR(IF(AND(U8=\"\",V4=V3,ISNUMBER(AB7)=FALSE,ISNUMBER(V7)=FALSE,V7<>\"\"),DATE($BD$8,V2,1),IF(AND(U8<>\"\",MONTH(U8+1)=MONTH(U8)),U8+1,IF(AND(AB7<>\"\",MONTH(AB7+1)=MONTH(AB7)),AB7+1,\"\"))),\"\")","v":"2020-02-08"},{"$f":"IFERROR(IF(AND(V8=\"\",W4=W3,ISNUMBER(AC7)=FALSE,ISNUMBER(W7)=FALSE,W7<>\"\"),DATE($BD$8,W2,1),IF(AND(V8<>\"\",MONTH(V8+1)=MONTH(V8)),V8+1,IF(AND(AC7<>\"\",MONTH(AC7+1)=MONTH(AC7)),AC7+1,\"\"))),\"\")","v":"2020-02-09"},null,null,null,null,null,null,null,null,{"$f":"IFERROR(IF(AND(AE8=\"\",AF4=AF3,ISNUMBER(AL7)=FALSE,ISNUMBER(AF7)=FALSE,AF7<>\"\"),DATE($BD$8,AF2,1),IF(AND(AE8<>\"\",MONTH(AE8+1)=MONTH(AE8)),AE8+1,IF(AND(AL7<>\"\",MONTH(AL7+1)=MONTH(AL7)),AL7+1,\"\"))),\"\")","v":"2020-03-02"},"2020-03-03","2020-03-04","2020-03-05","2020-03-06","2020-03-07","2020-03-08",null,null,null,null,null,null,null,null,{"$f":"IFERROR(IF(AND(AT8=\"\",AU4=AU3,ISNUMBER(BA7)=FALSE,ISNUMBER(AU7)=FALSE,AU7<>\"\"),DATE($BD$8,AU2,1),IF(AND(AT8<>\"\",MONTH(AT8+1)=MONTH(AT8)),AT8+1,IF(AND(BA7<>\"\",MONTH(BA7+1)=MONTH(BA7)),BA7+1,\"\"))),\"\")","v":"2020-04-06"},"2020-04-07","2020-04-08","2020-04-09","2020-04-10","2020-04-11","2020-04-12",null,null,2020,null,null,null,null,null,null,null,null,null,null,{"$f":"DATE(AE1,5,1)","v":"1900-05-01"}]
[null,"2020-01-13","2020-01-14","2020-01-15","2020-01-16","2020-01-17","2020-01-18","2020-01-19",null,null,null,null,null,null,null,null,"2020-02-10","2020-02-11","2020-02-12","2020-02-13","2020-02-14","2020-02-15","2020-02-16",null,null,null,null,null,null,null,null,"2020-03-09","2020-03-10","2020-03-11","2020-03-12","2020-03-13","2020-03-14","2020-03-15",null,null,null,null,null,null,null,null,"2020-04-13","2020-04-14","2020-04-15","2020-04-16","2020-04-17","2020-04-18","2020-04-19",null,null,null,null,null,null,null,null,null,null,null,null,null,{"$f":"DATE(AE1,5,8)","v":"1900-05-08"}]
[null,"2020-01-20","2020-01-21","2020-01-22","2020-01-23","2020-01-24","2020-01-25","2020-01-26",null,null,null,null,null,null,null,null,"2020-02-17","2020-02-18","2020-02-19","2020-02-20","2020-02-21","2020-02-22","2020-02-23",null,null,null,null,null,null,null,null,"2020-03-16","2020-03-17","2020-03-18","2020-03-19","2020-03-20","2020-03-21","2020-03-22",null,null,null,null,null,null,null,null,"2020-04-20","2020-04-21","2020-04-22","2020-04-23","2020-04-24","2020-04-25","2020-04-26",null,null,"Salarié",null,null,null,null,null,null,null,null,null,null,{"$f":"DATE(AE1,7,14)","v":"1900-07-14"}]
[null,"2020-01-27","2020-01-28","2020-01-29","2020-01-30","2020-01-31","","",null,null,null,null,null,null,null,null,"2020-02-24","2020-02-25","2020-02-26","2020-02-27","2020-02-28","2020-02-29","",null,null,null,null,null,null,null,null,"2020-03-23","2020-03-24","2020-03-25","2020-03-26","2020-03-27","2020-03-28","2020-03-29",null,null,null,null,null,null,null,null,"2020-04-27","2020-04-28","2020-04-29","2020-04-30","","","",null,null,"Fortune Alain",null,null,null,null,null,null,null,null,null,null,{"$f":"DATE(AE1,8,15)","v":"1900-08-15"}]
[null,"","","","","","","",null,null,null,null,null,null,null,null,"","","","","","","",null,null,null,null,null,null,null,null,"2020-03-30","2020-03-31","","","","","",null,null,null,null,null,null,null,null,"","","","","","","",null,null,null,null,null,null,null,null,null,null,null,null,null,{"$f":"DATE(AE1,11,1)","v":"1900-11-01"}]
[null,null,null,null,null,null,null,null,null,null,null,null,null,null,null,null,null,null,null,null,null,null,null,null,null,null,null,null,null,null,null,null,null,null,null,null,null,null,null,null,null,null,null,null,null,null,null,null,null,null,null,null,null,null,null,null,null,null,null,null,null,null,null,null,null,null,{"$f":"DATE(AE1,11,11)","v":"1900-11-11"}]
[null,5,5,5,5,5,5,5,null,null,null,null,null,null,null,null,6,6,6,6,6,6,6,null,null,null,null,null,null,null,null,7,7,7,7,7,7,7,null,null,null,null,null,null,null,null,8,8,8,8,8,8,8]
[null,{"$f":"WEEKDAY(DATE($BD$8,B14,1),2)","v":5},{"$f":"WEEKDAY(DATE($BD$8,C14,1),2)","v":5},{"$f":"WEEKDAY(DATE($BD$8,D14,1),2)","v":5},{"$f":"WEEKDAY(DATE($BD$8,E14,1),2)","v":5},{"$f":"WEEKDAY(DATE($BD$8,F14,1),2)","v":5},{"$f":"WEEKDAY(DATE($BD$8,G14,1),2)","v":5},{"$f":"WEEKDAY(DATE($BD$8,H14,1),2)","v":5},null,null,null,null,null,null,null,null,{"$f":"WEEKDAY(DATE($BD$8,Q14,1),2)","v":1},{"$f":"WEEKDAY(DATE($BD$8,R14,1),2)","v":1},{"$f":"WEEKDAY(DATE($BD$8,S14,1),2)","v":1},{"$f":"WEEKDAY(DATE($BD$8,T14,1),2)","v":1},{"$f":"WEEKDAY(DATE($BD$8,U14,1),2)","v":1},{"$f":"WEEKDAY(DATE($BD$8,V14,1),2)","v":1},{"$f":"WEEKDAY(DATE($BD$8,W14,1),2)","v":1},null,null,null,null,null,null,null,null,{"$f":"WEEKDAY(DATE($BD$8,AF14,1),2)","v":3},{"$f":"WEEKDAY(DATE($BD$8,AG14,1),2)","v":3},{"$f":"WEEKDAY(DATE($BD$8,AH14,1),2)","v":3},{"$f":"WEEKDAY(DATE($BD$8,AI14,1),2)","v":3},{"$f":"WEEKDAY(DATE($BD$8,AJ14,1),2)","v":3},{"$f":"WEEKDAY(DATE($BD$8,AK14,1),2)","v":3},{"$f":"WEEKDAY(DATE($BD$8,AL14,1),2)","v":3},null,null,null,null,null,null,null,null,{"$f":"WEEKDAY(DATE($BD$8,AU14,1),2)","v":6},{"$f":"WEEKDAY(DATE($BD$8,AV14,1),2)","v":6},{"$f":"WEEKDAY(DATE($BD$8,AW14,1),2)","v":6},{"$f":"WEEKDAY(DATE($BD$8,AX14,1),2)","v":6},{"$f":"WEEKDAY(DATE($BD$8,AY14,1),2)","v":6},{"$f":"WEEKDAY(DATE($BD$8,AZ14,1),2)","v":6},{"$f":"WEEKDAY(DATE($BD$8,BA14,1),2)","v":6}]
[null,1,2,3,4,5,6,7,null,null,null,null,null,null,null,null,1,2,3,4,5,6,7,null,null,null,null,null,null,null,null,1,2,3,4,5,6,7,null,null,null,null,null,null,null,null,1,2,3,4,5,6,7]
[]
[null,{"$f":"UPPER(TEXT(DATE($BD$8,B14,1),\"mmmm aaaa\"))","v":"MAI 2020"},null,null,null,null,null,null,null,null,null,null,null,null,null,null,{"$f":"UPPER(TEXT(DATE($BD$8,Q14,1),\"mmmm aaaa\"))","v":"JUIN 2020"},null,null,null,null,null,null,null,null,null,null,null,null,null,null,{"$f":"UPPER(TEXT(DATE($BD$8,AF14,1),\"mmmm aaaa\"))","v":"JUILLET 2020"},null,null,null,null,null,null,null,null,null,null,null,null,null,null,{"$f":"UPPER(TEXT(DATE($BD$8,AU14,1),\"mmmm aaaa\"))","v":"AOÛT 2020"}]
[null,"L","M","M","J","V","S","D",null,null,null,null,null,null,null,null,"L","M","M","J","V","S","D",null,null,null,null,null,null,null,null,"L","M","M","J","V","S","D",null,null,null,null,null,null,null,null,"L","M","M","J","V","S","D"]
[null,{"$f":"IFERROR(IF(AND(A20=\"\",B16=B15,ISNUMBER(H19)=FALSE,ISNUMBER(B19)=FALSE,B19<>\"\"),DATE($BD$8,B14,1),IF(AND(A20<>\"\",MONTH(A20+1)=MONTH(A20)),A20+1,IF(AND(H19<>\"\",MONTH(H19+1)=MONTH(H19)),H19+1,\"\"))),\"\")","v":""},{"$f":"IFERROR(IF(AND(B20=\"\",C16=C15,ISNUMBER(I19)=FALSE,ISNUMBER(C19)=FALSE,C19<>\"\"),DATE($BD$8,C14,1),IF(AND(B20<>\"\",MONTH(B20+1)=MONTH(B20)),B20+1,IF(AND(I19<>\"\",MONTH(I19+1)=MONTH(I19)),I19+1,\"\"))),\"\")","v":""},{"$f":"IFERROR(IF(AND(C20=\"\",D16=D15,ISNUMBER(J19)=FALSE,ISNUMBER(D19)=FALSE,D19<>\"\"),DATE($BD$8,D14,1),IF(AND(C20<>\"\",MONTH(C20+1)=MONTH(C20)),C20+1,IF(AND(J19<>\"\",MONTH(J19+1)=MONTH(J19)),J19+1,\"\"))),\"\")","v":""},{"$f":"IFERROR(IF(AND(D20=\"\",E16=E15,ISNUMBER(K19)=FALSE,ISNUMBER(E19)=FALSE,E19<>\"\"),DATE($BD$8,E14,1),IF(AND(D20<>\"\",MONTH(D20+1)=MONTH(D20)),D20+1,IF(AND(K19<>\"\",MONTH(K19+1)=MONTH(K19)),K19+1,\"\"))),\"\")","v":""},{"$f":"IFERROR(IF(AND(E20=\"\",F16=F15,ISNUMBER(L19)=FALSE,ISNUMBER(F19)=FALSE,F19<>\"\"),DATE($BD$8,F14,1),IF(AND(E20<>\"\",MONTH(E20+1)=MONTH(E20)),E20+1,IF(AND(L19<>\"\",MONTH(L19+1)=MONTH(L19)),L19+1,\"\"))),\"\")","v":"2020-05-01"},{"$f":"IFERROR(IF(AND(F20=\"\",G16=G15,ISNUMBER(M19)=FALSE,ISNUMBER(G19)=FALSE,G19<>\"\"),DATE($BD$8,G14,1),IF(AND(F20<>\"\",MONTH(F20+1)=MONTH(F20)),F20+1,IF(AND(M19<>\"\",MONTH(M19+1)=MONTH(M19)),M19+1,\"\"))),\"\")","v":"2020-05-02"},{"$f":"IFERROR(IF(AND(G20=\"\",H16=H15,ISNUMBER(N19)=FALSE,ISNUMBER(H19)=FALSE,H19<>\"\"),DATE($BD$8,H14,1),IF(AND(G20<>\"\",MONTH(G20+1)=MONTH(G20)),G20+1,IF(AND(N19<>\"\",MONTH(N19+1)=MONTH(N19)),N19+1,\"\"))),\"\")","v":"2020-05-03"},null,null,null,null,null,null,null,null,{"$f":"IFERROR(IF(AND(P20=\"\",Q16=Q15,ISNUMBER(W19)=FALSE,ISNUMBER(Q19)=FALSE,Q19<>\"\"),DATE($BD$8,Q14,1),IF(AND(P20<>\"\",MONTH(P20+1)=MONTH(P20)),P20+1,IF(AND(W19<>\"\",MONTH(W19+1)=MONTH(W19)),W19+1,\"\"))),\"\")","v":"2020-06-01"},{"$f":"IFERROR(IF(AND(Q20=\"\",R16=R15,ISNUMBER(X19)=FALSE,ISNUMBER(R19)=FALSE,R19<>\"\"),DATE($BD$8,R14,1),IF(AND(Q20<>\"\",MONTH(Q20+1)=MONTH(Q20)),Q20+1,IF(AND(X19<>\"\",MONTH(X19+1)=MONTH(X19)),X19+1,\"\"))),\"\")","v":"2020-06-02"},{"$f":"IFERROR(IF(AND(R20=\"\",S16=S15,ISNUMBER(Y19)=FALSE,ISNUMBER(S19)=FALSE,S19<>\"\"),DATE($BD$8,S14,1),IF(AND(R20<>\"\",MONTH(R20+1)=MONTH(R20)),R20+1,IF(AND(Y19<>\"\",MONTH(Y19+1)=MONTH(Y19)),Y19+1,\"\"))),\"\")","v":"2020-06-03"},{"$f":"IFERROR(IF(AND(S20=\"\",T16=T15,ISNUMBER(Z19)=FALSE,ISNUMBER(T19)=FALSE,T19<>\"\"),DATE($BD$8,T14,1),IF(AND(S20<>\"\",MONTH(S20+1)=MONTH(S20)),S20+1,IF(AND(Z19<>\"\",MONTH(Z19+1)=MONTH(Z19)),Z19+1,\"\"))),\"\")","v":"2020-06-04"},{"$f":"IFERROR(IF(AND(T20=\"\",U16=U15,ISNUMBER(AA19)=FALSE,ISNUMBER(U19)=FALSE,U19<>\"\"),DATE($BD$8,U14,1),IF(AND(T20<>\"\",MONTH(T20+1)=MONTH(T20)),T20+1,IF(AND(AA19<>\"\",MONTH(AA19+1)=MONTH(AA19)),AA19+1,\"\"))),\"\")","v":"2020-06-05"},{"$f":"IFERROR(IF(AND(U20=\"\",V16=V15,ISNUMBER(AB19)=FALSE,ISNUMBER(V19)=FALSE,V19<>\"\"),DATE($BD$8,V14,1),IF(AND(U20<>\"\",MONTH(U20+1)=MONTH(U20)),U20+1,IF(AND(AB19<>\"\",MONTH(AB19+1)=MONTH(AB19)),AB19+1,\"\"))),\"\")","v":"2020-06-06"},{"$f":"IFERROR(IF(AND(V20=\"\",W16=W15,ISNUMBER(AC19)=FALSE,ISNUMBER(W19)=FALSE,W19<>\"\"),DATE($BD$8,W14,1),IF(AND(V20<>\"\",MONTH(V20+1)=MONTH(V20)),V20+1,IF(AND(AC19<>\"\",MONTH(AC19+1)=MONTH(AC19)),AC19+1,\"\"))),\"\")","v":"2020-06-07"},null,null,null,null,null,null,null,null,{"$f":"IFERROR(IF(AND(AE20=\"\",AF16=AF15,ISNUMBER(AL19)=FALSE,ISNUMBER(AF19)=FALSE,AF19<>\"\"),DATE($BD$8,AF14,1),IF(AND(AE20<>\"\",MONTH(AE20+1)=MONTH(AE20)),AE20+1,IF(AND(AL19<>\"\",MONTH(AL19+1)=MONTH(AL19)),AL19+1,\"\"))),\"\")","v":""},{"$f":"IFERROR(IF(AND(AF20=\"\",AG16=AG15,ISNUMBER(AM19)=FALSE,ISNUMBER(AG19)=FALSE,AG19<>\"\"),DATE($BD$8,AG14,1),IF(AND(AF20<>\"\",MONTH(AF20+1)=MONTH(AF20)),AF20+1,IF(AND(AM19<>\"\",MONTH(AM19+1)=MONTH(AM19)),AM19+1,\"\"))),\"\")","v":""},{"$f":"IFERROR(IF(AND(AG20=\"\",AH16=AH15,ISNUMBER(AN19)=FALSE,ISNUMBER(AH19)=FALSE,AH19<>\"\"),DATE($BD$8,AH14,1),IF(AND(AG20<>\"\",MONTH(AG20+1)=MONTH(AG20)),AG20+1,IF(AND(AN19<>\"\",MONTH(AN19+1)=MONTH(AN19)),AN19+1,\"\"))),\"\")","v":"2020-07-01"},{"$f":"IFERROR(IF(AND(AH20=\"\",AI16=AI15,ISNUMBER(AO19)=FALSE,ISNUMBER(AI19)=FALSE,AI19<>\"\"),DATE($BD$8,AI14,1),IF(AND(AH20<>\"\",MONTH(AH20+1)=MONTH(AH20)),AH20+1,IF(AND(AO19<>\"\",MONTH(AO19+1)=MONTH(AO19)),AO19+1,\"\"))),\"\")","v":"2020-07-02"},{"$f":"IFERROR(IF(AND(AI20=\"\",AJ16=AJ15,ISNUMBER(AP19)=FALSE,ISNUMBER(AJ19)=FALSE,AJ19<>\"\"),DATE($BD$8,AJ14,1),IF(AND(AI20<>\"\",MONTH(AI20+1)=MONTH(AI20)),AI20+1,IF(AND(AP19<>\"\",MONTH(AP19+1)=MONTH(AP19)),AP19+1,\"\"))),\"\")","v":"2020-07-03"},{"$f":"IFERROR(IF(AND(AJ20=\"\",AK16=AK15,ISNUMBER(AQ19)=FALSE,ISNUMBER(AK19)=FALSE,AK19<>\"\"),DATE($BD$8,AK14,1),IF(AND(AJ20<>\"\",MONTH(AJ20+1)=MONTH(AJ20)),AJ20+1,IF(AND(AQ19<>\"\",MONTH(AQ19+1)=MONTH(AQ19)),AQ19+1,\"\"))),\"\")","v":"2020-07-04"},{"$f":"IFERROR(IF(AND(AK20=\"\",AL16=AL15,ISNUMBER(AR19)=FALSE,ISNUMBER(AL19)=FALSE,AL19<>\"\"),DATE($BD$8,AL14,1),IF(AND(AK20<>\"\",MONTH(AK20+1)=MONTH(AK20)),AK20+1,IF(AND(AR19<>\"\",MONTH(AR19+1)=MONTH(AR19)),AR19+1,\"\"))),\"\")","v":"2020-07-05"},null,null,null,null,null,null,null,null,{"$f":"IFERROR(IF(AND(AT20=\"\",AU16=AU15,ISNUMBER(BA19)=FALSE,ISNUMBER(AU19)=FALSE,AU19<>\"\"),DATE($BD$8,AU14,1),IF(AND(AT20<>\"\",MONTH(AT20+1)=MONTH(AT20)),AT20+1,IF(AND(BA19<>\"\",MONTH(BA19+1)=MONTH(BA19)),BA19+1,\"\"))),\"\")","v":""},{"$f":"IFERROR(IF(AND(AU20=\"\",AV16=AV15,ISNUMBER(BB19)=FALSE,ISNUMBER(AV19)=FALSE,AV19<>\"\"),DATE($BD$8,AV14,1),IF(AND(AU20<>\"\",MONTH(AU20+1)=MONTH(AU20)),AU20+1,IF(AND(BB19<>\"\",MONTH(BB19+1)=MONTH(BB19)),BB19+1,\"\"))),\"\")","v":""},{"$f":"IFERROR(IF(AND(AV20=\"\",AW16=AW15,ISNUMBER(BC19)=FALSE,ISNUMBER(AW19)=FALSE,AW19<>\"\"),DATE($BD$8,AW14,1),IF(AND(AV20<>\"\",MONTH(AV20+1)=MONTH(AV20)),AV20+1,IF(AND(BC19<>\"\",MONTH(BC19+1)=MONTH(BC19)),BC19+1,\"\"))),\"\")","v":""},{"$f":"IFERROR(IF(AND(AW20=\"\",AX16=AX15,ISNUMBER(BD19)=FALSE,ISNUMBER(AX19)=FALSE,AX19<>\"\"),DATE($BD$8,AX14,1),IF(AND(AW20<>\"\",MONTH(AW20+1)=MONTH(AW20)),AW20+1,IF(AND(BD19<>\"\",MONTH(BD19+1)=MONTH(BD19)),BD19+1,\"\"))),\"\")","v":""},{"$f":"IFERROR(IF(AND(AX20=\"\",AY16=AY15,ISNUMBER(BE19)=FALSE,ISNUMBER(AY19)=FALSE,AY19<>\"\"),DATE($BD$8,AY14,1),IF(AND(AX20<>\"\",MONTH(AX20+1)=MONTH(AX20)),AX20+1,IF(AND(BE19<>\"\",MONTH(BE19+1)=MONTH(BE19)),BE19+1,\"\"))),\"\")","v":""},{"$f":"IFERROR(IF(AND(AY20=\"\",AZ16=AZ15,ISNUMBER(BF19)=FALSE,ISNUMBER(AZ19)=FALSE,AZ19<>\"\"),DATE($BD$8,AZ14,1),IF(AND(AY20<>\"\",MONTH(AY20+1)=MONTH(AY20)),AY20+1,IF(AND(BF19<>\"\",MONTH(BF19+1)=MONTH(BF19)),BF19+1,\"\"))),\"\")","v":"2020-08-01"},{"$f":"IFERROR(IF(AND(AZ20=\"\",BA16=BA15,ISNUMBER(BG19)=FALSE,ISNUMBER(BA19)=FALSE,BA19<>\"\"),DATE($BD$8,BA14,1),IF(AND(AZ20<>\"\",MONTH(AZ20+1)=MONTH(AZ20)),AZ20+1,IF(AND(BG19<>\"\",MONTH(BG19+1)=MONTH(BG19)),BG19+1,\"\"))),\"\")","v":"2020-08-02"},null,null,"Légende"]
[null,{"$f":"IFERROR(IF(AND(A21=\"\",B17=B16,ISNUMBER(H20)=FALSE,ISNUMBER(B20)=FALSE,B20<>\"\"),DATE($BD$8,B15,1),IF(AND(A21<>\"\",MONTH(A21+1)=MONTH(A21)),A21+1,IF(AND(H20<>\"\",MONTH(H20+1)=MONTH(H20)),H20+1,\"\"))),\"\")","v":"2020-05-04"},"2020-05-05","2020-05-06","2020-05-07","2020-05-08","2020-05-09","2020-05-10",null,null,null,null,null,null,null,null,{"$f":"IFERROR(IF(AND(P21=\"\",Q17=Q16,ISNUMBER(W20)=FALSE,ISNUMBER(Q20)=FALSE,Q20<>\"\"),DATE($BD$8,Q15,1),IF(AND(P21<>\"\",MONTH(P21+1)=MONTH(P21)),P21+1,IF(AND(W20<>\"\",MONTH(W20+1)=MONTH(W20)),W20+1,\"\"))),\"\")","v":"2020-06-08"},"2020-06-09","2020-06-10","2020-06-11","2020-06-12","2020-06-13","2020-06-14",null,null,null,null,null,null,null,null,{"$f":"IFERROR(IF(AND(AE21=\"\",AF17=AF16,ISNUMBER(AL20)=FALSE,ISNUMBER(AF20)=FALSE,AF20<>\"\"),DATE($BD$8,AF15,1),IF(AND(AE21<>\"\",MONTH(AE21+1)=MONTH(AE21)),AE21+1,IF(AND(AL20<>\"\",MONTH(AL20+1)=MONTH(AL20)),AL20+1,\"\"))),\"\")","v":"2020-07-06"},"2020-07-07","2020-07-08","2020-07-09","2020-07-10","2020-07-11","2020-07-12",null,null,null,null,null,null,null,null,{"$f":"IFERROR(IF(AND(AT21=\"\",AU17=AU16,ISNUMBER(BA20)=FALSE,ISNUMBER(AU20)=FALSE,AU20<>\"\"),DATE($BD$8,AU15,1),IF(AND(AT21<>\"\",MONTH(AT21+1)=MONTH(AT21)),AT21+1,IF(AND(BA20<>\"\",MONTH(BA20+1)=MONTH(BA20)),BA20+1,\"\"))),\"\")","v":"2020-08-03"},"2020-08-04","2020-08-05","2020-08-06","2020-08-07","2020-08-08","2020-08-09"]
[null,"2020-05-11","2020-05-12","2020-05-13","2020-05-14","2020-05-15","2020-05-16","2020-05-17",null,null,null,null,null,null,null,null,"2020-06-15","2020-06-16","2020-06-17","2020-06-18","2020-06-19","2020-06-20","2020-06-21",null,null,null,null,null,null,null,null,"2020-07-13","2020-07-14","2020-07-15","2020-07-16","2020-07-17","2020-07-18","2020-07-19",null,null,null,null,null,null,null,null,"2020-08-10","2020-08-11","2020-08-12","2020-08-13","2020-08-14","2020-08-15","2020-08-16",null,null,"CP"]
[null,"2020-05-18","2020-05-19","2020-05-20","2020-05-21","2020-05-22","2020-05-23","2020-05-24",null,null,null,null,null,null,null,null,"2020-06-22","2020-06-23","2020-06-24","2020-06-25","2020-06-26","2020-06-27","2020-06-28",null,null,null,null,null,null,null,null,"2020-07-20","2020-07-21","2020-07-22","2020-07-23","2020-07-24","2020-07-25","2020-07-26",null,null,null,null,null,null,null,null,"2020-08-17","2020-08-18","2020-08-19","2020-08-20","2020-08-21","2020-08-22","2020-08-23",null,null,"RTT"]
[null,"2020-05-25","2020-05-26","2020-05-27","2020-05-28","2020-05-29","2020-05-30","2020-05-31",null,null,null,null,null,null,null,null,"2020-06-29","2020-06-30","","","","","",null,null,null,null,null,null,null,null,"2020-07-27","2020-07-28","2020-07-29","2020-07-30","2020-07-31","","",null,null,null,null,null,null,null,null,"2020-08-24","2020-08-25","2020-08-26","2020-08-27","2020-08-28","2020-08-29","2020-08-30",null,null,"ABS"]
[null,"","","","","","","",null,null,null,null,null,null,null,null,"","","","","","","",null,null,null,null,null,null,null,null,"","","","","","","",null,null,null,null,null,null,null,null,"2020-08-31","","","","","","",null,null,"Fériés"]
[]
[null,9,9,9,9,9,9,9,null,null,null,null,null,null,null,null,10,10,10,10,10,10,10,null,null,null,null,null,null,null,null,11,11,11,11,11,11,11,null,null,null,null,null,null,null,null,12,12,12,12,12,12,12]
[null,{"$f":"WEEKDAY(DATE($BD$8,B27,1),2)","v":2},{"$f":"WEEKDAY(DATE($BD$8,C27,1),2)","v":2},{"$f":"WEEKDAY(DATE($BD$8,D27,1),2)","v":2},{"$f":"WEEKDAY(DATE($BD$8,E27,1),2)","v":2},{"$f":"WEEKDAY(DATE($BD$8,F27,1),2)","v":2},{"$f":"WEEKDAY(DATE($BD$8,G27,1),2)","v":2},{"$f":"WEEKDAY(DATE($BD$8,H27,1),2)","v":2},null,null,null,null,null,null,null,null,{"$f":"WEEKDAY(DATE($BD$8,Q27,1),2)","v":4},{"$f":"WEEKDAY(DATE($BD$8,R27,1),2)","v":4},{"$f":"WEEKDAY(DATE($BD$8,S27,1),2)","v":4},{"$f":"WEEKDAY(DATE($BD$8,T27,1),2)","v":4},{"$f":"WEEKDAY(DATE($BD$8,U27,1),2)","v":4},{"$f":"WEEKDAY(DATE($BD$8,V27,1),2)","v":4},{"$f":"WEEKDAY(DATE($BD$8,W27,1),2)","v":4},null,null,null,null,null,null,null,null,{"$f":"WEEKDAY(DATE($BD$8,AF27,1),2)","v":7},{"$f":"WEEKDAY(DATE($BD$8,AG27,1),2)","v":7},{"$f":"WEEKDAY(DATE($BD$8,AH27,1),2)","v":7},{"$f":"WEEKDAY(DATE($BD$8,AI27,1),2)","v":7},{"$f":"WEEKDAY(DATE($BD$8,AJ27,1),2)","v":7},{"$f":"WEEKDAY(DATE($BD$8,AK27,1),2)","v":7},{"$f":"WEEKDAY(DATE($BD$8,AL27,1),2)","v":7},null,null,null,null,null,null,null,null,{"$f":"WEEKDAY(DATE($BD$8,AU27,1),2)","v":2},{"$f":"WEEKDAY(DATE($BD$8,AV27,1),2)","v":2},{"$f":"WEEKDAY(DATE($BD$8,AW27,1),2)","v":2},{"$f":"WEEKDAY(DATE($BD$8,AX27,1),2)","v":2},{"$f":"WEEKDAY(DATE($BD$8,AY27,1),2)","v":2},{"$f":"WEEKDAY(DATE($BD$8,AZ27,1),2)","v":2},{"$f":"WEEKDAY(DATE($BD$8,BA27,1),2)","v":2}]
[null,1,2,3,4,5,6,7,null,null,null,null,null,null,null,null,1,2,3,4,5,6,7,null,null,null,null,null,null,null,null,1,2,3,4,5,6,7,null,null,null,null,null,null,null,null,1,2,3,4,5,6,7]
[]
[null,{"$f":"UPPER(TEXT(DATE($BD$8,B27,1),\"mmmm aaaa\"))","v":"SEPTEMBRE 2020"},null,null,null,null,null,null,null,null,null,null,null,null,null,null,{"$f":"UPPER(TEXT(DATE($BD$8,Q27,1),\"mmmm aaaa\"))","v":"OCTOBRE 2020"},null,null,null,null,null,null,null,null,null,null,null,null,null,null,{"$f":"UPPER(TEXT(DATE($BD$8,AF27,1),\"mmmm aaaa\"))","v":"NOVEMBRE 2020"},null,null,null,null,null,null,null,null,null,null,null,null,null,null,{"$f":"UPPER(TEXT(DATE($BD$8,AU27,1),\"mmmm aaaa\"))","v":"DÉCEMBRE 2020"}]
[null,"L","M","M","J","V","S","D",null,null,null,null,null,null,null,null,"L","M","M","J","V","S","D",null,null,null,null,null,null,null,null,"L","M","M","J","V","S","D",null,null,null,null,null,null,null,null,"L","M","M","J","V","S","D"]
[null,{"$f":"IFERROR(IF(AND(A33=\"\",B29=B28,ISNUMBER(H32)=FALSE,ISNUMBER(B32)=FALSE,B32<>\"\"),DATE($BD$8,B27,1),IF(AND(A33<>\"\",MONTH(A33+1)=MONTH(A33)),A33+1,IF(AND(H32<>\"\",MONTH(H32+1)=MONTH(H32)),H32+1,\"\"))),\"\")","v":""},{"$f":"IFERROR(IF(AND(B33=\"\",C29=C28,ISNUMBER(I32)=FALSE,ISNUMBER(C32)=FALSE,C32<>\"\"),DATE($BD$8,C27,1),IF(AND(B33<>\"\",MONTH(B33+1)=MONTH(B33)),B33+1,IF(AND(I32<>\"\",MONTH(I32+1)=MONTH(I32)),I32+1,\"\"))),\"\")","v":"2020-09-01"},{"$f":"IFERROR(IF(AND(C33=\"\",D29=D28,ISNUMBER(J32)=FALSE,ISNUMBER(D32)=FALSE,D32<>\"\"),DATE($BD$8,D27,1),IF(AND(C33<>\"\",MONTH(C33+1)=MONTH(C33)),C33+1,IF(AND(J32<>\"\",MONTH(J32+1)=MONTH(J32)),J32+1,\"\"))),\"\")","v":"2020-09-02"},{"$f":"IFERROR(IF(AND(D33=\"\",E29=E28,ISNUMBER(K32)=FALSE,ISNUMBER(E32)=FALSE,E32<>\"\"),DATE($BD$8,E27,1),IF(AND(D33<>\"\",MONTH(D33+1)=MONTH(D33)),D33+1,IF(AND(K32<>\"\",MONTH(K32+1)=MONTH(K32)),K32+1,\"\"))),\"\")","v":"2020-09-03"},{"$f":"IFERROR(IF(AND(E33=\"\",F29=F28,ISNUMBER(L32)=FALSE,ISNUMBER(F32)=FALSE,F32<>\"\"),DATE($BD$8,F27,1),IF(AND(E33<>\"\",MONTH(E33+1)=MONTH(E33)),E33+1,IF(AND(L32<>\"\",MONTH(L32+1)=MONTH(L32)),L32+1,\"\"))),\"\")","v":"2020-09-04"},{"$f":"IFERROR(IF(AND(F33=\"\",G29=G28,ISNUMBER(M32)=FALSE,ISNUMBER(G32)=FALSE,G32<>\"\"),DATE($BD$8,G27,1),IF(AND(F33<>\"\",MONTH(F33+1)=MONTH(F33)),F33+1,IF(AND(M32<>\"\",MONTH(M32+1)=MONTH(M32)),M32+1,\"\"))),\"\")","v":"2020-09-05"},{"$f":"IFERROR(IF(AND(G33=\"\",H29=H28,ISNUMBER(N32)=FALSE,ISNUMBER(H32)=FALSE,H32<>\"\"),DATE($BD$8,H27,1),IF(AND(G33<>\"\",MONTH(G33+1)=MONTH(G33)),G33+1,IF(AND(N32<>\"\",MONTH(N32+1)=MONTH(N32)),N32+1,\"\"))),\"\")","v":"2020-09-06"},null,null,null,null,null,null,null,null,{"$f":"IFERROR(IF(AND(P33=\"\",Q29=Q28,ISNUMBER(W32)=FALSE,ISNUMBER(Q32)=FALSE,Q32<>\"\"),DATE($BD$8,Q27,1),IF(AND(P33<>\"\",MONTH(P33+1)=MONTH(P33)),P33+1,IF(AND(W32<>\"\",MONTH(W32+1)=MONTH(W32)),W32+1,\"\"))),\"\")","v":""},{"$f":"IFERROR(IF(AND(Q33=\"\",R29=R28,ISNUMBER(X32)=FALSE,ISNUMBER(R32)=FALSE,R32<>\"\"),DATE($BD$8,R27,1),IF(AND(Q33<>\"\",MONTH(Q33+1)=MONTH(Q33)),Q33+1,IF(AND(X32<>\"\",MONTH(X32+1)=MONTH(X32)),X32+1,\"\"))),\"\")","v":""},{"$f":"IFERROR(IF(AND(R33=\"\",S29=S28,ISNUMBER(Y32)=FALSE,ISNUMBER(S32)=FALSE,S32<>\"\"),DATE($BD$8,S27,1),IF(AND(R33<>\"\",MONTH(R33+1)=MONTH(R33)),R33+1,IF(AND(Y32<>\"\",MONTH(Y32+1)=MONTH(Y32)),Y32+1,\"\"))),\"\")","v":""},{"$f":"IFERROR(IF(AND(S33=\"\",T29=T28,ISNUMBER(Z32)=FALSE,ISNUMBER(T32)=FALSE,T32<>\"\"),DATE($BD$8,T27,1),IF(AND(S33<>\"\",MONTH(S33+1)=MONTH(S33)),S33+1,IF(AND(Z32<>\"\",MONTH(Z32+1)=MONTH(Z32)),Z32+1,\"\"))),\"\")","v":"2020-10-01"},{"$f":"IFERROR(IF(AND(T33=\"\",U29=U28,ISNUMBER(AA32)=FALSE,ISNUMBER(U32)=FALSE,U32<>\"\"),DATE($BD$8,U27,1),IF(AND(T33<>\"\",MONTH(T33+1)=MONTH(T33)),T33+1,IF(AND(AA32<>\"\",MONTH(AA32+1)=MONTH(AA32)),AA32+1,\"\"))),\"\")","v":"2020-10-02"},{"$f":"IFERROR(IF(AND(U33=\"\",V29=V28,ISNUMBER(AB32)=FALSE,ISNUMBER(V32)=FALSE,V32<>\"\"),DATE($BD$8,V27,1),IF(AND(U33<>\"\",MONTH(U33+1)=MONTH(U33)),U33+1,IF(AND(AB32<>\"\",MONTH(AB32+1)=MONTH(AB32)),AB32+1,\"\"))),\"\")","v":"2020-10-03"},{"$f":"IFERROR(IF(AND(V33=\"\",W29=W28,ISNUMBER(AC32)=FALSE,ISNUMBER(W32)=FALSE,W32<>\"\"),DATE($BD$8,W27,1),IF(AND(V33<>\"\",MONTH(V33+1)=MONTH(V33)),V33+1,IF(AND(AC32<>\"\",MONTH(AC32+1)=MONTH(AC32)),AC32+1,\"\"))),\"\")","v":"2020-10-04"},null,null,null,null,null,null,null,null,{"$f":"IFERROR(IF(AND(AE33=\"\",AF29=AF28,ISNUMBER(AL32)=FALSE,ISNUMBER(AF32)=FALSE,AF32<>\"\"),DATE($BD$8,AF27,1),IF(AND(AE33<>\"\",MONTH(AE33+1)=MONTH(AE33)),AE33+1,IF(AND(AL32<>\"\",MONTH(AL32+1)=MONTH(AL32)),AL32+1,\"\"))),\"\")","v":""},{"$f":"IFERROR(IF(AND(AF33=\"\",AG29=AG28,ISNUMBER(AM32)=FALSE,ISNUMBER(AG32)=FALSE,AG32<>\"\"),DATE($BD$8,AG27,1),IF(AND(AF33<>\"\",MONTH(AF33+1)=MONTH(AF33)),AF33+1,IF(AND(AM32<>\"\",MONTH(AM32+1)=MONTH(AM32)),AM32+1,\"\"))),\"\")","v":""},{"$f":"IFERROR(IF(AND(AG33=\"\",AH29=AH28,ISNUMBER(AN32)=FALSE,ISNUMBER(AH32)=FALSE,AH32<>\"\"),DATE($BD$8,AH27,1),IF(AND(AG33<>\"\",MONTH(AG33+1)=MONTH(AG33)),AG33+1,IF(AND(AN32<>\"\",MONTH(AN32+1)=MONTH(AN32)),AN32+1,\"\"))),\"\")","v":""},{"$f":"IFERROR(IF(AND(AH33=\"\",AI29=AI28,ISNUMBER(AO32)=FALSE,ISNUMBER(AI32)=FALSE,AI32<>\"\"),DATE($BD$8,AI27,1),IF(AND(AH33<>\"\",MONTH(AH33+1)=MONTH(AH33)),AH33+1,IF(AND(AO32<>\"\",MONTH(AO32+1)=MONTH(AO32)),AO32+1,\"\"))),\"\")","v":""},{"$f":"IFERROR(IF(AND(AI33=\"\",AJ29=AJ28,ISNUMBER(AP32)=FALSE,ISNUMBER(AJ32)=FALSE,AJ32<>\"\"),DATE($BD$8,AJ27,1),IF(AND(AI33<>\"\",MONTH(AI33+1)=MONTH(AI33)),AI33+1,IF(AND(AP32<>\"\",MONTH(AP32+1)=MONTH(AP32)),AP32+1,\"\"))),\"\")","v":""},{"$f":"IFERROR(IF(AND(AJ33=\"\",AK29=AK28,ISNUMBER(AQ32)=FALSE,ISNUMBER(AK32)=FALSE,AK32<>\"\"),DATE($BD$8,AK27,1),IF(AND(AJ33<>\"\",MONTH(AJ33+1)=MONTH(AJ33)),AJ33+1,IF(AND(AQ32<>\"\",MONTH(AQ32+1)=MONTH(AQ32)),AQ32+1,\"\"))),\"\")","v":""},{"$f":"IFERROR(IF(AND(AK33=\"\",AL29=AL28,ISNUMBER(AR32)=FALSE,ISNUMBER(AL32)=FALSE,AL32<>\"\"),DATE($BD$8,AL27,1),IF(AND(AK33<>\"\",MONTH(AK33+1)=MONTH(AK33)),AK33+1,IF(AND(AR32<>\"\",MONTH(AR32+1)=MONTH(AR32)),AR32+1,\"\"))),\"\")","v":"2020-11-01"},null,null,null,null,null,null,null,null,{"$f":"IFERROR(IF(AND(AT33=\"\",AU29=AU28,ISNUMBER(BA32)=FALSE,ISNUMBER(AU32)=FALSE,AU32<>\"\"),DATE($BD$8,AU27,1),IF(AND(AT33<>\"\",MONTH(AT33+1)=MONTH(AT33)),AT33+1,IF(AND(BA32<>\"\",MONTH(BA32+1)=MONTH(BA32)),BA32+1,\"\"))),\"\")","v":""},{"$f":"IFERROR(IF(AND(AU33=\"\",AV29=AV28,ISNUMBER(BB32)=FALSE,ISNUMBER(AV32)=FALSE,AV32<>\"\"),DATE($BD$8,AV27,1),IF(AND(AU33<>\"\",MONTH(AU33+1)=MONTH(AU33)),AU33+1,IF(AND(BB32<>\"\",MONTH(BB32+1)=MONTH(BB32)),BB32+1,\"\"))),\"\")","v":"2020-12-01"},{"$f":"IFERROR(IF(AND(AV33=\"\",AW29=AW28,ISNUMBER(BC32)=FALSE,ISNUMBER(AW32)=FALSE,AW32<>\"\"),DATE($BD$8,AW27,1),IF(AND(AV33<>\"\",MONTH(AV33+1)=MONTH(AV33)),AV33+1,IF(AND(BC32<>\"\",MONTH(BC32+1)=MONTH(BC32)),BC32+1,\"\"))),\"\")","v":"2020-12-02"},{"$f":"IFERROR(IF(AND(AW33=\"\",AX29=AX28,ISNUMBER(BD32)=FALSE,ISNUMBER(AX32)=FALSE,AX32<>\"\"),DATE($BD$8,AX27,1),IF(AND(AW33<>\"\",MONTH(AW33+1)=MONTH(AW33)),AW33+1,IF(AND(BD32<>\"\",MONTH(BD32+1)=MONTH(BD32)),BD32+1,\"\"))),\"\")","v":"2020-12-03"},{"$f":"IFERROR(IF(AND(AX33=\"\",AY29=AY28,ISNUMBER(BE32)=FALSE,ISNUMBER(AY32)=FALSE,AY32<>\"\"),DATE($BD$8,AY27,1),IF(AND(AX33<>\"\",MONTH(AX33+1)=MONTH(AX33)),AX33+1,IF(AND(BE32<>\"\",MONTH(BE32+1)=MONTH(BE32)),BE32+1,\"\"))),\"\")","v":"2020-12-04"},{"$f":"IFERROR(IF(AND(AY33=\"\",AZ29=AZ28,ISNUMBER(BF32)=FALSE,ISNUMBER(AZ32)=FALSE,AZ32<>\"\"),DATE($BD$8,AZ27,1),IF(AND(AY33<>\"\",MONTH(AY33+1)=MONTH(AY33)),AY33+1,IF(AND(BF32<>\"\",MONTH(BF32+1)=MONTH(BF32)),BF32+1,\"\"))),\"\")","v":"2020-12-05"},{"$f":"IFERROR(IF(AND(AZ33=\"\",BA29=BA28,ISNUMBER(BG32)=FALSE,ISNUMBER(BA32)=FALSE,BA32<>\"\"),DATE($BD$8,BA27,1),IF(AND(AZ33<>\"\",MONTH(AZ33+1)=MONTH(AZ33)),AZ33+1,IF(AND(BG32<>\"\",MONTH(BG32+1)=MONTH(BG32)),BG32+1,\"\"))),\"\")","v":"2020-12-06"}]
[null,{"$f":"IFERROR(IF(AND(A34=\"\",B30=B29,ISNUMBER(H33)=FALSE,ISNUMBER(B33)=FALSE,B33<>\"\"),DATE($BD$8,B28,1),IF(AND(A34<>\"\",MONTH(A34+1)=MONTH(A34)),A34+1,IF(AND(H33<>\"\",MONTH(H33+1)=MONTH(H33)),H33+1,\"\"))),\"\")","v":"2020-09-07"},"2020-09-08","2020-09-09","2020-09-10","2020-09-11","2020-09-12","2020-09-13",null,null,null,null,null,null,null,null,{"$f":"IFERROR(IF(AND(P34=\"\",Q30=Q29,ISNUMBER(W33)=FALSE,ISNUMBER(Q33)=FALSE,Q33<>\"\"),DATE($BD$8,Q28,1),IF(AND(P34<>\"\",MONTH(P34+1)=MONTH(P34)),P34+1,IF(AND(W33<>\"\",MONTH(W33+1)=MONTH(W33)),W33+1,\"\"))),\"\")","v":"2020-10-05"},"2020-10-06","2020-10-07","2020-10-08","2020-10-09","2020-10-10","2020-10-11",null,null,null,null,null,null,null,null,{"$f":"IFERROR(IF(AND(AE34=\"\",AF30=AF29,ISNUMBER(AL33)=FALSE,ISNUMBER(AF33)=FALSE,AF33<>\"\"),DATE($BD$8,AF28,1),IF(AND(AE34<>\"\",MONTH(AE34+1)=MONTH(AE34)),AE34+1,IF(AND(AL33<>\"\",MONTH(AL33+1)=MONTH(AL33)),AL33+1,\"\"))),\"\")","v":"2020-11-02"},"2020-11-03","2020-11-04","2020-11-05","2020-11-06","2020-11-07","2020-11-08",null,null,null,null,null,null,null,null,{"$f":"IFERROR(IF(AND(AT34=\"\",AU30=AU29,ISNUMBER(BA33)=FALSE,ISNUMBER(AU33)=FALSE,AU33<>\"\"),DATE($BD$8,AU28,1),IF(AND(AT34<>\"\",MONTH(AT34+1)=MONTH(AT34)),AT34+1,IF(AND(BA33<>\"\",MONTH(BA33+1)=MONTH(BA33)),BA33+1,\"\"))),\"\")","v":"2020-12-07"},"2020-12-08","2020-12-09","2020-12-10","2020-12-11","2020-12-12","2020-12-13"]
[null,"2020-09-14","2020-09-15","2020-09-16","2020-09-17","2020-09-18","2020-09-19","2020-09-20",null,null,null,null,null,null,null,null,"2020-10-12","2020-10-13","2020-10-14","2020-10-15","2020-10-16","2020-10-17","2020-10-18",null,null,null,null,null,null,null,null,"2020-11-09","2020-11-10","2020-11-11","2020-11-12","2020-11-13","2020-11-14","2020-11-15",null,null,null,null,null,null,null,null,"2020-12-14","2020-12-15","2020-12-16","2020-12-17","2020-12-18","2020-12-19","2020-12-20"]
[null,"2020-09-21","2020-09-22","2020-09-23","2020-09-24","2020-09-25","2020-09-26","2020-09-27",null,null,null,null,null,null,null,null,"2020-10-19","2020-10-20","2020-10-21","2020-10-22","2020-10-23","2020-10-24","2020-10-25",null,null,null,null,null,null,null,null,"2020-11-16","2020-11-17","2020-11-18","2020-11-19","2020-11-20","2020-11-21","2020-11-22",null,null,null,null,null,null,null,null,"2020-12-21","2020-12-22","2020-12-23","2020-12-24","2020-12-25","2020-12-26","2020-12-27"]
[null,"2020-09-28","2020-09-29","2020-09-30","","","","",null,null,null,null,null,null,null,null,"2020-10-26","2020-10-27","2020-10-28","2020-10-29","2020-10-30","2020-10-31","",null,null,null,null,null,null,null,null,"2020-11-23","2020-11-24","2020-11-25","2020-11-26","2020-11-27","2020-11-28","2020-11-29",null,null,null,null,null,null,null,null,"2020-12-28","2020-12-29","2020-12-30","2020-12-31","","",""]
[null,"","","","","","","",null,null,null,null,null,null,null,null,"","","","","","","",null,null,null,null,null,null,null,null,"2020-11-30","","","","","","",null,null,null,null,null,null,null,null,"","","","","","",""]

{"sheet":"Conges","index":1,"n_rows":1489,"n_cols":18,"rows_kept":1489,"cut":false,"hidden":false,"merged":[]}
[]
[null,"Nom","Date","Cause"]
[null,"Hamalibou Arlette","2020-02-10","CP",{"$f":"IF(AND(YEAR(C3)=Calendrier!$BD$8,B3=Calendrier!$BD$11),MAX($E$2:E2)+1,\"\")","v":""},null,null,null,null,null,null,null,null,null,null,null,null,"Braltar"]
[null,"Hamalibou Arlette","2020-02-11","CP",{"$f":"IF(AND(YEAR(C4)=Calendrier!$BD$8,B4=Calendrier!$BD$11),MAX($E$2:E3)+1,\"\")","v":""},null,null,null,null,null,null,null,null,null,null,null,null,"Céhef"]
[null,"Hamalibou Arlette","2020-02-12","CP",{"$f":"IF(AND(YEAR(C5)=Calendrier!$BD$8,B5=Calendrier!$BD$11),MAX($E$2:E4)+1,\"\")","v":""},null,null,null,null,null,null,null,null,null,null,null,null,"Galls"]
[null,"Hamalibou Arlette","2020-02-13","CP",{"$f":"IF(AND(YEAR(C6)=Calendrier!$BD$8,B6=Calendrier!$BD$11),MAX($E$2:E5)+1,\"\")","v":""},null,null,null,null,null,null,null,null,null,null,null,null,"Hamalibou"]
[null,"Hamalibou Arlette","2020-02-14","CP",{"$f":"IF(AND(YEAR(C7)=Calendrier!$BD$8,B7=Calendrier!$BD$11),MAX($E$2:E6)+1,\"\")","v":""},null,null,null,null,null,null,null,null,null,null,null,null,"Héresse"]
[null,"Hamalibou Arlette","2020-05-04","RTT",{"$f":"IF(AND(YEAR(C8)=Calendrier!$BD$8,B8=Calendrier!$BD$11),MAX($E$2:E7)+1,\"\")","v":""},null,null,null,null,null,null,null,null,null,null,null,null,"Niomme"]
[null,"Hamalibou Arlette","2020-05-05","RTT",{"$f":"IF(AND(YEAR(C9)=Calendrier!$BD$8,B9=Calendrier!$BD$11),MAX($E$2:E8)+1,\"\")","v":""}]
[null,"Hamalibou Arlette","2020-05-06","RTT",{"$f":"IF(AND(YEAR(C10)=Calendrier!$BD$8,B10=Calendrier!$BD$11),MAX($E$2:E9)+1,\"\")","v":""}]
[null,"Hamalibou Arlette","2020-05-07","RTT",{"$f":"IF(AND(YEAR(C11)=Calendrier!$BD$8,B11=Calendrier!$BD$11),MAX($E$2:E10)+1,\"\")","v":""}]
[null,"Hamalibou Arlette","2020-07-06","CP",{"$f":"IF(AND(YEAR(C12)=Calendrier!$BD$8,B12=Calendrier!$BD$11),MAX($E$2:E11)+1,\"\")","v":""}]
[null,"Hamalibou Arlette","2020-07-07","CP",{"$f":"IF(AND(YEAR(C13)=Calendrier!$BD$8,B13=Calendrier!$BD$11),MAX($E$2:E12)+1,\"\")","v":""}]
[null,"Hamalibou Arlette","2020-07-08","CP",{"$f":"IF(AND(YEAR(C14)=Calendrier!$BD$8,B14=Calendrier!$BD$11),MAX($E$2:E13)+1,\"\")","v":""}]
[null,"Hamalibou Arlette","2020-07-09","CP",{"$f":"IF(AND(YEAR(C15)=Calendrier!$BD$8,B15=Calendrier!$BD$11),MAX($E$2:E14)+1,\"\")","v":""}]
[null,"Hamalibou Arlette","2020-07-10","CP",{"$f":"IF(AND(YEAR(C16)=Calendrier!$BD$8,B16=Calendrier!$BD$11),MAX($E$2:E15)+1,\"\")","v":""}]
[null,"Hamalibou Arlette","2020-07-13","CP",{"$f":"IF(AND(YEAR(C17)=Calendrier!$BD$8,B17=Calendrier!$BD$11),MAX($E$2:E16)+1,\"\")","v":""}]
[null,"Hamalibou Arlette","2020-07-15","CP",{"$f":"IF(AND(YEAR(C18)=Calendrier!$BD$8,B18=Calendrier!$BD$11),MAX($E$2:E17)+1,\"\")","v":""}]
[null,"Hamalibou Arlette","2020-07-16","CP",{"$f":"IF(AND(YEAR(C19)=Calendrier!$BD$8,B19=Calendrier!$BD$11),MAX($E$2:E18)+1,\"\")","v":""}]
[null,"Hamalibou Arlette","2020-07-17","CP",{"$f":"IF(AND(YEAR(C20)=Calendrier!$BD$8,B20=Calendrier!$BD$11),MAX($E$2:E19)+1,\"\")","v":""}]
[null,"Hamalibou Arlette","2020-08-17","CP",{"$f":"IF(AND(YEAR(C21)=Calendrier!$BD$8,B21=Calendrier!$BD$11),MAX($E$2:E20)+1,\"\")","v":""}]
[null,"Hamalibou Arlette","2020-08-18","CP",{"$f":"IF(AND(YEAR(C22)=Calendrier!$BD$8,B22=Calendrier!$BD$11),MAX($E$2:E21)+1,\"\")","v":""}]
[null,"Hamalibou Arlette","2020-08-19","CP",{"$f":"IF(AND(YEAR(C23)=Calendrier!$BD$8,B23=Calendrier!$BD$11),MAX($E$2:E22)+1,\"\")","v":""}]
[null,"Hamalibou Arlette","2020-08-20","CP",{"$f":"IF(AND(YEAR(C24)=Calendrier!$BD$8,B24=Calendrier!$BD$11),MAX($E$2:E23)+1,\"\")","v":""}]
[null,"Hamalibou Arlette","2020-08-21","CP",{"$f":"IF(AND(YEAR(C25)=Calendrier!$BD$8,B25=Calendrier!$BD$11),MAX($E$2:E24)+1,\"\")","v":""}]
[null,"Hamalibou Arlette","2020-08-24","CP",{"$f":"IF(AND(YEAR(C26)=Calendrier!$BD$8,B26=Calendrier!$BD$11),MAX($E$2:E25)+1,\"\")","v":""}]
[null,"Hamalibou Arlette","2020-08-25","CP",{"$f":"IF(AND(YEAR(C27)=Calendrier!$BD$8,B27=Calendrier!$BD$11),MAX($E$2:E26)+1,\"\")","v":""}]
[null,"Hamalibou Arlette","2020-08-26","CP",{"$f":"IF(AND(YEAR(C28)=Calendrier!$BD$8,B28=Calendrier!$BD$11),MAX($E$2:E27)+1,\"\")","v":""}]
[null,"Hamalibou Arlette","2020-08-27","CP",{"$f":"IF(AND(YEAR(C29)=Calendrier!$BD$8,B29=Calendrier!$BD$11),MAX($E$2:E28)+1,\"\")","v":""}]
[null,"Hamalibou Arlette","2020-08-28","CP",{"$f":"IF(AND(YEAR(C30)=Calendrier!$BD$8,B30=Calendrier!$BD$11),MAX($E$2:E29)+1,\"\")","v":""}]
[null,"Céhef Hassan","2020-02-17","CP",{"$f":"IF(AND(YEAR(C31)=Calendrier!$BD$8,B31=Calendrier!$BD$11),MAX($E$2:E30)+1,\"\")","v":""}]
[null,"Céhef Hassan","2020-02-18","CP",{"$f":"IF(AND(YEAR(C32)=Calendrier!$BD$8,B32=Calendrier!$BD$11),MAX($E$2:E31)+1,\"\")","v":""}]
[null,"Céhef Hassan","2020-02-19","CP",{"$f":"IF(AND(YEAR(C33)=Calendrier!$BD$8,B33=Calendrier!$BD$11),MAX($E$2:E32)+1,\"\")","v":""}]
[null,"Céhef Hassan","2020-02-20","CP",{"$f":"IF(AND(YEAR(C34)=Calendrier!$BD$8,B34=Calendrier!$BD$11),MAX($E$2:E33)+1,\"\")","v":""}]
[null,"Céhef Hassan","2020-02-21","CP",{"$f":"IF(AND(YEAR(C35)=Calendrier!$BD$8,B35=Calendrier!$BD$11),MAX($E$2:E34)+1,\"\")","v":""}]
[null,"Céhef Hassan","2020-05-18","RTT",{"$f":"IF(AND(YEAR(C36)=Calendrier!$BD$8,B36=Calendrier!$BD$11),MAX($E$2:E35)+1,\"\")","v":""}]
[null,"Céhef Hassan","2020-05-19","RTT",{"$f":"IF(AND(YEAR(C37)=Calendrier!$BD$8,B37=Calendrier!$BD$11),MAX($E$2:E36)+1,\"\")","v":""}]
[null,"Céhef Hassan","2020-05-20","RTT",{"$f":"IF(AND(YEAR(C38)=Calendrier!$BD$8,B38=Calendrier!$BD$11),MAX($E$2:E37)+1,\"\")","v":""}]
[null,"Céhef Hassan","2020-05-22","RTT",{"$f":"IF(AND(YEAR(C39)=Calendrier!$BD$8,B39=Calendrier!$BD$11),MAX($E$2:E38)+1,\"\")","v":""}]
[null,"Céhef Hassan","2020-08-03","CP",{"$f":"IF(AND(YEAR(C40)=Calendrier!$BD$8,B40=Calendrier!$BD$11),MAX($E$2:E39)+1,\"\")","v":""}]
[null,"Céhef Hassan","2020-08-04","CP",{"$f":"IF(AND(YEAR(C41)=Calendrier!$BD$8,B41=Calendrier!$BD$11),MAX($E$2:E40)+1,\"\")","v":""}]
[null,"Céhef Hassan","2020-08-05","CP",{"$f":"IF(AND(YEAR(C42)=Calendrier!$BD$8,B42=Calendrier!$BD$11),MAX($E$2:E41)+1,\"\")","v":""}]
[null,"Céhef Hassan","2020-08-06","CP",{"$f":"IF(AND(YEAR(C43)=Calendrier!$BD$8,B43=Calendrier!$BD$11),MAX($E$2:E42)+1,\"\")","v":""}]
[null,"Céhef Hassan","2020-08-07","CP",{"$f":"IF(AND(YEAR(C44)=Calendrier!$BD$8,B44=Calendrier!$BD$11),MAX($E$2:E43)+1,\"\")","v":""}]
[null,"Céhef Hassan","2020-08-10","CP",{"$f":"IF(AND(YEAR(C45)=Calendrier!$BD$8,B45=Calendrier!$BD$11),MAX($E$2:E44)+1,\"\")","v":""}]
[null,"Céhef Hassan","2020-08-11","CP",{"$f":"IF(AND(YEAR(C46)=Calendrier!$BD$8,B46=Calendrier!$BD$11),MAX($E$2:E45)+1,\"\")","v":""}]
[null,"Céhef Hassan","2020-08-12","CP",{"$f":"IF(AND(YEAR(C47)=Calendrier!$BD$8,B47=Calendrier!$BD$11),MAX($E$2:E46)+1,\"\")","v":""}]
[null,"Céhef Hassan","2020-08-13","CP",{"$f":"IF(AND(YEAR(C48)=Calendrier!$BD$8,B48=Calendrier!$BD$11),MAX($E$2:E47)+1,\"\")","v":""}]
[null,"Céhef Hassan","2020-08-14","CP",{"$f":"IF(AND(YEAR(C49)=Calendrier!$BD$8,B49=Calendrier!$BD$11),MAX($E$2:E48)+1,\"\")","v":""}]
[null,"Céhef Hassan","2020-08-17","CP",{"$f":"IF(AND(YEAR(C50)=Calendrier!$BD$8,B50=Calendrier!$BD$11),MAX($E$2:E49)+1,\"\")","v":""}]
[null,"Céhef Hassan","2020-08-18","CP",{"$f":"IF(AND(YEAR(C51)=Calendrier!$BD$8,B51=Calendrier!$BD$11),MAX($E$2:E50)+1,\"\")","v":""}]
[null,"Céhef Hassan","2020-08-19","CP",{"$f":"IF(AND(YEAR(C52)=Calendrier!$BD$8,B52=Calendrier!$BD$11),MAX($E$2:E51)+1,\"\")","v":""}]
[null,"Céhef Hassan","2020-08-20","CP",{"$f":"IF(AND(YEAR(C53)=Calendrier!$BD$8,B53=Calendrier!$BD$11),MAX($E$2:E52)+1,\"\")","v":""}]
[null,"Céhef Hassan","2020-08-21","CP",{"$f":"IF(AND(YEAR(C54)=Calendrier!$BD$8,B54=Calendrier!$BD$11),MAX($E$2:E53)+1,\"\")","v":""}]
[null,"Céhef Hassan","2020-08-24","CP",{"$f":"IF(AND(YEAR(C55)=Calendrier!$BD$8,B55=Calendrier!$BD$11),MAX($E$2:E54)+1,\"\")","v":""}]
[null,"Céhef Hassan","2020-08-25","CP",{"$f":"IF(AND(YEAR(C56)=Calendrier!$BD$8,B56=Calendrier!$BD$11),MAX($E$2:E55)+1,\"\")","v":""}]
[null,"Céhef Hassan","2020-08-26","CP",{"$f":"IF(AND(YEAR(C57)=Calendrier!$BD$8,B57=Calendrier!$BD$11),MAX($E$2:E56)+1,\"\")","v":""}]
[null,"Céhef Hassan","2020-08-27","CP",{"$f":"IF(AND(YEAR(C58)=Calendrier!$BD$8,B58=Calendrier!$BD$11),MAX($E$2:E57)+1,\"\")","v":""}]
[null,"Céhef Hassan","2020-08-28","CP",{"$f":"IF(AND(YEAR(C59)=Calendrier!$BD$8,B59=Calendrier!$BD$11),MAX($E$2:E58)+1,\"\")","v":""}]
[null,"Bonbeur Jean","2020-04-14","CP",{"$f":"IF(AND(YEAR(C60)=Calendrier!$BD$8,B60=Calendrier!$BD$11),MAX($E$2:E59)+1,\"\")","v":""}]
[null,"Bonbeur Jean","2020-04-15","CP",{"$f":"IF(AND(YEAR(C61)=Calendrier!$BD$8,B61=Calendrier!$BD$11),MAX($E$2:E60)+1,\"\")","v":""}]
[null,"Bonbeur Jean","2020-04-16","CP",{"$f":"IF(AND(YEAR(C62)=Calendrier!$BD$8,B62=Calendrier!$BD$11),MAX($E$2:E61)+1,\"\")","v":""}]
[null,"Bonbeur Jean","2020-04-17","CP",{"$f":"IF(AND(YEAR(C63)=Calendrier!$BD$8,B63=Calendrier!$BD$11),MAX($E$2:E62)+1,\"\")","v":""}]
[null,"Bonbeur Jean","2020-05-04","RTT",{"$f":"IF(AND(YEAR(C64)=Calendrier!$BD$8,B64=Calendrier!$BD$11),MAX($E$2:E63)+1,\"\")","v":""}]
[null,"Bonbeur Jean","2020-05-05","RTT",{"$f":"IF(AND(YEAR(C65)=Calendrier!$BD$8,B65=Calendrier!$BD$11),MAX($E$2:E64)+1,\"\")","v":""}]
[null,"Bonbeur Jean","2020-05-06","RTT",{"$f":"IF(AND(YEAR(C66)=Calendrier!$BD$8,B66=Calendrier!$BD$11),MAX($E$2:E65)+1,\"\")","v":""}]
[null,"Bonbeur Jean","2020-05-07","RTT",{"$f":"IF(AND(YEAR(C67)=Calendrier!$BD$8,B67=Calendrier!$BD$11),MAX($E$2:E66)+1,\"\")","v":""}]
[null,"Bonbeur Jean","2020-05-22","ABS",{"$f":"IF(AND(YEAR(C68)=Calendrier!$BD$8,B68=Calendrier!$BD$11),MAX($E$2:E67)+1,\"\")","v":""}]
[null,"Bonbeur Jean","2020-08-24","CP",{"$f":"IF(AND(YEAR(C69)=Calendrier!$BD$8,B69=Calendrier!$BD$11),MAX($E$2:E68)+1,\"\")","v":""}]
[null,"Bonbeur Jean","2020-08-25","CP",{"$f":"IF(AND(YEAR(C70)=Calendrier!$BD$8,B70=Calendrier!$BD$11),MAX($E$2:E69)+1,\"\")","v":""}]
[null,"Bonbeur Jean","2020-08-26","CP",{"$f":"IF(AND(YEAR(C71)=Calendrier!$BD$8,B71=Calendrier!$BD$11),MAX($E$2:E70)+1,\"\")","v":""}]
[null,"Bonbeur Jean","2020-08-27","CP",{"$f":"IF(AND(YEAR(C72)=Calendrier!$BD$8,B72=Calendrier!$BD$11),MAX($E$2:E71)+1,\"\")","v":""}]
[null,"Bonbeur Jean","2020-08-28","CP",{"$f":"IF(AND(YEAR(C73)=Calendrier!$BD$8,B73=Calendrier!$BD$11),MAX($E$2:E72)+1,\"\")","v":""}]
[null,"Bonbeur Jean","2020-08-31","CP",{"$f":"IF(AND(YEAR(C74)=Calendrier!$BD$8,B74=Calendrier!$BD$11),MAX($E$2:E73)+1,\"\")","v":""}]
[null,"Bonbeur Jean","2020-09-01","CP",{"$f":"IF(AND(YEAR(C75)=Calendrier!$BD$8,B75=Calendrier!$BD$11),MAX($E$2:E74)+1,\"\")","v":""}]
[null,"Bonbeur Jean","2020-09-02","CP",{"$f":"IF(AND(YEAR(C76)=Calendrier!$BD$8,B76=Calendrier!$BD$11),MAX($E$2:E75)+1,\"\")","v":""}]
[null,"Bonbeur Jean","2020-09-03","CP",{"$f":"IF(AND(YEAR(C77)=Calendrier!$BD$8,B77=Calendrier!$BD$11),MAX($E$2:E76)+1,\"\")","v":""}]
[null,"Bonbeur Jean","2020-09-04","CP",{"$f":"IF(AND(YEAR(C78)=Calendrier!$BD$8,B78=Calendrier!$BD$11),MAX($E$2:E77)+1,\"\")","v":""}]
[null,"Bonbeur Jean","2020-10-12","RTT",{"$f":"IF(AND(YEAR(C79)=Calendrier!$BD$8,B79=Calendrier!$BD$11),MAX($E$2:E78)+1,\"\")","v":""}]
[null,"Bonbeur Jean","2020-10-13","RTT",{"$f":"IF(AND(YEAR(C80)=Calendrier!$BD$8,B80=Calendrier!$BD$11),MAX($E$2:E79)+1,\"\")","v":""}]
[null,"Bonbeur Jean","2020-10-14","RTT",{"$f":"IF(AND(YEAR(C81)=Calendrier!$BD$8,B81=Calendrier!$BD$11),MAX($E$2:E80)+1,\"\")","v":""}]
[null,"Bonbeur Jean","2020-10-15","RTT",{"$f":"IF(AND(YEAR(C82)=Calendrier!$BD$8,B82=Calendrier!$BD$11),MAX($E$2:E81)+1,\"\")","v":""}]
[null,"Bonbeur Jean","2020-10-16","RTT",{"$f":"IF(AND(YEAR(C83)=Calendrier!$BD$8,B83=Calendrier!$BD$11),MAX($E$2:E82)+1,\"\")","v":""}]
[null,"Bonbeur Jean","2020-12-28","CP",{"$f":"IF(AND(YEAR(C84)=Calendrier!$BD$8,B84=Calendrier!$BD$11),MAX($E$2:E83)+1,\"\")","v":""}]
[null,"Bonbeur Jean","2020-12-29","CP",{"$f":"IF(AND(YEAR(C85)=Calendrier!$BD$8,B85=Calendrier!$BD$11),MAX($E$2:E84)+1,\"\")","v":""}]
[null,"Bonbeur Jean","2020-12-30","CP",{"$f":"IF(AND(YEAR(C86)=Calendrier!$BD$8,B86=Calendrier!$BD$11),MAX($E$2:E85)+1,\"\")","v":""}]
[null,"Bonbeur Jean","2020-12-31","CP",{"$f":"IF(AND(YEAR(C87)=Calendrier!$BD$8,B87=Calendrier!$BD$11),MAX($E$2:E86)+1,\"\")","v":""}]
[null,"Braltar Giles","2020-04-14","CP",{"$f":"IF(AND(YEAR(C88)=Calendrier!$BD$8,B88=Calendrier!$BD$11),MAX($E$2:E87)+1,\"\")","v":""}]
[null,"Braltar Giles","2020-04-15","CP",{"$f":"IF(AND(YEAR(C89)=Calendrier!$BD$8,B89=Calendrier!$BD$11),MAX($E$2:E88)+1,\"\")","v":""}]
[null,"Braltar Giles","2020-04-16","CP",{"$f":"IF(AND(YEAR(C90)=Calendrier!$BD$8,B90=Calendrier!$BD$11),MAX($E$2:E89)+1,\"\")","v":""}]
[null,"Braltar Giles","2020-04-17","CP",{"$f":"IF(AND(YEAR(C91)=Calendrier!$BD$8,B91=Calendrier!$BD$11),MAX($E$2:E90)+1,\"\")","v":""}]
[null,"Braltar Giles","2020-05-18","RTT",{"$f":"IF(AND(YEAR(C92)=Calendrier!$BD$8,B92=Calendrier!$BD$11),MAX($E$2:E91)+1,\"\")","v":""}]
[null,"Braltar Giles","2020-05-19","RTT",{"$f":"IF(AND(YEAR(C93)=Calendrier!$BD$8,B93=Calendrier!$BD$11),MAX($E$2:E92)+1,\"\")","v":""}]
[null,"Braltar Giles","2020-05-20","RTT",{"$f":"IF(AND(YEAR(C94)=Calendrier!$BD$8,B94=Calendrier!$BD$11),MAX($E$2:E93)+1,\"\")","v":""}]
[null,"Braltar Giles","2020-05-22","RTT",{"$f":"IF(AND(YEAR(C95)=Calendrier!$BD$8,B95=Calendrier!$BD$11),MAX($E$2:E94)+1,\"\")","v":""}]
[null,"Braltar Giles","2020-07-13","RTT",{"$f":"IF(AND(YEAR(C96)=Calendrier!$BD$8,B96=Calendrier!$BD$11),MAX($E$2:E95)+1,\"\")","v":""}]
[null,"Braltar Giles","2020-07-15","CP",{"$f":"IF(AND(YEAR(C97)=Calendrier!$BD$8,B97=Calendrier!$BD$11),MAX($E$2:E96)+1,\"\")","v":""}]
[null,"Braltar Giles","2020-07-16","CP",{"$f":"IF(AND(YEAR(C98)=Calendrier!$BD$8,B98=Calendrier!$BD$11),MAX($E$2:E97)+1,\"\")","v":""}]
[null,"Braltar Giles","2020-07-17","CP",{"$f":"IF(AND(YEAR(C99)=Calendrier!$BD$8,B99=Calendrier!$BD$11),MAX($E$2:E98)+1,\"\")","v":""}]
[null,"Braltar Giles","2020-07-20","CP",{"$f":"IF(AND(YEAR(C100)=Calendrier!$BD$8,B100=Calendrier!$BD$11),MAX($E$2:E99)+1,\"\")","v":""}]
[null,"Braltar Giles","2020-07-21","CP",{"$f":"IF(AND(YEAR(C101)=Calendrier!$BD$8,B101=Calendrier!$BD$11),MAX($E$2:E100)+1,\"\")","v":""}]
[null,"Braltar Giles","2020-07-22","CP",{"$f":"IF(AND(YEAR(C102)=Calendrier!$BD$8,B102=Calendrier!$BD$11),MAX($E$2:E101)+1,\"\")","v":""}]
[null,"Braltar Giles","2020-07-23","CP",{"$f":"IF(AND(YEAR(C103)=Calendrier!$BD$8,B103=Calendrier!$BD$11),MAX($E$2:E102)+1,\"\")","v":""}]
[null,"Braltar Giles","2020-07-24","CP",{"$f":"IF(AND(YEAR(C104)=Calendrier!$BD$8,B104=Calendrier!$BD$11),MAX($E$2:E103)+1,\"\")","v":""}]
[null,"Braltar Giles","2020-07-27","CP",{"$f":"IF(AND(YEAR(C105)=Calendrier!$BD$8,B105=Calendrier!$BD$11),MAX($E$2:E104)+1,\"\")","v":""}]
[null,"Braltar Giles","2020-07-28","CP",{"$f":"IF(AND(YEAR(C106)=Calendrier!$BD$8,B106=Calendrier!$BD$11),MAX($E$2:E105)+1,\"\")","v":""}]
[null,"Braltar Giles","2020-07-29","CP",{"$f":"IF(AND(YEAR(C107)=Calendrier!$BD$8,B107=Calendrier!$BD$11),MAX($E$2:E106)+1,\"\")","v":""}]
[null,"Braltar Giles","2020-07-30","CP",{"$f":"IF(AND(YEAR(C108)=Calendrier!$BD$8,B108=Calendrier!$BD$11),MAX($E$2:E107)+1,\"\")","v":""}]
[null,"Braltar Giles","2020-07-31","CP",{"$f":"IF(AND(YEAR(C109)=Calendrier!$BD$8,B109=Calendrier!$BD$11),MAX($E$2:E108)+1,\"\")","v":""}]
[null,"Braltar Giles","2020-09-30","ABS",{"$f":"IF(AND(YEAR(C110)=Calendrier!$BD$8,B110=Calendrier!$BD$11),MAX($E$2:E109)+1,\"\")","v":""}]
[null,"Braltar Giles","2020-11-12","RTT",{"$f":"IF(AND(YEAR(C111)=Calendrier!$BD$8,B111=Calendrier!$BD$11),MAX($E$2:E110)+1,\"\")","v":""}]
[null,"Braltar Giles","2020-11-13","RTT",{"$f":"IF(AND(YEAR(C112)=Calendrier!$BD$8,B112=Calendrier!$BD$11),MAX($E$2:E111)+1,\"\")","v":""}]
[null,"Galls Charline","2020-02-24","CP",{"$f":"IF(AND(YEAR(C113)=Calendrier!$BD$8,B113=Calendrier!$BD$11),MAX($E$2:E112)+1,\"\")","v":""}]
[null,"Galls Charline","2020-02-25","CP",{"$f":"IF(AND(YEAR(C114)=Calendrier!$BD$8,B114=Calendrier!$BD$11),MAX($E$2:E113)+1,\"\")","v":""}]
[null,"Galls Charline","2020-02-26","CP",{"$f":"IF(AND(YEAR(C115)=Calendrier!$BD$8,B115=Calendrier!$BD$11),MAX($E$2:E114)+1,\"\")","v":""}]
[null,"Galls Charline","2020-02-27","CP",{"$f":"IF(AND(YEAR(C116)=Calendrier!$BD$8,B116=Calendrier!$BD$11),MAX($E$2:E115)+1,\"\")","v":""}]
[null,"Galls Charline","2020-02-28","CP",{"$f":"IF(AND(YEAR(C117)=Calendrier!$BD$8,B117=Calendrier!$BD$11),MAX($E$2:E116)+1,\"\")","v":""}]
[null,"Galls Charline","2020-05-18","RTT",{"$f":"IF(AND(YEAR(C118)=Calendrier!$BD$8,B118=Calendrier!$BD$11),MAX($E$2:E117)+1,\"\")","v":""}]
[null,"Galls Charline","2020-05-19","RTT",{"$f":"IF(AND(YEAR(C119)=Calendrier!$BD$8,B119=Calendrier!$BD$11),MAX($E$2:E118)+1,\"\")","v":""}]
[null,"Galls Charline","2020-05-20","RTT",{"$f":"IF(AND(YEAR(C120)=Calendrier!$BD$8,B120=Calendrier!$BD$11),MAX($E$2:E119)+1,\"\")","v":""}]
[null,"Galls Charline","2020-05-22","ABS",{"$f":"IF(AND(YEAR(C121)=Calendrier!$BD$8,B121=Calendrier!$BD$11),MAX($E$2:E120)+1,\"\")","v":""}]
[null,"Galls Charline","2020-07-13","RTT",{"$f":"IF(AND(YEAR(C122)=Calendrier!$BD$8,B122=Calendrier!$BD$11),MAX($E$2:E121)+1,\"\")","v":""}]
[null,"Galls Charline","2020-07-15","CP",{"$f":"IF(AND(YEAR(C123)=Calendrier!$BD$8,B123=Calendrier!$BD$11),MAX($E$2:E122)+1,\"\")","v":""}]
[null,"Galls Charline","2020-07-16","CP",{"$f":"IF(AND(YEAR(C124)=Calendrier!$BD$8,B124=Calendrier!$BD$11),MAX($E$2:E123)+1,\"\")","v":""}]
[null,"Galls Charline","2020-07-17","CP",{"$f":"IF(AND(YEAR(C125)=Calendrier!$BD$8,B125=Calendrier!$BD$11),MAX($E$2:E124)+1,\"\")","v":""}]
[null,"Galls Charline","2020-07-20","CP",{"$f":"IF(AND(YEAR(C126)=Calendrier!$BD$8,B126=Calendrier!$BD$11),MAX($E$2:E125)+1,\"\")","v":""}]
[null,"Galls Charline","2020-07-21","CP",{"$f":"IF(AND(YEAR(C127)=Calendrier!$BD$8,B127=Calendrier!$BD$11),MAX($E$2:E126)+1,\"\")","v":""}]
[null,"Galls Charline","2020-07-22","CP",{"$f":"IF(AND(YEAR(C128)=Calendrier!$BD$8,B128=Calendrier!$BD$11),MAX($E$2:E127)+1,\"\")","v":""}]
[null,"Galls Charline","2020-07-23","CP",{"$f":"IF(AND(YEAR(C129)=Calendrier!$BD$8,B129=Calendrier!$BD$11),MAX($E$2:E128)+1,\"\")","v":""}]
[null,"Galls Charline","2020-07-24","CP",{"$f":"IF(AND(YEAR(C130)=Calendrier!$BD$8,B130=Calendrier!$BD$11),MAX($E$2:E129)+1,\"\")","v":""}]
[null,"Galls Charline","2020-07-27","CP",{"$f":"IF(AND(YEAR(C131)=Calendrier!$BD$8,B131=Calendrier!$BD$11),MAX($E$2:E130)+1,\"\")","v":""}]
[null,"Galls Charline","2020-07-28","CP",{"$f":"IF(AND(YEAR(C132)=Calendrier!$BD$8,B132=Calendrier!$BD$11),MAX($E$2:E131)+1,\"\")","v":""}]
[null,"Galls Charline","2020-07-29","CP",{"$f":"IF(AND(YEAR(C133)=Calendrier!$BD$8,B133=Calendrier!$BD$11),MAX($E$2:E132)+1,\"\")","v":""}]
[null,"Galls Charline","2020-07-30","CP",{"$f":"IF(AND(YEAR(C134)=Calendrier!$BD$8,B134=Calendrier!$BD$11),MAX($E$2:E133)+1,\"\")","v":""}]
[null,"Galls Charline","2020-07-31","CP",{"$f":"IF(AND(YEAR(C135)=Calendrier!$BD$8,B135=Calendrier!$BD$11),MAX($E$2:E134)+1,\"\")","v":""}]
[null,"Galls Charline","2020-11-12","RTT",{"$f":"IF(AND(YEAR(C136)=Calendrier!$BD$8,B136=Calendrier!$BD$11),MAX($E$2:E135)+1,\"\")","v":""}]
[null,"Galls Charline","2020-11-13","RTT",{"$f":"IF(AND(YEAR(C137)=Calendrier!$BD$8,B137=Calendrier!$BD$11),MAX($E$2:E136)+1,\"\")","v":""}]
[null,"Hèresse Mégane","2020-01-02","CP",{"$f":"IF(AND(YEAR(C138)=Calendrier!$BD$8,B138=Calendrier!$BD$11),MAX($E$2:E137)+1,\"\")","v":""}]
[null,"Hèresse Mégane","2020-01-03","CP",{"$f":"IF(AND(YEAR(C139)=Calendrier!$BD$8,B139=Calendrier!$BD$11),MAX($E$2:E138)+1,\"\")","v":""}]
[null,"Hèresse Mégane","2020-05-18","RTT",{"$f":"IF(AND(YEAR(C140)=Calendrier!$BD$8,B140=Calendrier!$BD$11),MAX($E$2:E139)+1,\"\")","v":""}]
[null,"Hèresse Mégane","2020-05-19","RTT",{"$f":"IF(AND(YEAR(C141)=Calendrier!$BD$8,B141=Calendrier!$BD$11),MAX($E$2:E140)+1,\"\")","v":""}]
[null,"Hèresse Mégane","2020-05-20","RTT",{"$f":"IF(AND(YEAR(C142)=Calendrier!$BD$8,B142=Calendrier!$BD$11),MAX($E$2:E141)+1,\"\")","v":""}]
[null,"Hèresse Mégane","2020-05-22","RTT",{"$f":"IF(AND(YEAR(C143)=Calendrier!$BD$8,B143=Calendrier!$BD$11),MAX($E$2:E142)+1,\"\")","v":""}]
[null,"Hèresse Mégane","2020-06-15","CP",{"$f":"IF(AND(YEAR(C144)=Calendrier!$BD$8,B144=Calendrier!$BD$11),MAX($E$2:E143)+1,\"\")","v":""}]
[null,"Hèresse Mégane","2020-06-16","CP",{"$f":"IF(AND(YEAR(C145)=Calendrier!$BD$8,B145=Calendrier!$BD$11),MAX($E$2:E144)+1,\"\")","v":""}]
[null,"Hèresse Mégane","2020-06-17","CP",{"$f":"IF(AND(YEAR(C146)=Calendrier!$BD$8,B146=Calendrier!$BD$11),MAX($E$2:E145)+1,\"\")","v":""}]
[null,"Hèresse Mégane","2020-06-18","CP",{"$f":"IF(AND(YEAR(C147)=Calendrier!$BD$8,B147=Calendrier!$BD$11),MAX($E$2:E146)+1,\"\")","v":""}]
[null,"Hèresse Mégane","2020-06-19","CP",{"$f":"IF(AND(YEAR(C148)=Calendrier!$BD$8,B148=Calendrier!$BD$11),MAX($E$2:E147)+1,\"\")","v":""}]
[null,"Hèresse Mégane","2020-06-22","CP",{"$f":"IF(AND(YEAR(C149)=Calendrier!$BD$8,B149=Calendrier!$BD$11),MAX($E$2:E148)+1,\"\")","v":""}]
[null,"Hèresse Mégane","2020-06-23","CP",{"$f":"IF(AND(YEAR(C150)=Calendrier!$BD$8,B150=Calendrier!$BD$11),MAX($E$2:E149)+1,\"\")","v":""}]
[null,"Hèresse Mégane","2020-06-24","CP",{"$f":"IF(AND(YEAR(C151)=Calendrier!$BD$8,B151=Calendrier!$BD$11),MAX($E$2:E150)+1,\"\")","v":""}]
[null,"Hèresse Mégane","2020-06-25","CP",{"$f":"IF(AND(YEAR(C152)=Calendrier!$BD$8,B152=Calendrier!$BD$11),MAX($E$2:E151)+1,\"\")","v":""}]
[null,"Hèresse Mégane","2020-06-26","CP",{"$f":"IF(AND(YEAR(C153)=Calendrier!$BD$8,B153=Calendrier!$BD$11),MAX($E$2:E152)+1,\"\")","v":""}]
[null,"Hèresse Mégane","2020-09-01","CP",{"$f":"IF(AND(YEAR(C154)=Calendrier!$BD$8,B154=Calendrier!$BD$11),MAX($E$2:E153)+1,\"\")","v":""}]
[null,"Hèresse Mégane","2020-09-02","CP",{"$f":"IF(AND(YEAR(C155)=Calendrier!$BD$8,B155=Calendrier!$BD$11),MAX($E$2:E154)+1,\"\")","v":""}]
[null,"Hèresse Mégane","2020-09-03","CP",{"$f":"IF(AND(YEAR(C156)=Calendrier!$BD$8,B156=Calendrier!$BD$11),MAX($E$2:E155)+1,\"\")","v":""}]
[null,"Hèresse Mégane","2020-09-04","CP",{"$f":"IF(AND(YEAR(C157)=Calendrier!$BD$8,B157=Calendrier!$BD$11),MAX($E$2:E156)+1,\"\")","v":""}]
[null,"Hèresse Mégane","2020-09-07","CP",{"$f":"IF(AND(YEAR(C158)=Calendrier!$BD$8,B158=Calendrier!$BD$11),MAX($E$2:E157)+1,\"\")","v":""}]
[null,"Hèresse Mégane","2020-09-08","CP",{"$f":"IF(AND(YEAR(C159)=Calendrier!$BD$8,B159=Calendrier!$BD$11),MAX($E$2:E158)+1,\"\")","v":""}]
[null,"Hèresse Mégane","2020-09-09","CP",{"$f":"IF(AND(YEAR(C160)=Calendrier!$BD$8,B160=Calendrier!$BD$11),MAX($E$2:E159)+1,\"\")","v":""}]
[null,"Hèresse Mégane","2020-09-10","CP",{"$f":"IF(AND(YEAR(C161)=Calendrier!$BD$8,B161=Calendrier!$BD$11),MAX($E$2:E160)+1,\"\")","v":""}]
[null,"Hèresse Mégane","2020-09-11","CP",{"$f":"IF(AND(YEAR(C162)=Calendrier!$BD$8,B162=Calendrier!$BD$11),MAX($E$2:E161)+1,\"\")","v":""}]
[null,"Niomme Gérard","2020-01-27","CP",{"$f":"IF(AND(YEAR(C163)=Calendrier!$BD$8,B163=Calendrier!$BD$11),MAX($E$2:E162)+1,\"\")","v":""}]
[null,"Niomme Gérard","2020-01-28","CP",{"$f":"IF(AND(YEAR(C164)=Calendrier!$BD$8,B164=Calendrier!$BD$11),MAX($E$2:E163)+1,\"\")","v":""}]
[null,"Niomme Gérard","2020-01-29","CP",{"$f":"IF(AND(YEAR(C165)=Calendrier!$BD$8,B165=Calendrier!$BD$11),MAX($E$2:E164)+1,\"\")","v":""}]
[null,"Niomme Gérard","2020-01-30","CP",{"$f":"IF(AND(YEAR(C166)=Calendrier!$BD$8,B166=Calendrier!$BD$11),MAX($E$2:E165)+1,\"\")","v":""}]
[null,"Niomme Gérard","2020-01-31","CP",{"$f":"IF(AND(YEAR(C167)=Calendrier!$BD$8,B167=Calendrier!$BD$11),MAX($E$2:E166)+1,\"\")","v":""}]
[null,"Niomme Gérard","2020-06-02","RTT",{"$f":"IF(AND(YEAR(C168)=Calendrier!$BD$8,B168=Calendrier!$BD$11),MAX($E$2:E167)+1,\"\")","v":""}]
[null,"Niomme Gérard","2020-06-03","RTT",{"$f":"IF(AND(YEAR(C169)=Calendrier!$BD$8,B169=Calendrier!$BD$11),MAX($E$2:E168)+1,\"\")","v":""}]
[null,"Niomme Gérard","2020-06-04","RTT",{"$f":"IF(AND(YEAR(C170)=Calendrier!$BD$8,B170=Calendrier!$BD$11),MAX($E$2:E169)+1,\"\")","v":""}]
[null,"Niomme Gérard","2020-06-05","RTT",{"$f":"IF(AND(YEAR(C171)=Calendrier!$BD$8,B171=Calendrier!$BD$11),MAX($E$2:E170)+1,\"\")","v":""}]
[null,"Niomme Gérard","2020-06-29","CP",{"$f":"IF(AND(YEAR(C172)=Calendrier!$BD$8,B172=Calendrier!$BD$11),MAX($E$2:E171)+1,\"\")","v":""}]
[null,"Niomme Gérard","2020-06-30","CP",{"$f":"IF(AND(YEAR(C173)=Calendrier!$BD$8,B173=Calendrier!$BD$11),MAX($E$2:E172)+1,\"\")","v":""}]
[null,"Niomme Gérard","2020-07-01","CP",{"$f":"IF(AND(YEAR(C174)=Calendrier!$BD$8,B174=Calendrier!$BD$11),MAX($E$2:E173)+1,\"\")","v":""}]
[null,"Niomme Gérard","2020-07-02","CP",{"$f":"IF(AND(YEAR(C175)=Calendrier!$BD$8,B175=Calendrier!$BD$11),MAX($E$2:E174)+1,\"\")","v":""}]
[null,"Niomme Gérard","2020-07-03","CP",{"$f":"IF(AND(YEAR(C176)=Calendrier!$BD$8,B176=Calendrier!$BD$11),MAX($E$2:E175)+1,\"\")","v":""}]
[null,"Niomme Gérard","2020-07-06","CP",{"$f":"IF(AND(YEAR(C177)=Calendrier!$BD$8,B177=Calendrier!$BD$11),MAX($E$2:E176)+1,\"\")","v":""}]
[null,"Niomme Gérard","2020-07-07","CP",{"$f":"IF(AND(YEAR(C178)=Calendrier!$BD$8,B178=Calendrier!$BD$11),MAX($E$2:E177)+1,\"\")","v":""}]
[null,"Niomme Gérard","2020-07-08","CP",{"$f":"IF(AND(YEAR(C179)=Calendrier!$BD$8,B179=Calendrier!$BD$11),MAX($E$2:E178)+1,\"\")","v":""}]
[null,"Niomme Gérard","2020-07-09","CP",{"$f":"IF(AND(YEAR(C180)=Calendrier!$BD$8,B180=Calendrier!$BD$11),MAX($E$2:E179)+1,\"\")","v":""}]
[null,"Niomme Gérard","2020-07-10","CP",{"$f":"IF(AND(YEAR(C181)=Calendrier!$BD$8,B181=Calendrier!$BD$11),MAX($E$2:E180)+1,\"\")","v":""}]
[null,"Niomme Gérard","2020-07-13","CP",{"$f":"IF(AND(YEAR(C182)=Calendrier!$BD$8,B182=Calendrier!$BD$11),MAX($E$2:E181)+1,\"\")","v":""}]
[null,"Niomme Gérard","2020-07-15","CP",{"$f":"IF(AND(YEAR(C183)=Calendrier!$BD$8,B183=Calendrier!$BD$11),MAX($E$2:E182)+1,\"\")","v":""}]
[null,"Niomme Gérard","2020-07-16","CP",{"$f":"IF(AND(YEAR(C184)=Calendrier!$BD$8,B184=Calendrier!$BD$11),MAX($E$2:E183)+1,\"\")","v":""}]
[null,"Niomme Gérard","2020-07-17","CP",{"$f":"IF(AND(YEAR(C185)=Calendrier!$BD$8,B185=Calendrier!$BD$11),MAX($E$2:E184)+1,\"\")","v":""}]
[null,"Niomme Gérard","2020-11-09","RTT",{"$f":"IF(AND(YEAR(C186)=Calendrier!$BD$8,B186=Calendrier!$BD$11),MAX($E$2:E185)+1,\"\")","v":""}]
[null,"Niomme Gérard","2020-11-10","RTT",{"$f":"IF(AND(YEAR(C187)=Calendrier!$BD$8,B187=Calendrier!$BD$11),MAX($E$2:E186)+1,\"\")","v":""}]
[null,"Doeuf John","2020-07-20","CP",{"$f":"IF(AND(YEAR(C188)=Calendrier!$BD$8,B188=Calendrier!$BD$11),MAX($E$2:E187)+1,\"\")","v":""}]
[null,"Doeuf John","2020-07-21","CP",{"$f":"IF(AND(YEAR(C189)=Calendrier!$BD$8,B189=Calendrier!$BD$11),MAX($E$2:E188)+1,\"\")","v":""}]
[null,"Doeuf John","2020-07-22","CP",{"$f":"IF(AND(YEAR(C190)=Calendrier!$BD$8,B190=Calendrier!$BD$11),MAX($E$2:E189)+1,\"\")","v":""}]
[null,"Doeuf John","2020-07-23","CP",{"$f":"IF(AND(YEAR(C191)=Calendrier!$BD$8,B191=Calendrier!$BD$11),MAX($E$2:E190)+1,\"\")","v":""}]
[null,"Doeuf John","2020-07-24","CP",{"$f":"IF(AND(YEAR(C192)=Calendrier!$BD$8,B192=Calendrier!$BD$11),MAX($E$2:E191)+1,\"\")","v":""}]
[null,"Doeuf John","2020-07-27","CP",{"$f":"IF(AND(YEAR(C193)=Calendrier!$BD$8,B193=Calendrier!$BD$11),MAX($E$2:E192)+1,\"\")","v":""}]
[null,"Doeuf John","2020-07-28","CP",{"$f":"IF(AND(YEAR(C194)=Calendrier!$BD$8,B194=Calendrier!$BD$11),MAX($E$2:E193)+1,\"\")","v":""}]
[null,"Doeuf John","2020-07-29","CP",{"$f":"IF(AND(YEAR(C195)=Calendrier!$BD$8,B195=Calendrier!$BD$11),MAX($E$2:E194)+1,\"\")","v":""}]
[null,"Doeuf John","2020-07-30","CP",{"$f":"IF(AND(YEAR(C196)=Calendrier!$BD$8,B196=Calendrier!$BD$11),MAX($E$2:E195)+1,\"\")","v":""}]
[null,"Doeuf John","2020-07-31","CP",{"$f":"IF(AND(YEAR(C197)=Calendrier!$BD$8,B197=Calendrier!$BD$11),MAX($E$2:E196)+1,\"\")","v":""}]
[null,"Douche Raël","2020-07-20","RTT",{"$f":"IF(AND(YEAR(C198)=Calendrier!$BD$8,B198=Calendrier!$BD$11),MAX($E$2:E197)+1,\"\")","v":""}]
[null,"Douche Raël","2020-07-21","RTT",{"$f":"IF(AND(YEAR(C199)=Calendrier!$BD$8,B199=Calendrier!$BD$11),MAX($E$2:E198)+1,\"\")","v":""}]
[null,"Douche Raël","2020-07-22","RTT",{"$f":"IF(AND(YEAR(C200)=Calendrier!$BD$8,B200=Calendrier!$BD$11),MAX($E$2:E199)+1,\"\")","v":""}]
[null,"Douche Raël","2020-07-23","RTT",{"$f":"IF(AND(YEAR(C201)=Calendrier!$BD$8,B201=Calendrier!$BD$11),MAX($E$2:E200)+1,\"\")","v":""}]
[null,"Douche Raël","2020-07-24","RTT",{"$f":"IF(AND(YEAR(C202)=Calendrier!$BD$8,B202=Calendrier!$BD$11),MAX($E$2:E201)+1,\"\")","v":""}]
[null,"Douche Raël","2020-07-27","RTT",{"$f":"IF(AND(YEAR(C203)=Calendrier!$BD$8,B203=Calendrier!$BD$11),MAX($E$2:E202)+1,\"\")","v":""}]
[null,"Douche Raël","2020-07-28","RTT",{"$f":"IF(AND(YEAR(C204)=Calendrier!$BD$8,B204=Calendrier!$BD$11),MAX($E$2:E203)+1,\"\")","v":""}]
[null,"Douche Raël","2020-07-29","RTT",{"$f":"IF(AND(YEAR(C205)=Calendrier!$BD$8,B205=Calendrier!$BD$11),MAX($E$2:E204)+1,\"\")","v":""}]
[null,"Douche Raël","2020-07-30","RTT",{"$f":"IF(AND(YEAR(C206)=Calendrier!$BD$8,B206=Calendrier!$BD$11),MAX($E$2:E205)+1,\"\")","v":""}]
[null,"Douche Raël","2020-07-31","RTT",{"$f":"IF(AND(YEAR(C207)=Calendrier!$BD$8,B207=Calendrier!$BD$11),MAX($E$2:E206)+1,\"\")","v":""}]
[null,"Doeuf John","2020-08-03","RTT",{"$f":"IF(AND(YEAR(C208)=Calendrier!$BD$8,B208=Calendrier!$BD$11),MAX($E$2:E207)+1,\"\")","v":""}]
[null,"Doeuf John","2020-08-04","RTT",{"$f":"IF(AND(YEAR(C209)=Calendrier!$BD$8,B209=Calendrier!$BD$11),MAX($E$2:E208)+1,\"\")","v":""}]
[null,"Doeuf John","2020-08-05","RTT",{"$f":"IF(AND(YEAR(C210)=Calendrier!$BD$8,B210=Calendrier!$BD$11),MAX($E$2:E209)+1,\"\")","v":""}]
[null,"Doeuf John","2020-08-06","RTT",{"$f":"IF(AND(YEAR(C211)=Calendrier!$BD$8,B211=Calendrier!$BD$11),MAX($E$2:E210)+1,\"\")","v":""}]
[null,"Doeuf John","2020-08-07","RTT",{"$f":"IF(AND(YEAR(C212)=Calendrier!$BD$8,B212=Calendrier!$BD$11),MAX($E$2:E211)+1,\"\")","v":""}]
[null,"Doeuf John","2020-08-10","RTT",{"$f":"IF(AND(YEAR(C213)=Calendrier!$BD$8,B213=Calendrier!$BD$11),MAX($E$2:E212)+1,\"\")","v":""}]
[null,"Doeuf John","2020-08-11","RTT",{"$f":"IF(AND(YEAR(C214)=Calendrier!$BD$8,B214=Calendrier!$BD$11),MAX($E$2:E213)+1,\"\")","v":""}]
[null,"Doeuf John","2020-08-12","RTT",{"$f":"IF(AND(YEAR(C215)=Calendrier!$BD$8,B215=Calendrier!$BD$11),MAX($E$2:E214)+1,\"\")","v":""}]
[null,"Doeuf John","2020-08-13","RTT",{"$f":"IF(AND(YEAR(C216)=Calendrier!$BD$8,B216=Calendrier!$BD$11),MAX($E$2:E215)+1,\"\")","v":""}]
[null,"Doeuf John","2020-08-14","RTT",{"$f":"IF(AND(YEAR(C217)=Calendrier!$BD$8,B217=Calendrier!$BD$11),MAX($E$2:E216)+1,\"\")","v":""}]
[null,"Ecar Medi","2020-07-20","CP",{"$f":"IF(AND(YEAR(C218)=Calendrier!$BD$8,B218=Calendrier!$BD$11),MAX($E$2:E217)+1,\"\")","v":""}]
[null,"Ecar Medi","2020-07-21","CP",{"$f":"IF(AND(YEAR(C219)=Calendrier!$BD$8,B219=Calendrier!$BD$11),MAX($E$2:E218)+1,\"\")","v":""}]
[null,"Ecar Medi","2020-07-22","CP",{"$f":"IF(AND(YEAR(C220)=Calendrier!$BD$8,B220=Calendrier!$BD$11),MAX($E$2:E219)+1,\"\")","v":""}]
[null,"Ecar Medi","2020-07-23","CP",{"$f":"IF(AND(YEAR(C221)=Calendrier!$BD$8,B221=Calendrier!$BD$11),MAX($E$2:E220)+1,\"\")","v":""}]
[null,"Ecar Medi","2020-07-27","CP",{"$f":"IF(AND(YEAR(C222)=Calendrier!$BD$8,B222=Calendrier!$BD$11),MAX($E$2:E221)+1,\"\")","v":""}]
[null,"Ecar Medi","2020-07-28","CP",{"$f":"IF(AND(YEAR(C223)=Calendrier!$BD$8,B223=Calendrier!$BD$11),MAX($E$2:E222)+1,\"\")","v":""}]
[null,"Ecar Medi","2020-07-29","CP",{"$f":"IF(AND(YEAR(C224)=Calendrier!$BD$8,B224=Calendrier!$BD$11),MAX($E$2:E223)+1,\"\")","v":""}]
[null,"Ecar Medi","2020-07-30","CP",{"$f":"IF(AND(YEAR(C225)=Calendrier!$BD$8,B225=Calendrier!$BD$11),MAX($E$2:E224)+1,\"\")","v":""}]
[null,"Bonbeur Jean","2020-07-21","CP",{"$f":"IF(AND(YEAR(C226)=Calendrier!$BD$8,B226=Calendrier!$BD$11),MAX($E$2:E225)+1,\"\")","v":""}]
[null,"Bonbeur Jean","2020-07-22","CP",{"$f":"IF(AND(YEAR(C227)=Calendrier!$BD$8,B227=Calendrier!$BD$11),MAX($E$2:E226)+1,\"\")","v":""}]
[null,"Bonbeur Jean","2020-07-23","CP",{"$f":"IF(AND(YEAR(C228)=Calendrier!$BD$8,B228=Calendrier!$BD$11),MAX($E$2:E227)+1,\"\")","v":""}]
[null,"Bonbeur Jean","2020-07-28","CP",{"$f":"IF(AND(YEAR(C229)=Calendrier!$BD$8,B229=Calendrier!$BD$11),MAX($E$2:E228)+1,\"\")","v":""}]
[null,"Bonbeur Jean","2020-07-29","CP",{"$f":"IF(AND(YEAR(C230)=Calendrier!$BD$8,B230=Calendrier!$BD$11),MAX($E$2:E229)+1,\"\")","v":""}]
[null,"Bonbeur Jean","2020-07-30","CP",{"$f":"IF(AND(YEAR(C231)=Calendrier!$BD$8,B231=Calendrier!$BD$11),MAX($E$2:E230)+1,\"\")","v":""}]
[null,"Guet Pierre","2020-08-10","CP",{"$f":"IF(AND(YEAR(C232)=Calendrier!$BD$8,B232=Calendrier!$BD$11),MAX($E$2:E231)+1,\"\")","v":""}]
[null,"Guet Pierre","2020-08-11","CP",{"$f":"IF(AND(YEAR(C233)=Calendrier!$BD$8,B233=Calendrier!$BD$11),MAX($E$2:E232)+1,\"\")","v":""}]
[null,"Guet Pierre","2020-08-12","CP",{"$f":"IF(AND(YEAR(C234)=Calendrier!$BD$8,B234=Calendrier!$BD$11),MAX($E$2:E233)+1,\"\")","v":""}]
[null,"Guet Pierre","2020-08-13","CP",{"$f":"IF(AND(YEAR(C235)=Calendrier!$BD$8,B235=Calendrier!$BD$11),MAX($E$2:E234)+1,\"\")","v":""}]
[null,"Guet Pierre","2020-08-14","CP",{"$f":"IF(AND(YEAR(C236)=Calendrier!$BD$8,B236=Calendrier!$BD$11),MAX($E$2:E235)+1,\"\")","v":""}]
[null,"Guet Pierre","2020-08-17","CP",{"$f":"IF(AND(YEAR(C237)=Calendrier!$BD$8,B237=Calendrier!$BD$11),MAX($E$2:E236)+1,\"\")","v":""}]
[null,"Guet Pierre","2020-08-18","CP",{"$f":"IF(AND(YEAR(C238)=Calendrier!$BD$8,B238=Calendrier!$BD$11),MAX($E$2:E237)+1,\"\")","v":""}]
[null,"Guet Pierre","2020-08-19","CP",{"$f":"IF(AND(YEAR(C239)=Calendrier!$BD$8,B239=Calendrier!$BD$11),MAX($E$2:E238)+1,\"\")","v":""}]
[null,"Guet Pierre","2020-08-20","CP",{"$f":"IF(AND(YEAR(C240)=Calendrier!$BD$8,B240=Calendrier!$BD$11),MAX($E$2:E239)+1,\"\")","v":""}]
[null,"Guet Pierre","2020-08-21","CP",{"$f":"IF(AND(YEAR(C241)=Calendrier!$BD$8,B241=Calendrier!$BD$11),MAX($E$2:E240)+1,\"\")","v":""}]
[null,"Guet Pierre","2020-08-24","CP",{"$f":"IF(AND(YEAR(C242)=Calendrier!$BD$8,B242=Calendrier!$BD$11),MAX($E$2:E241)+1,\"\")","v":""}]
[null,"Guet Pierre","2020-08-25","CP",{"$f":"IF(AND(YEAR(C243)=Calendrier!$BD$8,B243=Calendrier!$BD$11),MAX($E$2:E242)+1,\"\")","v":""}]
[null,"Guet Pierre","2020-08-26","CP",{"$f":"IF(AND(YEAR(C244)=Calendrier!$BD$8,B244=Calendrier!$BD$11),MAX($E$2:E243)+1,\"\")","v":""}]
[null,"Guet Pierre","2020-08-27","CP",{"$f":"IF(AND(YEAR(C245)=Calendrier!$BD$8,B245=Calendrier!$BD$11),MAX($E$2:E244)+1,\"\")","v":""}]
[null,"Guet Pierre","2020-08-28","CP",{"$f":"IF(AND(YEAR(C246)=Calendrier!$BD$8,B246=Calendrier!$BD$11),MAX($E$2:E245)+1,\"\")","v":""}]
[null,"Guet Pierre","2020-08-31","CP",{"$f":"IF(AND(YEAR(C247)=Calendrier!$BD$8,B247=Calendrier!$BD$11),MAX($E$2:E246)+1,\"\")","v":""}]
[null,"Guet Pierre","2020-07-13","RTT",{"$f":"IF(AND(YEAR(C248)=Calendrier!$BD$8,B248=Calendrier!$BD$11),MAX($E$2:E247)+1,\"\")","v":""}]
[null,"Guet Pierre","2020-07-15","RTT",{"$f":"IF(AND(YEAR(C249)=Calendrier!$BD$8,B249=Calendrier!$BD$11),MAX($E$2:E248)+1,\"\")","v":""}]
[null,"Guet Pierre","2020-07-16","RTT",{"$f":"IF(AND(YEAR(C250)=Calendrier!$BD$8,B250=Calendrier!$BD$11),MAX($E$2:E249)+1,\"\")","v":""}]
[null,"Guet Pierre","2020-07-17","RTT",{"$f":"IF(AND(YEAR(C251)=Calendrier!$BD$8,B251=Calendrier!$BD$11),MAX($E$2:E250)+1,\"\")","v":""}]
[null,"Fortune Alain","2020-07-15","CP",{"$f":"IF(AND(YEAR(C252)=Calendrier!$BD$8,B252=Calendrier!$BD$11),MAX($E$2:E251)+1,\"\")","v":1}]
[null,"Fortune Alain","2020-07-16","CP",{"$f":"IF(AND(YEAR(C253)=Calendrier!$BD$8,B253=Calendrier!$BD$11),MAX($E$2:E252)+1,\"\")","v":2}]
[null,"Fortune Alain","2020-07-17","CP",{"$f":"IF(AND(YEAR(C254)=Calendrier!$BD$8,B254=Calendrier!$BD$11),MAX($E$2:E253)+1,\"\")","v":3}]
[null,"Fortune Alain","2020-07-20","CP",{"$f":"IF(AND(YEAR(C255)=Calendrier!$BD$8,B255=Calendrier!$BD$11),MAX($E$2:E254)+1,\"\")","v":4}]
[null,"Fortune Alain","2020-07-21","CP",{"$f":"IF(AND(YEAR(C256)=Calendrier!$BD$8,B256=Calendrier!$BD$11),MAX($E$2:E255)+1,\"\")","v":5}]
[null,"Fortune Alain","2020-07-22","CP",{"$f":"IF(AND(YEAR(C257)=Calendrier!$BD$8,B257=Calendrier!$BD$11),MAX($E$2:E256)+1,\"\")","v":6}]
[null,"Fortune Alain","2020-07-23","CP",{"$f":"IF(AND(YEAR(C258)=Calendrier!$BD$8,B258=Calendrier!$BD$11),MAX($E$2:E257)+1,\"\")","v":7}]
[null,"Fortune Alain","2020-07-24","CP",{"$f":"IF(AND(YEAR(C259)=Calendrier!$BD$8,B259=Calendrier!$BD$11),MAX($E$2:E258)+1,\"\")","v":8}]
[null,"Fortune Alain","2020-07-27","CP",{"$f":"IF(AND(YEAR(C260)=Calendrier!$BD$8,B260=Calendrier!$BD$11),MAX($E$2:E259)+1,\"\")","v":9}]
[null,"Fortune Alain","2020-07-28","CP",{"$f":"IF(AND(YEAR(C261)=Calendrier!$BD$8,B261=Calendrier!$BD$11),MAX($E$2:E260)+1,\"\")","v":10}]
[null,"Fortune Alain","2020-07-29","CP",{"$f":"IF(AND(YEAR(C262)=Calendrier!$BD$8,B262=Calendrier!$BD$11),MAX($E$2:E261)+1,\"\")","v":11}]
[null,"Fortune Alain","2020-07-30","CP",{"$f":"IF(AND(YEAR(C263)=Calendrier!$BD$8,B263=Calendrier!$BD$11),MAX($E$2:E262)+1,\"\")","v":12}]
[null,"Fortune Alain","2020-07-31","CP",{"$f":"IF(AND(YEAR(C264)=Calendrier!$BD$8,B264=Calendrier!$BD$11),MAX($E$2:E263)+1,\"\")","v":13}]
[null,"Fortune Alain","2020-08-24","RTT",{"$f":"IF(AND(YEAR(C265)=Calendrier!$BD$8,B265=Calendrier!$BD$11),MAX($E$2:E264)+1,\"\")","v":14}]
[null,"Fortune Alain","2020-08-25","RTT",{"$f":"IF(AND(YEAR(C266)=Calendrier!$BD$8,B266=Calendrier!$BD$11),MAX($E$2:E265)+1,\"\")","v":15}]
[null,"Fortune Alain","2020-08-26","RTT",{"$f":"IF(AND(YEAR(C267)=Calendrier!$BD$8,B267=Calendrier!$BD$11),MAX($E$2:E266)+1,\"\")","v":16}]
[null,"Fortune Alain","2020-08-27","RTT",{"$f":"IF(AND(YEAR(C268)=Calendrier!$BD$8,B268=Calendrier!$BD$11),MAX($E$2:E267)+1,\"\")","v":17}]
[null,"Fortune Alain","2020-08-28","RTT",{"$f":"IF(AND(YEAR(C269)=Calendrier!$BD$8,B269=Calendrier!$BD$11),MAX($E$2:E268)+1,\"\")","v":18}]
[null,"Fortune Alain","2020-08-31","RTT",{"$f":"IF(AND(YEAR(C270)=Calendrier!$BD$8,B270=Calendrier!$BD$11),MAX($E$2:E269)+1,\"\")","v":19}]
[null,null,null,null,{"$f":"IF(AND(YEAR(C271)=Calendrier!$BD$8,B271=Calendrier!$BD$11),MAX($E$2:E270)+1,\"\")","v":""}]
[null,null,null,null,{"$f":"IF(AND(YEAR(C272)=Calendrier!$BD$8,B272=Calendrier!$BD$11),MAX($E$2:E271)+1,\"\")","v":""}]
[null,null,null,null,{"$f":"IF(AND(YEAR(C273)=Calendrier!$BD$8,B273=Calendrier!$BD$11),MAX($E$2:E272)+1,\"\")","v":""}]
[null,null,null,null,{"$f":"IF(AND(YEAR(C274)=Calendrier!$BD$8,B274=Calendrier!$BD$11),MAX($E$2:E273)+1,\"\")","v":""}]
[null,null,null,null,{"$f":"IF(AND(YEAR(C275)=Calendrier!$BD$8,B275=Calendrier!$BD$11),MAX($E$2:E274)+1,\"\")","v":""}]
[null,null,null,null,{"$f":"IF(AND(YEAR(C276)=Calendrier!$BD$8,B276=Calendrier!$BD$11),MAX($E$2:E275)+1,\"\")","v":""}]
[null,null,null,null,{"$f":"IF(AND(YEAR(C277)=Calendrier!$BD$8,B277=Calendrier!$BD$11),MAX($E$2:E276)+1,\"\")","v":""}]
[null,null,null,null,{"$f":"IF(AND(YEAR(C278)=Calendrier!$BD$8,B278=Calendrier!$BD$11),MAX($E$2:E277)+1,\"\")","v":""}]
[null,null,null,null,{"$f":"IF(AND(YEAR(C279)=Calendrier!$BD$8,B279=Calendrier!$BD$11),MAX($E$2:E278)+1,\"\")","v":""}]
[null,null,null,null,{"$f":"IF(AND(YEAR(C280)=Calendrier!$BD$8,B280=Calendrier!$BD$11),MAX($E$2:E279)+1,\"\")","v":""}]
[null,null,null,null,{"$f":"IF(AND(YEAR(C281)=Calendrier!$BD$8,B281=Calendrier!$BD$11),MAX($E$2:E280)+1,\"\")","v":""}]
[null,null,null,null,{"$f":"IF(AND(YEAR(C282)=Calendrier!$BD$8,B282=Calendrier!$BD$11),MAX($E$2:E281)+1,\"\")","v":""}]
[null,null,null,null,{"$f":"IF(AND(YEAR(C283)=Calendrier!$BD$8,B283=Calendrier!$BD$11),MAX($E$2:E282)+1,\"\")","v":""}]
[null,null,null,null,{"$f":"IF(AND(YEAR(C284)=Calendrier!$BD$8,B284=Calendrier!$BD$11),MAX($E$2:E283)+1,\"\")","v":""}]
[null,null,null,null,{"$f":"IF(AND(YEAR(C285)=Calendrier!$BD$8,B285=Calendrier!$BD$11),MAX($E$2:E284)+1,\"\")","v":""}]
[null,null,null,null,{"$f":"IF(AND(YEAR(C286)=Calendrier!$BD$8,B286=Calendrier!$BD$11),MAX($E$2:E285)+1,\"\")","v":""}]
[null,null,null,null,{"$f":"IF(AND(YEAR(C287)=Calendrier!$BD$8,B287=Calendrier!$BD$11),MAX($E$2:E286)+1,\"\")","v":""}]
[null,null,null,null,{"$f":"IF(AND(YEAR(C288)=Calendrier!$BD$8,B288=Calendrier!$BD$11),MAX($E$2:E287)+1,\"\")","v":""}]
[null,null,null,null,{"$f":"IF(AND(YEAR(C289)=Calendrier!$BD$8,B289=Calendrier!$BD$11),MAX($E$2:E288)+1,\"\")","v":""}]
[null,null,null,null,{"$f":"IF(AND(YEAR(C290)=Calendrier!$BD$8,B290=Calendrier!$BD$11),MAX($E$2:E289)+1,\"\")","v":""}]
[null,null,null,null,{"$f":"IF(AND(YEAR(C291)=Calendrier!$BD$8,B291=Calendrier!$BD$11),MAX($E$2:E290)+1,\"\")","v":""}]
[null,null,null,null,{"$f":"IF(AND(YEAR(C292)=Calendrier!$BD$8,B292=Calendrier!$BD$11),MAX($E$2:E291)+1,\"\")","v":""}]
[null,null,null,null,{"$f":"IF(AND(YEAR(C293)=Calendrier!$BD$8,B293=Calendrier!$BD$11),MAX($E$2:E292)+1,\"\")","v":""}]
[null,null,null,null,{"$f":"IF(AND(YEAR(C294)=Calendrier!$BD$8,B294=Calendrier!$BD$11),MAX($E$2:E293)+1,\"\")","v":""}]
[null,null,null,null,{"$f":"IF(AND(YEAR(C295)=Calendrier!$BD$8,B295=Calendrier!$BD$11),MAX($E$2:E294)+1,\"\")","v":""}]
[null,null,null,null,{"$f":"IF(AND(YEAR(C296)=Calendrier!$BD$8,B296=Calendrier!$BD$11),MAX($E$2:E295)+1,\"\")","v":""}]
[null,null,null,null,{"$f":"IF(AND(YEAR(C297)=Calendrier!$BD$8,B297=Calendrier!$BD$11),MAX($E$2:E296)+1,\"\")","v":""}]
[null,null,null,null,{"$f":"IF(AND(YEAR(C298)=Calendrier!$BD$8,B298=Calendrier!$BD$11),MAX($E$2:E297)+1,\"\")","v":""}]
[null,null,null,null,{"$f":"IF(AND(YEAR(C299)=Calendrier!$BD$8,B299=Calendrier!$BD$11),MAX($E$2:E298)+1,\"\")","v":""}]
[null,null,null,null,{"$f":"IF(AND(YEAR(C300)=Calendrier!$BD$8,B300=Calendrier!$BD$11),MAX($E$2:E299)+1,\"\")","v":""}]
[null,null,null,null,{"$f":"IF(AND(YEAR(C301)=Calendrier!$BD$8,B301=Calendrier!$BD$11),MAX($E$2:E300)+1,\"\")","v":""}]
[null,null,null,null,{"$f":"IF(AND(YEAR(C302)=Calendrier!$BD$8,B302=Calendrier!$BD$11),MAX($E$2:E301)+1,\"\")","v":""}]
[null,null,null,null,{"$f":"IF(AND(YEAR(C303)=Calendrier!$BD$8,B303=Calendrier!$BD$11),MAX($E$2:E302)+1,\"\")","v":""}]
[null,null,null,null,{"$f":"IF(AND(YEAR(C304)=Calendrier!$BD$8,B304=Calendrier!$BD$11),MAX($E$2:E303)+1,\"\")","v":""}]
[null,null,null,null,{"$f":"IF(AND(YEAR(C305)=Calendrier!$BD$8,B305=Calendrier!$BD$11),MAX($E$2:E304)+1,\"\")","v":""}]
[null,null,null,null,{"$f":"IF(AND(YEAR(C306)=Calendrier!$BD$8,B306=Calendrier!$BD$11),MAX($E$2:E305)+1,\"\")","v":""}]
[null,null,null,null,{"$f":"IF(AND(YEAR(C307)=Calendrier!$BD$8,B307=Calendrier!$BD$11),MAX($E$2:E306)+1,\"\")","v":""}]
[null,null,null,null,{"$f":"IF(AND(YEAR(C308)=Calendrier!$BD$8,B308=Calendrier!$BD$11),MAX($E$2:E307)+1,\"\")","v":""}]
[null,null,null,null,{"$f":"IF(AND(YEAR(C309)=Calendrier!$BD$8,B309=Calendrier!$BD$11),MAX($E$2:E308)+1,\"\")","v":""}]
[null,null,null,null,{"$f":"IF(AND(YEAR(C310)=Calendrier!$BD$8,B310=Calendrier!$BD$11),MAX($E$2:E309)+1,\"\")","v":""}]
[null,null,null,null,{"$f":"IF(AND(YEAR(C311)=Calendrier!$BD$8,B311=Calendrier!$BD$11),MAX($E$2:E310)+1,\"\")","v":""}]
[null,null,null,null,{"$f":"IF(AND(YEAR(C312)=Calendrier!$BD$8,B312=Calendrier!$BD$11),MAX($E$2:E311)+1,\"\")","v":""}]
[null,null,null,null,{"$f":"IF(AND(YEAR(C313)=Calendrier!$BD$8,B313=Calendrier!$BD$11),MAX($E$2:E312)+1,\"\")","v":""}]
[null,null,null,null,{"$f":"IF(AND(YEAR(C314)=Calendrier!$BD$8,B314=Calendrier!$BD$11),MAX($E$2:E313)+1,\"\")","v":""}]
[null,null,null,null,{"$f":"IF(AND(YEAR(C315)=Calendrier!$BD$8,B315=Calendrier!$BD$11),MAX($E$2:E314)+1,\"\")","v":""}]
[null,null,null,null,{"$f":"IF(AND(YEAR(C316)=Calendrier!$BD$8,B316=Calendrier!$BD$11),MAX($E$2:E315)+1,\"\")","v":""}]
[null,null,null,null,{"$f":"IF(AND(YEAR(C317)=Calendrier!$BD$8,B317=Calendrier!$BD$11),MAX($E$2:E316)+1,\"\")","v":""}]
[null,null,null,null,{"$f":"IF(AND(YEAR(C318)=Calendrier!$BD$8,B318=Calendrier!$BD$11),MAX($E$2:E317)+1,\"\")","v":""}]
[null,null,null,null,{"$f":"IF(AND(YEAR(C319)=Calendrier!$BD$8,B319=Calendrier!$BD$11),MAX($E$2:E318)+1,\"\")","v":""}]
[null,null,null,null,{"$f":"IF(AND(YEAR(C320)=Calendrier!$BD$8,B320=Calendrier!$BD$11),MAX($E$2:E319)+1,\"\")","v":""}]
[null,null,null,null,{"$f":"IF(AND(YEAR(C321)=Calendrier!$BD$8,B321=Calendrier!$BD$11),MAX($E$2:E320)+1,\"\")","v":""}]
[null,null,null,null,{"$f":"IF(AND(YEAR(C322)=Calendrier!$BD$8,B322=Calendrier!$BD$11),MAX($E$2:E321)+1,\"\")","v":""}]
[null,null,null,null,{"$f":"IF(AND(YEAR(C323)=Calendrier!$BD$8,B323=Calendrier!$BD$11),MAX($E$2:E322)+1,\"\")","v":""}]
[null,null,null,null,{"$f":"IF(AND(YEAR(C324)=Calendrier!$BD$8,B324=Calendrier!$BD$11),MAX($E$2:E323)+1,\"\")","v":""}]
[null,null,null,null,{"$f":"IF(AND(YEAR(C325)=Calendrier!$BD$8,B325=Calendrier!$BD$11),MAX($E$2:E324)+1,\"\")","v":""}]
[null,null,null,null,{"$f":"IF(AND(YEAR(C326)=Calendrier!$BD$8,B326=Calendrier!$BD$11),MAX($E$2:E325)+1,\"\")","v":""}]
[null,null,null,null,{"$f":"IF(AND(YEAR(C327)=Calendrier!$BD$8,B327=Calendrier!$BD$11),MAX($E$2:E326)+1,\"\")","v":""}]
[null,null,null,null,{"$f":"IF(AND(YEAR(C328)=Calendrier!$BD$8,B328=Calendrier!$BD$11),MAX($E$2:E327)+1,\"\")","v":""}]
[null,null,null,null,{"$f":"IF(AND(YEAR(C329)=Calendrier!$BD$8,B329=Calendrier!$BD$11),MAX($E$2:E328)+1,\"\")","v":""}]
[null,null,null,null,{"$f":"IF(AND(YEAR(C330)=Calendrier!$BD$8,B330=Calendrier!$BD$11),MAX($E$2:E329)+1,\"\")","v":""}]
[null,null,null,null,{"$f":"IF(AND(YEAR(C331)=Calendrier!$BD$8,B331=Calendrier!$BD$11),MAX($E$2:E330)+1,\"\")","v":""}]
[null,null,null,null,{"$f":"IF(AND(YEAR(C332)=Calendrier!$BD$8,B332=Calendrier!$BD$11),MAX($E$2:E331)+1,\"\")","v":""}]
[null,null,null,null,{"$f":"IF(AND(YEAR(C333)=Calendrier!$BD$8,B333=Calendrier!$BD$11),MAX($E$2:E332)+1,\"\")","v":""}]
[null,null,null,null,{"$f":"IF(AND(YEAR(C334)=Calendrier!$BD$8,B334=Calendrier!$BD$11),MAX($E$2:E333)+1,\"\")","v":""}]
[null,null,null,null,{"$f":"IF(AND(YEAR(C335)=Calendrier!$BD$8,B335=Calendrier!$BD$11),MAX($E$2:E334)+1,\"\")","v":""}]
[null,null,null,null,{"$f":"IF(AND(YEAR(C336)=Calendrier!$BD$8,B336=Calendrier!$BD$11),MAX($E$2:E335)+1,\"\")","v":""}]
[null,null,null,null,{"$f":"IF(AND(YEAR(C337)=Calendrier!$BD$8,B337=Calendrier!$BD$11),MAX($E$2:E336)+1,\"\")","v":""}]
[null,null,null,null,{"$f":"IF(AND(YEAR(C338)=Calendrier!$BD$8,B338=Calendrier!$BD$11),MAX($E$2:E337)+1,\"\")","v":""}]
[null,null,null,null,{"$f":"IF(AND(YEAR(C339)=Calendrier!$BD$8,B339=Calendrier!$BD$11),MAX($E$2:E338)+1,\"\")","v":""}]
[null,null,null,null,{"$f":"IF(AND(YEAR(C340)=Calendrier!$BD$8,B340=Calendrier!$BD$11),MAX($E$2:E339)+1,\"\")","v":""}]
[null,null,null,null,{"$f":"IF(AND(YEAR(C341)=Calendrier!$BD$8,B341=Calendrier!$BD$11),MAX($E$2:E340)+1,\"\")","v":""}]
[null,null,null,null,{"$f":"IF(AND(YEAR(C342)=Calendrier!$BD$8,B342=Calendrier!$BD$11),MAX($E$2:E341)+1,\"\")","v":""}]
[null,null,null,null,{"$f":"IF(AND(YEAR(C343)=Calendrier!$BD$8,B343=Calendrier!$BD$11),MAX($E$2:E342)+1,\"\")","v":""}]
[null,null,null,null,{"$f":"IF(AND(YEAR(C344)=Calendrier!$BD$8,B344=Calendrier!$BD$11),MAX($E$2:E343)+1,\"\")","v":""}]
[null,null,null,null,{"$f":"IF(AND(YEAR(C345)=Calendrier!$BD$8,B345=Calendrier!$BD$11),MAX($E$2:E344)+1,\"\")","v":""}]
[null,null,null,null,{"$f":"IF(AND(YEAR(C346)=Calendrier!$BD$8,B346=Calendrier!$BD$11),MAX($E$2:E345)+1,\"\")","v":""}]
[null,null,null,null,{"$f":"IF(AND(YEAR(C347)=Calendrier!$BD$8,B347=Calendrier!$BD$11),MAX($E$2:E346)+1,\"\")","v":""}]
[null,null,null,null,{"$f":"IF(AND(YEAR(C348)=Calendrier!$BD$8,B348=Calendrier!$BD$11),MAX($E$2:E347)+1,\"\")","v":""}]
[null,null,null,null,{"$f":"IF(AND(YEAR(C349)=Calendrier!$BD$8,B349=Calendrier!$BD$11),MAX($E$2:E348)+1,\"\")","v":""}]
[null,null,null,null,{"$f":"IF(AND(YEAR(C350)=Calendrier!$BD$8,B350=Calendrier!$BD$11),MAX($E$2:E349)+1,\"\")","v":""}]
[null,null,null,null,{"$f":"IF(AND(YEAR(C351)=Calendrier!$BD$8,B351=Calendrier!$BD$11),MAX($E$2:E350)+1,\"\")","v":""}]
[null,null,null,null,{"$f":"IF(AND(YEAR(C352)=Calendrier!$BD$8,B352=Calendrier!$BD$11),MAX($E$2:E351)+1,\"\")","v":""}]
[null,null,null,null,{"$f":"IF(AND(YEAR(C353)=Calendrier!$BD$8,B353=Calendrier!$BD$11),MAX($E$2:E352)+1,\"\")","v":""}]
[null,null,null,null,{"$f":"IF(AND(YEAR(C354)=Calendrier!$BD$8,B354=Calendrier!$BD$11),MAX($E$2:E353)+1,\"\")","v":""}]
[null,null,null,null,{"$f":"IF(AND(YEAR(C355)=Calendrier!$BD$8,B355=Calendrier!$BD$11),MAX($E$2:E354)+1,\"\")","v":""}]
[null,null,null,null,{"$f":"IF(AND(YEAR(C356)=Calendrier!$BD$8,B356=Calendrier!$BD$11),MAX($E$2:E355)+1,\"\")","v":""}]
[null,null,null,null,{"$f":"IF(AND(YEAR(C357)=Calendrier!$BD$8,B357=Calendrier!$BD$11),MAX($E$2:E356)+1,\"\")","v":""}]
[null,null,null,null,{"$f":"IF(AND(YEAR(C358)=Calendrier!$BD$8,B358=Calendrier!$BD$11),MAX($E$2:E357)+1,\"\")","v":""}]
[null,null,null,null,{"$f":"IF(AND(YEAR(C359)=Calendrier!$BD$8,B359=Calendrier!$BD$11),MAX($E$2:E358)+1,\"\")","v":""}]
[null,null,null,null,{"$f":"IF(AND(YEAR(C360)=Calendrier!$BD$8,B360=Calendrier!$BD$11),MAX($E$2:E359)+1,\"\")","v":""}]
[null,null,null,null,{"$f":"IF(AND(YEAR(C361)=Calendrier!$BD$8,B361=Calendrier!$BD$11),MAX($E$2:E360)+1,\"\")","v":""}]
[null,null,null,null,{"$f":"IF(AND(YEAR(C362)=Calendrier!$BD$8,B362=Calendrier!$BD$11),MAX($E$2:E361)+1,\"\")","v":""}]
[null,null,null,null,{"$f":"IF(AND(YEAR(C363)=Calendrier!$BD$8,B363=Calendrier!$BD$11),MAX($E$2:E362)+1,\"\")","v":""}]
[null,null,null,null,{"$f":"IF(AND(YEAR(C364)=Calendrier!$BD$8,B364=Calendrier!$BD$11),MAX($E$2:E363)+1,\"\")","v":""}]
[null,null,null,null,{"$f":"IF(AND(YEAR(C365)=Calendrier!$BD$8,B365=Calendrier!$BD$11),MAX($E$2:E364)+1,\"\")","v":""}]
[null,null,null,null,{"$f":"IF(AND(YEAR(C366)=Calendrier!$BD$8,B366=Calendrier!$BD$11),MAX($E$2:E365)+1,\"\")","v":""}]
[null,null,null,null,{"$f":"IF(AND(YEAR(C367)=Calendrier!$BD$8,B367=Calendrier!$BD$11),MAX($E$2:E366)+1,\"\")","v":""}]
[null,null,null,null,{"$f":"IF(AND(YEAR(C368)=Calendrier!$BD$8,B368=Calendrier!$BD$11),MAX($E$2:E367)+1,\"\")","v":""}]
[null,null,null,null,{"$f":"IF(AND(YEAR(C369)=Calendrier!$BD$8,B369=Calendrier!$BD$11),MAX($E$2:E368)+1,\"\")","v":""}]
[null,null,null,null,{"$f":"IF(AND(YEAR(C370)=Calendrier!$BD$8,B370=Calendrier!$BD$11),MAX($E$2:E369)+1,\"\")","v":""}]
[null,null,null,null,{"$f":"IF(AND(YEAR(C371)=Calendrier!$BD$8,B371=Calendrier!$BD$11),MAX($E$2:E370)+1,\"\")","v":""}]
[null,null,null,null,{"$f":"IF(AND(YEAR(C372)=Calendrier!$BD$8,B372=Calendrier!$BD$11),MAX($E$2:E371)+1,\"\")","v":""}]
[null,null,null,null,{"$f":"IF(AND(YEAR(C373)=Calendrier!$BD$8,B373=Calendrier!$BD$11),MAX($E$2:E372)+1,\"\")","v":""}]
[null,null,null,null,{"$f":"IF(AND(YEAR(C374)=Calendrier!$BD$8,B374=Calendrier!$BD$11),MAX($E$2:E373)+1,\"\")","v":""}]
[null,null,null,null,{"$f":"IF(AND(YEAR(C375)=Calendrier!$BD$8,B375=Calendrier!$BD$11),MAX($E$2:E374)+1,\"\")","v":""}]
[null,null,null,null,{"$f":"IF(AND(YEAR(C376)=Calendrier!$BD$8,B376=Calendrier!$BD$11),MAX($E$2:E375)+1,\"\")","v":""}]
[null,null,null,null,{"$f":"IF(AND(YEAR(C377)=Calendrier!$BD$8,B377=Calendrier!$BD$11),MAX($E$2:E376)+1,\"\")","v":""}]
[null,null,null,null,{"$f":"IF(AND(YEAR(C378)=Calendrier!$BD$8,B378=Calendrier!$BD$11),MAX($E$2:E377)+1,\"\")","v":""}]
[null,null,null,null,{"$f":"IF(AND(YEAR(C379)=Calendrier!$BD$8,B379=Calendrier!$BD$11),MAX($E$2:E378)+1,\"\")","v":""}]
[null,null,null,null,{"$f":"IF(AND(YEAR(C380)=Calendrier!$BD$8,B380=Calendrier!$BD$11),MAX($E$2:E379)+1,\"\")","v":""}]
[null,null,null,null,{"$f":"IF(AND(YEAR(C381)=Calendrier!$BD$8,B381=Calendrier!$BD$11),MAX($E$2:E380)+1,\"\")","v":""}]
[null,null,null,null,{"$f":"IF(AND(YEAR(C382)=Calendrier!$BD$8,B382=Calendrier!$BD$11),MAX($E$2:E381)+1,\"\")","v":""}]
[null,null,null,null,{"$f":"IF(AND(YEAR(C383)=Calendrier!$BD$8,B383=Calendrier!$BD$11),MAX($E$2:E382)+1,\"\")","v":""}]
[null,null,null,null,{"$f":"IF(AND(YEAR(C384)=Calendrier!$BD$8,B384=Calendrier!$BD$11),MAX($E$2:E383)+1,\"\")","v":""}]
[null,null,null,null,{"$f":"IF(AND(YEAR(C385)=Calendrier!$BD$8,B385=Calendrier!$BD$11),MAX($E$2:E384)+1,\"\")","v":""}]
[null,null,null,null,{"$f":"IF(AND(YEAR(C386)=Calendrier!$BD$8,B386=Calendrier!$BD$11),MAX($E$2:E385)+1,\"\")","v":""}]
[null,null,null,null,{"$f":"IF(AND(YEAR(C387)=Calendrier!$BD$8,B387=Calendrier!$BD$11),MAX($E$2:E386)+1,\"\")","v":""}]
[null,null,null,null,{"$f":"IF(AND(YEAR(C388)=Calendrier!$BD$8,B388=Calendrier!$BD$11),MAX($E$2:E387)+1,\"\")","v":""}]
[null,null,null,null,{"$f":"IF(AND(YEAR(C389)=Calendrier!$BD$8,B389=Calendrier!$BD$11),MAX($E$2:E388)+1,\"\")","v":""}]
[null,null,null,null,{"$f":"IF(AND(YEAR(C390)=Calendrier!$BD$8,B390=Calendrier!$BD$11),MAX($E$2:E389)+1,\"\")","v":""}]
[null,null,null,null,{"$f":"IF(AND(YEAR(C391)=Calendrier!$BD$8,B391=Calendrier!$BD$11),MAX($E$2:E390)+1,\"\")","v":""}]
[null,null,null,null,{"$f":"IF(AND(YEAR(C392)=Calendrier!$BD$8,B392=Calendrier!$BD$11),MAX($E$2:E391)+1,\"\")","v":""}]
[null,null,null,null,{"$f":"IF(AND(YEAR(C393)=Calendrier!$BD$8,B393=Calendrier!$BD$11),MAX($E$2:E392)+1,\"\")","v":""}]
[null,null,null,null,{"$f":"IF(AND(YEAR(C394)=Calendrier!$BD$8,B394=Calendrier!$BD$11),MAX($E$2:E393)+1,\"\")","v":""}]
[null,null,null,null,{"$f":"IF(AND(YEAR(C395)=Calendrier!$BD$8,B395=Calendrier!$BD$11),MAX($E$2:E394)+1,\"\")","v":""}]
[null,null,null,null,{"$f":"IF(AND(YEAR(C396)=Calendrier!$BD$8,B396=Calendrier!$BD$11),MAX($E$2:E395)+1,\"\")","v":""}]
[null,null,null,null,{"$f":"IF(AND(YEAR(C397)=Calendrier!$BD$8,B397=Calendrier!$BD$11),MAX($E$2:E396)+1,\"\")","v":""}]
[null,null,null,null,{"$f":"IF(AND(YEAR(C398)=Calendrier!$BD$8,B398=Calendrier!$BD$11),MAX($E$2:E397)+1,\"\")","v":""}]
[null,null,null,null,{"$f":"IF(AND(YEAR(C399)=Calendrier!$BD$8,B399=Calendrier!$BD$11),MAX($E$2:E398)+1,\"\")","v":""}]
[null,null,null,null,{"$f":"IF(AND(YEAR(C400)=Calendrier!$BD$8,B400=Calendrier!$BD$11),MAX($E$2:E399)+1,\"\")","v":""}]
[null,null,null,null,{"$f":"IF(AND(YEAR(C401)=Calendrier!$BD$8,B401=Calendrier!$BD$11),MAX($E$2:E400)+1,\"\")","v":""}]
[null,null,null,null,{"$f":"IF(AND(YEAR(C402)=Calendrier!$BD$8,B402=Calendrier!$BD$11),MAX($E$2:E401)+1,\"\")","v":""}]
[null,null,null,null,{"$f":"IF(AND(YEAR(C403)=Calendrier!$BD$8,B403=Calendrier!$BD$11),MAX($E$2:E402)+1,\"\")","v":""}]
[null,null,null,null,{"$f":"IF(AND(YEAR(C404)=Calendrier!$BD$8,B404=Calendrier!$BD$11),MAX($E$2:E403)+1,\"\")","v":""}]
[null,null,null,null,{"$f":"IF(AND(YEAR(C405)=Calendrier!$BD$8,B405=Calendrier!$BD$11),MAX($E$2:E404)+1,\"\")","v":""}]
[null,null,null,null,{"$f":"IF(AND(YEAR(C406)=Calendrier!$BD$8,B406=Calendrier!$BD$11),MAX($E$2:E405)+1,\"\")","v":""}]
[null,null,null,null,{"$f":"IF(AND(YEAR(C407)=Calendrier!$BD$8,B407=Calendrier!$BD$11),MAX($E$2:E406)+1,\"\")","v":""}]
[null,null,null,null,{"$f":"IF(AND(YEAR(C408)=Calendrier!$BD$8,B408=Calendrier!$BD$11),MAX($E$2:E407)+1,\"\")","v":""}]
[null,null,null,null,{"$f":"IF(AND(YEAR(C409)=Calendrier!$BD$8,B409=Calendrier!$BD$11),MAX($E$2:E408)+1,\"\")","v":""}]
[null,null,null,null,{"$f":"IF(AND(YEAR(C410)=Calendrier!$BD$8,B410=Calendrier!$BD$11),MAX($E$2:E409)+1,\"\")","v":""}]
[null,null,null,null,{"$f":"IF(AND(YEAR(C411)=Calendrier!$BD$8,B411=Calendrier!$BD$11),MAX($E$2:E410)+1,\"\")","v":""}]
[null,null,null,null,{"$f":"IF(AND(YEAR(C412)=Calendrier!$BD$8,B412=Calendrier!$BD$11),MAX($E$2:E411)+1,\"\")","v":""}]
[null,null,null,null,{"$f":"IF(AND(YEAR(C413)=Calendrier!$BD$8,B413=Calendrier!$BD$11),MAX($E$2:E412)+1,\"\")","v":""}]
[null,null,null,null,{"$f":"IF(AND(YEAR(C414)=Calendrier!$BD$8,B414=Calendrier!$BD$11),MAX($E$2:E413)+1,\"\")","v":""}]
[null,null,null,null,{"$f":"IF(AND(YEAR(C415)=Calendrier!$BD$8,B415=Calendrier!$BD$11),MAX($E$2:E414)+1,\"\")","v":""}]
[null,null,null,null,{"$f":"IF(AND(YEAR(C416)=Calendrier!$BD$8,B416=Calendrier!$BD$11),MAX($E$2:E415)+1,\"\")","v":""}]
[null,null,null,null,{"$f":"IF(AND(YEAR(C417)=Calendrier!$BD$8,B417=Calendrier!$BD$11),MAX($E$2:E416)+1,\"\")","v":""}]
[null,null,null,null,{"$f":"IF(AND(YEAR(C418)=Calendrier!$BD$8,B418=Calendrier!$BD$11),MAX($E$2:E417)+1,\"\")","v":""}]
[null,null,null,null,{"$f":"IF(AND(YEAR(C419)=Calendrier!$BD$8,B419=Calendrier!$BD$11),MAX($E$2:E418)+1,\"\")","v":""}]
[null,null,null,null,{"$f":"IF(AND(YEAR(C420)=Calendrier!$BD$8,B420=Calendrier!$BD$11),MAX($E$2:E419)+1,\"\")","v":""}]
[null,null,null,null,{"$f":"IF(AND(YEAR(C421)=Calendrier!$BD$8,B421=Calendrier!$BD$11),MAX($E$2:E420)+1,\"\")","v":""}]
[null,null,null,null,{"$f":"IF(AND(YEAR(C422)=Calendrier!$BD$8,B422=Calendrier!$BD$11),MAX($E$2:E421)+1,\"\")","v":""}]
[null,null,null,null,{"$f":"IF(AND(YEAR(C423)=Calendrier!$BD$8,B423=Calendrier!$BD$11),MAX($E$2:E422)+1,\"\")","v":""}]
[null,null,null,null,{"$f":"IF(AND(YEAR(C424)=Calendrier!$BD$8,B424=Calendrier!$BD$11),MAX($E$2:E423)+1,\"\")","v":""}]
[null,null,null,null,{"$f":"IF(AND(YEAR(C425)=Calendrier!$BD$8,B425=Calendrier!$BD$11),MAX($E$2:E424)+1,\"\")","v":""}]
[null,null,null,null,{"$f":"IF(AND(YEAR(C426)=Calendrier!$BD$8,B426=Calendrier!$BD$11),MAX($E$2:E425)+1,\"\")","v":""}]
[null,null,null,null,{"$f":"IF(AND(YEAR(C427)=Calendrier!$BD$8,B427=Calendrier!$BD$11),MAX($E$2:E426)+1,\"\")","v":""}]
[null,null,null,null,{"$f":"IF(AND(YEAR(C428)=Calendrier!$BD$8,B428=Calendrier!$BD$11),MAX($E$2:E427)+1,\"\")","v":""}]
[null,null,null,null,{"$f":"IF(AND(YEAR(C429)=Calendrier!$BD$8,B429=Calendrier!$BD$11),MAX($E$2:E428)+1,\"\")","v":""}]
[null,null,null,null,{"$f":"IF(AND(YEAR(C430)=Calendrier!$BD$8,B430=Calendrier!$BD$11),MAX($E$2:E429)+1,\"\")","v":""}]
[null,null,null,null,{"$f":"IF(AND(YEAR(C431)=Calendrier!$BD$8,B431=Calendrier!$BD$11),MAX($E$2:E430)+1,\"\")","v":""}]
[null,null,null,null,{"$f":"IF(AND(YEAR(C432)=Calendrier!$BD$8,B432=Calendrier!$BD$11),MAX($E$2:E431)+1,\"\")","v":""}]
[null,null,null,null,{"$f":"IF(AND(YEAR(C433)=Calendrier!$BD$8,B433=Calendrier!$BD$11),MAX($E$2:E432)+1,\"\")","v":""}]
[null,null,null,null,{"$f":"IF(AND(YEAR(C434)=Calendrier!$BD$8,B434=Calendrier!$BD$11),MAX($E$2:E433)+1,\"\")","v":""}]
[null,null,null,null,{"$f":"IF(AND(YEAR(C435)=Calendrier!$BD$8,B435=Calendrier!$BD$11),MAX($E$2:E434)+1,\"\")","v":""}]
[null,null,null,null,{"$f":"IF(AND(YEAR(C436)=Calendrier!$BD$8,B436=Calendrier!$BD$11),MAX($E$2:E435)+1,\"\")","v":""}]
[null,null,null,null,{"$f":"IF(AND(YEAR(C437)=Calendrier!$BD$8,B437=Calendrier!$BD$11),MAX($E$2:E436)+1,\"\")","v":""}]
[null,null,null,null,{"$f":"IF(AND(YEAR(C438)=Calendrier!$BD$8,B438=Calendrier!$BD$11),MAX($E$2:E437)+1,\"\")","v":""}]
[null,null,null,null,{"$f":"IF(AND(YEAR(C439)=Calendrier!$BD$8,B439=Calendrier!$BD$11),MAX($E$2:E438)+1,\"\")","v":""}]
[null,null,null,null,{"$f":"IF(AND(YEAR(C440)=Calendrier!$BD$8,B440=Calendrier!$BD$11),MAX($E$2:E439)+1,\"\")","v":""}]
[null,null,null,null,{"$f":"IF(AND(YEAR(C441)=Calendrier!$BD$8,B441=Calendrier!$BD$11),MAX($E$2:E440)+1,\"\")","v":""}]
[null,null,null,null,{"$f":"IF(AND(YEAR(C442)=Calendrier!$BD$8,B442=Calendrier!$BD$11),MAX($E$2:E441)+1,\"\")","v":""}]
[null,null,null,null,{"$f":"IF(AND(YEAR(C443)=Calendrier!$BD$8,B443=Calendrier!$BD$11),MAX($E$2:E442)+1,\"\")","v":""}]
[null,null,null,null,{"$f":"IF(AND(YEAR(C444)=Calendrier!$BD$8,B444=Calendrier!$BD$11),MAX($E$2:E443)+1,\"\")","v":""}]
[null,null,null,null,{"$f":"IF(AND(YEAR(C445)=Calendrier!$BD$8,B445=Calendrier!$BD$11),MAX($E$2:E444)+1,\"\")","v":""}]
[null,null,null,null,{"$f":"IF(AND(YEAR(C446)=Calendrier!$BD$8,B446=Calendrier!$BD$11),MAX($E$2:E445)+1,\"\")","v":""}]
[null,null,null,null,{"$f":"IF(AND(YEAR(C447)=Calendrier!$BD$8,B447=Calendrier!$BD$11),MAX($E$2:E446)+1,\"\")","v":""}]
[null,null,null,null,{"$f":"IF(AND(YEAR(C448)=Calendrier!$BD$8,B448=Calendrier!$BD$11),MAX($E$2:E447)+1,\"\")","v":""}]
[null,null,null,null,{"$f":"IF(AND(YEAR(C449)=Calendrier!$BD$8,B449=Calendrier!$BD$11),MAX($E$2:E448)+1,\"\")","v":""}]
[null,null,null,null,{"$f":"IF(AND(YEAR(C450)=Calendrier!$BD$8,B450=Calendrier!$BD$11),MAX($E$2:E449)+1,\"\")","v":""}]
[null,null,null,null,{"$f":"IF(AND(YEAR(C451)=Calendrier!$BD$8,B451=Calendrier!$BD$11),MAX($E$2:E450)+1,\"\")","v":""}]
[null,null,null,null,{"$f":"IF(AND(YEAR(C452)=Calendrier!$BD$8,B452=Calendrier!$BD$11),MAX($E$2:E451)+1,\"\")","v":""}]
[null,null,null,null,{"$f":"IF(AND(YEAR(C453)=Calendrier!$BD$8,B453=Calendrier!$BD$11),MAX($E$2:E452)+1,\"\")","v":""}]
[null,null,null,null,{"$f":"IF(AND(YEAR(C454)=Calendrier!$BD$8,B454=Calendrier!$BD$11),MAX($E$2:E453)+1,\"\")","v":""}]
[null,null,null,null,{"$f":"IF(AND(YEAR(C455)=Calendrier!$BD$8,B455=Calendrier!$BD$11),MAX($E$2:E454)+1,\"\")","v":""}]
[null,null,null,null,{"$f":"IF(AND(YEAR(C456)=Calendrier!$BD$8,B456=Calendrier!$BD$11),MAX($E$2:E455)+1,\"\")","v":""}]
[null,null,null,null,{"$f":"IF(AND(YEAR(C457)=Calendrier!$BD$8,B457=Calendrier!$BD$11),MAX($E$2:E456)+1,\"\")","v":""}]
[null,null,null,null,{"$f":"IF(AND(YEAR(C458)=Calendrier!$BD$8,B458=Calendrier!$BD$11),MAX($E$2:E457)+1,\"\")","v":""}]
[null,null,null,null,{"$f":"IF(AND(YEAR(C459)=Calendrier!$BD$8,B459=Calendrier!$BD$11),MAX($E$2:E458)+1,\"\")","v":""}]
[null,null,null,null,{"$f":"IF(AND(YEAR(C460)=Calendrier!$BD$8,B460=Calendrier!$BD$11),MAX($E$2:E459)+1,\"\")","v":""}]
[null,null,null,null,{"$f":"IF(AND(YEAR(C461)=Calendrier!$BD$8,B461=Calendrier!$BD$11),MAX($E$2:E460)+1,\"\")","v":""}]
[null,null,null,null,{"$f":"IF(AND(YEAR(C462)=Calendrier!$BD$8,B462=Calendrier!$BD$11),MAX($E$2:E461)+1,\"\")","v":""}]
[null,null,null,null,{"$f":"IF(AND(YEAR(C463)=Calendrier!$BD$8,B463=Calendrier!$BD$11),MAX($E$2:E462)+1,\"\")","v":""}]
[null,null,null,null,{"$f":"IF(AND(YEAR(C464)=Calendrier!$BD$8,B464=Calendrier!$BD$11),MAX($E$2:E463)+1,\"\")","v":""}]
[null,null,null,null,{"$f":"IF(AND(YEAR(C465)=Calendrier!$BD$8,B465=Calendrier!$BD$11),MAX($E$2:E464)+1,\"\")","v":""}]
[null,null,null,null,{"$f":"IF(AND(YEAR(C466)=Calendrier!$BD$8,B466=Calendrier!$BD$11),MAX($E$2:E465)+1,\"\")","v":""}]
[null,null,null,null,{"$f":"IF(AND(YEAR(C467)=Calendrier!$BD$8,B467=Calendrier!$BD$11),MAX($E$2:E466)+1,\"\")","v":""}]
[null,null,null,null,{"$f":"IF(AND(YEAR(C468)=Calendrier!$BD$8,B468=Calendrier!$BD$11),MAX($E$2:E467)+1,\"\")","v":""}]
[null,null,null,null,{"$f":"IF(AND(YEAR(C469)=Calendrier!$BD$8,B469=Calendrier!$BD$11),MAX($E$2:E468)+1,\"\")","v":""}]
[null,null,null,null,{"$f":"IF(AND(YEAR(C470)=Calendrier!$BD$8,B470=Calendrier!$BD$11),MAX($E$2:E469)+1,\"\")","v":""}]
[null,null,null,null,{"$f":"IF(AND(YEAR(C471)=Calendrier!$BD$8,B471=Calendrier!$BD$11),MAX($E$2:E470)+1,\"\")","v":""}]
[null,null,null,null,{"$f":"IF(AND(YEAR(C472)=Calendrier!$BD$8,B472=Calendrier!$BD$11),MAX($E$2:E471)+1,\"\")","v":""}]
[null,null,null,null,{"$f":"IF(AND(YEAR(C473)=Calendrier!$BD$8,B473=Calendrier!$BD$11),MAX($E$2:E472)+1,\"\")","v":""}]
[null,null,null,null,{"$f":"IF(AND(YEAR(C474)=Calendrier!$BD$8,B474=Calendrier!$BD$11),MAX($E$2:E473)+1,\"\")","v":""}]
[null,null,null,null,{"$f":"IF(AND(YEAR(C475)=Calendrier!$BD$8,B475=Calendrier!$BD$11),MAX($E$2:E474)+1,\"\")","v":""}]
[null,null,null,null,{"$f":"IF(AND(YEAR(C476)=Calendrier!$BD$8,B476=Calendrier!$BD$11),MAX($E$2:E475)+1,\"\")","v":""}]
[null,null,null,null,{"$f":"IF(AND(YEAR(C477)=Calendrier!$BD$8,B477=Calendrier!$BD$11),MAX($E$2:E476)+1,\"\")","v":""}]
[null,null,null,null,{"$f":"IF(AND(YEAR(C478)=Calendrier!$BD$8,B478=Calendrier!$BD$11),MAX($E$2:E477)+1,\"\")","v":""}]
[null,null,null,null,{"$f":"IF(AND(YEAR(C479)=Calendrier!$BD$8,B479=Calendrier!$BD$11),MAX($E$2:E478)+1,\"\")","v":""}]
[null,null,null,null,{"$f":"IF(AND(YEAR(C480)=Calendrier!$BD$8,B480=Calendrier!$BD$11),MAX($E$2:E479)+1,\"\")","v":""}]
[null,null,null,null,{"$f":"IF(AND(YEAR(C481)=Calendrier!$BD$8,B481=Calendrier!$BD$11),MAX($E$2:E480)+1,\"\")","v":""}]
[null,null,null,null,{"$f":"IF(AND(YEAR(C482)=Calendrier!$BD$8,B482=Calendrier!$BD$11),MAX($E$2:E481)+1,\"\")","v":""}]
[null,null,null,null,{"$f":"IF(AND(YEAR(C483)=Calendrier!$BD$8,B483=Calendrier!$BD$11),MAX($E$2:E482)+1,\"\")","v":""}]
[null,null,null,null,{"$f":"IF(AND(YEAR(C484)=Calendrier!$BD$8,B484=Calendrier!$BD$11),MAX($E$2:E483)+1,\"\")","v":""}]
[null,null,null,null,{"$f":"IF(AND(YEAR(C485)=Calendrier!$BD$8,B485=Calendrier!$BD$11),MAX($E$2:E484)+1,\"\")","v":""}]
[null,null,null,null,{"$f":"IF(AND(YEAR(C486)=Calendrier!$BD$8,B486=Calendrier!$BD$11),MAX($E$2:E485)+1,\"\")","v":""}]
[null,null,null,null,{"$f":"IF(AND(YEAR(C487)=Calendrier!$BD$8,B487=Calendrier!$BD$11),MAX($E$2:E486)+1,\"\")","v":""}]
[null,null,null,null,{"$f":"IF(AND(YEAR(C488)=Calendrier!$BD$8,B488=Calendrier!$BD$11),MAX($E$2:E487)+1,\"\")","v":""}]
[null,null,null,null,{"$f":"IF(AND(YEAR(C489)=Calendrier!$BD$8,B489=Calendrier!$BD$11),MAX($E$2:E488)+1,\"\")","v":""}]
[null,null,null,null,{"$f":"IF(AND(YEAR(C490)=Calendrier!$BD$8,B490=Calendrier!$BD$11),MAX($E$2:E489)+1,\"\")","v":""}]
[null,null,null,null,{"$f":"IF(AND(YEAR(C491)=Calendrier!$BD$8,B491=Calendrier!$BD$11),MAX($E$2:E490)+1,\"\")","v":""}]
[null,null,null,null,{"$f":"IF(AND(YEAR(C492)=Calendrier!$BD$8,B492=Calendrier!$BD$11),MAX($E$2:E491)+1,\"\")","v":""}]
[null,null,null,null,{"$f":"IF(AND(YEAR(C493)=Calendrier!$BD$8,B493=Calendrier!$BD$11),MAX($E$2:E492)+1,\"\")","v":""}]
[null,null,null,null,{"$f":"IF(AND(YEAR(C494)=Calendrier!$BD$8,B494=Calendrier!$BD$11),MAX($E$2:E493)+1,\"\")","v":""}]
[null,null,null,null,{"$f":"IF(AND(YEAR(C495)=Calendrier!$BD$8,B495=Calendrier!$BD$11),MAX($E$2:E494)+1,\"\")","v":""}]
[null,null,null,null,{"$f":"IF(AND(YEAR(C496)=Calendrier!$BD$8,B496=Calendrier!$BD$11),MAX($E$2:E495)+1,\"\")","v":""}]
[null,null,null,null,{"$f":"IF(AND(YEAR(C497)=Calendrier!$BD$8,B497=Calendrier!$BD$11),MAX($E$2:E496)+1,\"\")","v":""}]
[null,null,null,null,{"$f":"IF(AND(YEAR(C498)=Calendrier!$BD$8,B498=Calendrier!$BD$11),MAX($E$2:E497)+1,\"\")","v":""}]
[null,null,null,null,{"$f":"IF(AND(YEAR(C499)=Calendrier!$BD$8,B499=Calendrier!$BD$11),MAX($E$2:E498)+1,\"\")","v":""}]
[null,null,null,null,{"$f":"IF(AND(YEAR(C500)=Calendrier!$BD$8,B500=Calendrier!$BD$11),MAX($E$2:E499)+1,\"\")","v":""}]
[null,null,null,null,{"$f":"IF(AND(YEAR(C501)=Calendrier!$BD$8,B501=Calendrier!$BD$11),MAX($E$2:E500)+1,\"\")","v":""}]
[null,null,null,null,{"$f":"IF(AND(YEAR(C502)=Calendrier!$BD$8,B502=Calendrier!$BD$11),MAX($E$2:E501)+1,\"\")","v":""}]
[null,null,null,null,{"$f":"IF(AND(YEAR(C503)=Calendrier!$BD$8,B503=Calendrier!$BD$11),MAX($E$2:E502)+1,\"\")","v":""}]
[null,null,null,null,{"$f":"IF(AND(YEAR(C504)=Calendrier!$BD$8,B504=Calendrier!$BD$11),MAX($E$2:E503)+1,\"\")","v":""}]
[null,null,null,null,{"$f":"IF(AND(YEAR(C505)=Calendrier!$BD$8,B505=Calendrier!$BD$11),MAX($E$2:E504)+1,\"\")","v":""}]
[null,null,null,null,{"$f":"IF(AND(YEAR(C506)=Calendrier!$BD$8,B506=Calendrier!$BD$11),MAX($E$2:E505)+1,\"\")","v":""}]
[null,null,null,null,{"$f":"IF(AND(YEAR(C507)=Calendrier!$BD$8,B507=Calendrier!$BD$11),MAX($E$2:E506)+1,\"\")","v":""}]
[null,null,null,null,{"$f":"IF(AND(YEAR(C508)=Calendrier!$BD$8,B508=Calendrier!$BD$11),MAX($E$2:E507)+1,\"\")","v":""}]
[null,null,null,null,{"$f":"IF(AND(YEAR(C509)=Calendrier!$BD$8,B509=Calendrier!$BD$11),MAX($E$2:E508)+1,\"\")","v":""}]
[null,null,null,null,{"$f":"IF(AND(YEAR(C510)=Calendrier!$BD$8,B510=Calendrier!$BD$11),MAX($E$2:E509)+1,\"\")","v":""}]
[null,null,null,null,{"$f":"IF(AND(YEAR(C511)=Calendrier!$BD$8,B511=Calendrier!$BD$11),MAX($E$2:E510)+1,\"\")","v":""}]
[null,null,null,null,{"$f":"IF(AND(YEAR(C512)=Calendrier!$BD$8,B512=Calendrier!$BD$11),MAX($E$2:E511)+1,\"\")","v":""}]
[null,null,null,null,{"$f":"IF(AND(YEAR(C513)=Calendrier!$BD$8,B513=Calendrier!$BD$11),MAX($E$2:E512)+1,\"\")","v":""}]
[null,null,null,null,{"$f":"IF(AND(YEAR(C514)=Calendrier!$BD$8,B514=Calendrier!$BD$11),MAX($E$2:E513)+1,\"\")","v":""}]
[null,null,null,null,{"$f":"IF(AND(YEAR(C515)=Calendrier!$BD$8,B515=Calendrier!$BD$11),MAX($E$2:E514)+1,\"\")","v":""}]
[null,null,null,null,{"$f":"IF(AND(YEAR(C516)=Calendrier!$BD$8,B516=Calendrier!$BD$11),MAX($E$2:E515)+1,\"\")","v":""}]
[null,null,null,null,{"$f":"IF(AND(YEAR(C517)=Calendrier!$BD$8,B517=Calendrier!$BD$11),MAX($E$2:E516)+1,\"\")","v":""}]
[null,null,null,null,{"$f":"IF(AND(YEAR(C518)=Calendrier!$BD$8,B518=Calendrier!$BD$11),MAX($E$2:E517)+1,\"\")","v":""}]
[null,null,null,null,{"$f":"IF(AND(YEAR(C519)=Calendrier!$BD$8,B519=Calendrier!$BD$11),MAX($E$2:E518)+1,\"\")","v":""}]
[null,null,null,null,{"$f":"IF(AND(YEAR(C520)=Calendrier!$BD$8,B520=Calendrier!$BD$11),MAX($E$2:E519)+1,\"\")","v":""}]
[null,null,null,null,{"$f":"IF(AND(YEAR(C521)=Calendrier!$BD$8,B521=Calendrier!$BD$11),MAX($E$2:E520)+1,\"\")","v":""}]
[null,null,null,null,{"$f":"IF(AND(YEAR(C522)=Calendrier!$BD$8,B522=Calendrier!$BD$11),MAX($E$2:E521)+1,\"\")","v":""}]
[null,null,null,null,{"$f":"IF(AND(YEAR(C523)=Calendrier!$BD$8,B523=Calendrier!$BD$11),MAX($E$2:E522)+1,\"\")","v":""}]
[null,null,null,null,{"$f":"IF(AND(YEAR(C524)=Calendrier!$BD$8,B524=Calendrier!$BD$11),MAX($E$2:E523)+1,\"\")","v":""}]
[null,null,null,null,{"$f":"IF(AND(YEAR(C525)=Calendrier!$BD$8,B525=Calendrier!$BD$11),MAX($E$2:E524)+1,\"\")","v":""}]
[null,null,null,null,{"$f":"IF(AND(YEAR(C526)=Calendrier!$BD$8,B526=Calendrier!$BD$11),MAX($E$2:E525)+1,\"\")","v":""}]
[null,null,null,null,{"$f":"IF(AND(YEAR(C527)=Calendrier!$BD$8,B527=Calendrier!$BD$11),MAX($E$2:E526)+1,\"\")","v":""}]
[null,null,null,null,{"$f":"IF(AND(YEAR(C528)=Calendrier!$BD$8,B528=Calendrier!$BD$11),MAX($E$2:E527)+1,\"\")","v":""}]
[null,null,null,null,{"$f":"IF(AND(YEAR(C529)=Calendrier!$BD$8,B529=Calendrier!$BD$11),MAX($E$2:E528)+1,\"\")","v":""}]
[null,null,null,null,{"$f":"IF(AND(YEAR(C530)=Calendrier!$BD$8,B530=Calendrier!$BD$11),MAX($E$2:E529)+1,\"\")","v":""}]
[null,null,null,null,{"$f":"IF(AND(YEAR(C531)=Calendrier!$BD$8,B531=Calendrier!$BD$11),MAX($E$2:E530)+1,\"\")","v":""}]
[null,null,null,null,{"$f":"IF(AND(YEAR(C532)=Calendrier!$BD$8,B532=Calendrier!$BD$11),MAX($E$2:E531)+1,\"\")","v":""}]
[null,null,null,null,{"$f":"IF(AND(YEAR(C533)=Calendrier!$BD$8,B533=Calendrier!$BD$11),MAX($E$2:E532)+1,\"\")","v":""}]
[null,null,null,null,{"$f":"IF(AND(YEAR(C534)=Calendrier!$BD$8,B534=Calendrier!$BD$11),MAX($E$2:E533)+1,\"\")","v":""}]
[null,null,null,null,{"$f":"IF(AND(YEAR(C535)=Calendrier!$BD$8,B535=Calendrier!$BD$11),MAX($E$2:E534)+1,\"\")","v":""}]
[null,null,null,null,{"$f":"IF(AND(YEAR(C536)=Calendrier!$BD$8,B536=Calendrier!$BD$11),MAX($E$2:E535)+1,\"\")","v":""}]
[null,null,null,null,{"$f":"IF(AND(YEAR(C537)=Calendrier!$BD$8,B537=Calendrier!$BD$11),MAX($E$2:E536)+1,\"\")","v":""}]
[null,null,null,null,{"$f":"IF(AND(YEAR(C538)=Calendrier!$BD$8,B538=Calendrier!$BD$11),MAX($E$2:E537)+1,\"\")","v":""}]
[null,null,null,null,{"$f":"IF(AND(YEAR(C539)=Calendrier!$BD$8,B539=Calendrier!$BD$11),MAX($E$2:E538)+1,\"\")","v":""}]
[null,null,null,null,{"$f":"IF(AND(YEAR(C540)=Calendrier!$BD$8,B540=Calendrier!$BD$11),MAX($E$2:E539)+1,\"\")","v":""}]
[null,null,null,null,{"$f":"IF(AND(YEAR(C541)=Calendrier!$BD$8,B541=Calendrier!$BD$11),MAX($E$2:E540)+1,\"\")","v":""}]
[null,null,null,null,{"$f":"IF(AND(YEAR(C542)=Calendrier!$BD$8,B542=Calendrier!$BD$11),MAX($E$2:E541)+1,\"\")","v":""}]
[null,null,null,null,{"$f":"IF(AND(YEAR(C543)=Calendrier!$BD$8,B543=Calendrier!$BD$11),MAX($E$2:E542)+1,\"\")","v":""}]
[null,null,null,null,{"$f":"IF(AND(YEAR(C544)=Calendrier!$BD$8,B544=Calendrier!$BD$11),MAX($E$2:E543)+1,\"\")","v":""}]
[null,null,null,null,{"$f":"IF(AND(YEAR(C545)=Calendrier!$BD$8,B545=Calendrier!$BD$11),MAX($E$2:E544)+1,\"\")","v":""}]
[null,null,null,null,{"$f":"IF(AND(YEAR(C546)=Calendrier!$BD$8,B546=Calendrier!$BD$11),MAX($E$2:E545)+1,\"\")","v":""}]
[null,null,null,null,{"$f":"IF(AND(YEAR(C547)=Calendrier!$BD$8,B547=Calendrier!$BD$11),MAX($E$2:E546)+1,\"\")","v":""}]
[null,null,null,null,{"$f":"IF(AND(YEAR(C548)=Calendrier!$BD$8,B548=Calendrier!$BD$11),MAX($E$2:E547)+1,\"\")","v":""}]
[null,null,null,null,{"$f":"IF(AND(YEAR(C549)=Calendrier!$BD$8,B549=Calendrier!$BD$11),MAX($E$2:E548)+1,\"\")","v":""}]
[null,null,null,null,{"$f":"IF(AND(YEAR(C550)=Calendrier!$BD$8,B550=Calendrier!$BD$11),MAX($E$2:E549)+1,\"\")","v":""}]
[null,null,null,null,{"$f":"IF(AND(YEAR(C551)=Calendrier!$BD$8,B551=Calendrier!$BD$11),MAX($E$2:E550)+1,\"\")","v":""}]
[null,null,null,null,{"$f":"IF(AND(YEAR(C552)=Calendrier!$BD$8,B552=Calendrier!$BD$11),MAX($E$2:E551)+1,\"\")","v":""}]
[null,null,null,null,{"$f":"IF(AND(YEAR(C553)=Calendrier!$BD$8,B553=Calendrier!$BD$11),MAX($E$2:E552)+1,\"\")","v":""}]
[null,null,null,null,{"$f":"IF(AND(YEAR(C554)=Calendrier!$BD$8,B554=Calendrier!$BD$11),MAX($E$2:E553)+1,\"\")","v":""}]
[null,null,null,null,{"$f":"IF(AND(YEAR(C555)=Calendrier!$BD$8,B555=Calendrier!$BD$11),MAX($E$2:E554)+1,\"\")","v":""}]
[null,null,null,null,{"$f":"IF(AND(YEAR(C556)=Calendrier!$BD$8,B556=Calendrier!$BD$11),MAX($E$2:E555)+1,\"\")","v":""}]
[null,null,null,null,{"$f":"IF(AND(YEAR(C557)=Calendrier!$BD$8,B557=Calendrier!$BD$11),MAX($E$2:E556)+1,\"\")","v":""}]
[null,null,null,null,{"$f":"IF(AND(YEAR(C558)=Calendrier!$BD$8,B558=Calendrier!$BD$11),MAX($E$2:E557)+1,\"\")","v":""}]
[null,null,null,null,{"$f":"IF(AND(YEAR(C559)=Calendrier!$BD$8,B559=Calendrier!$BD$11),MAX($E$2:E558)+1,\"\")","v":""}]
[null,null,null,null,{"$f":"IF(AND(YEAR(C560)=Calendrier!$BD$8,B560=Calendrier!$BD$11),MAX($E$2:E559)+1,\"\")","v":""}]
[null,null,null,null,{"$f":"IF(AND(YEAR(C561)=Calendrier!$BD$8,B561=Calendrier!$BD$11),MAX($E$2:E560)+1,\"\")","v":""}]
[null,null,null,null,{"$f":"IF(AND(YEAR(C562)=Calendrier!$BD$8,B562=Calendrier!$BD$11),MAX($E$2:E561)+1,\"\")","v":""}]
[null,null,null,null,{"$f":"IF(AND(YEAR(C563)=Calendrier!$BD$8,B563=Calendrier!$BD$11),MAX($E$2:E562)+1,\"\")","v":""}]
[null,null,null,null,{"$f":"IF(AND(YEAR(C564)=Calendrier!$BD$8,B564=Calendrier!$BD$11),MAX($E$2:E563)+1,\"\")","v":""}]
[null,null,null,null,{"$f":"IF(AND(YEAR(C565)=Calendrier!$BD$8,B565=Calendrier!$BD$11),MAX($E$2:E564)+1,\"\")","v":""}]
[null,null,null,null,{"$f":"IF(AND(YEAR(C566)=Calendrier!$BD$8,B566=Calendrier!$BD$11),MAX($E$2:E565)+1,\"\")","v":""}]
[null,null,null,null,{"$f":"IF(AND(YEAR(C567)=Calendrier!$BD$8,B567=Calendrier!$BD$11),MAX($E$2:E566)+1,\"\")","v":""}]
[null,null,null,null,{"$f":"IF(AND(YEAR(C568)=Calendrier!$BD$8,B568=Calendrier!$BD$11),MAX($E$2:E567)+1,\"\")","v":""}]
[null,null,null,null,{"$f":"IF(AND(YEAR(C569)=Calendrier!$BD$8,B569=Calendrier!$BD$11),MAX($E$2:E568)+1,\"\")","v":""}]
[null,null,null,null,{"$f":"IF(AND(YEAR(C570)=Calendrier!$BD$8,B570=Calendrier!$BD$11),MAX($E$2:E569)+1,\"\")","v":""}]
[null,null,null,null,{"$f":"IF(AND(YEAR(C571)=Calendrier!$BD$8,B571=Calendrier!$BD$11),MAX($E$2:E570)+1,\"\")","v":""}]
[null,null,null,null,{"$f":"IF(AND(YEAR(C572)=Calendrier!$BD$8,B572=Calendrier!$BD$11),MAX($E$2:E571)+1,\"\")","v":""}]
[null,null,null,null,{"$f":"IF(AND(YEAR(C573)=Calendrier!$BD$8,B573=Calendrier!$BD$11),MAX($E$2:E572)+1,\"\")","v":""}]
[null,null,null,null,{"$f":"IF(AND(YEAR(C574)=Calendrier!$BD$8,B574=Calendrier!$BD$11),MAX($E$2:E573)+1,\"\")","v":""}]
[null,null,null,null,{"$f":"IF(AND(YEAR(C575)=Calendrier!$BD$8,B575=Calendrier!$BD$11),MAX($E$2:E574)+1,\"\")","v":""}]
[null,null,null,null,{"$f":"IF(AND(YEAR(C576)=Calendrier!$BD$8,B576=Calendrier!$BD$11),MAX($E$2:E575)+1,\"\")","v":""}]
[null,null,null,null,{"$f":"IF(AND(YEAR(C577)=Calendrier!$BD$8,B577=Calendrier!$BD$11),MAX($E$2:E576)+1,\"\")","v":""}]
[null,null,null,null,{"$f":"IF(AND(YEAR(C578)=Calendrier!$BD$8,B578=Calendrier!$BD$11),MAX($E$2:E577)+1,\"\")","v":""}]
[null,null,null,null,{"$f":"IF(AND(YEAR(C579)=Calendrier!$BD$8,B579=Calendrier!$BD$11),MAX($E$2:E578)+1,\"\")","v":""}]
[null,null,null,null,{"$f":"IF(AND(YEAR(C580)=Calendrier!$BD$8,B580=Calendrier!$BD$11),MAX($E$2:E579)+1,\"\")","v":""}]
[null,null,null,null,{"$f":"IF(AND(YEAR(C581)=Calendrier!$BD$8,B581=Calendrier!$BD$11),MAX($E$2:E580)+1,\"\")","v":""}]
[null,null,null,null,{"$f":"IF(AND(YEAR(C582)=Calendrier!$BD$8,B582=Calendrier!$BD$11),MAX($E$2:E581)+1,\"\")","v":""}]
[null,null,null,null,{"$f":"IF(AND(YEAR(C583)=Calendrier!$BD$8,B583=Calendrier!$BD$11),MAX($E$2:E582)+1,\"\")","v":""}]
[null,null,null,null,{"$f":"IF(AND(YEAR(C584)=Calendrier!$BD$8,B584=Calendrier!$BD$11),MAX($E$2:E583)+1,\"\")","v":""}]
[null,null,null,null,{"$f":"IF(AND(YEAR(C585)=Calendrier!$BD$8,B585=Calendrier!$BD$11),MAX($E$2:E584)+1,\"\")","v":""}]
[null,null,null,null,{"$f":"IF(AND(YEAR(C586)=Calendrier!$BD$8,B586=Calendrier!$BD$11),MAX($E$2:E585)+1,\"\")","v":""}]
[null,null,null,null,{"$f":"IF(AND(YEAR(C587)=Calendrier!$BD$8,B587=Calendrier!$BD$11),MAX($E$2:E586)+1,\"\")","v":""}]
[null,null,null,null,{"$f":"IF(AND(YEAR(C588)=Calendrier!$BD$8,B588=Calendrier!$BD$11),MAX($E$2:E587)+1,\"\")","v":""}]
[null,null,null,null,{"$f":"IF(AND(YEAR(C589)=Calendrier!$BD$8,B589=Calendrier!$BD$11),MAX($E$2:E588)+1,\"\")","v":""}]
[null,null,null,null,{"$f":"IF(AND(YEAR(C590)=Calendrier!$BD$8,B590=Calendrier!$BD$11),MAX($E$2:E589)+1,\"\")","v":""}]
[null,null,null,null,{"$f":"IF(AND(YEAR(C591)=Calendrier!$BD$8,B591=Calendrier!$BD$11),MAX($E$2:E590)+1,\"\")","v":""}]
[null,null,null,null,{"$f":"IF(AND(YEAR(C592)=Calendrier!$BD$8,B592=Calendrier!$BD$11),MAX($E$2:E591)+1,\"\")","v":""}]
[null,null,null,null,{"$f":"IF(AND(YEAR(C593)=Calendrier!$BD$8,B593=Calendrier!$BD$11),MAX($E$2:E592)+1,\"\")","v":""}]
[null,null,null,null,{"$f":"IF(AND(YEAR(C594)=Calendrier!$BD$8,B594=Calendrier!$BD$11),MAX($E$2:E593)+1,\"\")","v":""}]
[null,null,null,null,{"$f":"IF(AND(YEAR(C595)=Calendrier!$BD$8,B595=Calendrier!$BD$11),MAX($E$2:E594)+1,\"\")","v":""}]
[null,null,null,null,{"$f":"IF(AND(YEAR(C596)=Calendrier!$BD$8,B596=Calendrier!$BD$11),MAX($E$2:E595)+1,\"\")","v":""}]
[null,null,null,null,{"$f":"IF(AND(YEAR(C597)=Calendrier!$BD$8,B597=Calendrier!$BD$11),MAX($E$2:E596)+1,\"\")","v":""}]
[null,null,null,null,{"$f":"IF(AND(YEAR(C598)=Calendrier!$BD$8,B598=Calendrier!$BD$11),MAX($E$2:E597)+1,\"\")","v":""}]
[null,null,null,null,{"$f":"IF(AND(YEAR(C599)=Calendrier!$BD$8,B599=Calendrier!$BD$11),MAX($E$2:E598)+1,\"\")","v":""}]
[null,null,null,null,{"$f":"IF(AND(YEAR(C600)=Calendrier!$BD$8,B600=Calendrier!$BD$11),MAX($E$2:E599)+1,\"\")","v":""}]
[null,null,null,null,{"$f":"IF(AND(YEAR(C601)=Calendrier!$BD$8,B601=Calendrier!$BD$11),MAX($E$2:E600)+1,\"\")","v":""}]
[null,null,null,null,{"$f":"IF(AND(YEAR(C602)=Calendrier!$BD$8,B602=Calendrier!$BD$11),MAX($E$2:E601)+1,\"\")","v":""}]
[null,null,null,null,{"$f":"IF(AND(YEAR(C603)=Calendrier!$BD$8,B603=Calendrier!$BD$11),MAX($E$2:E602)+1,\"\")","v":""}]
[null,null,null,null,{"$f":"IF(AND(YEAR(C604)=Calendrier!$BD$8,B604=Calendrier!$BD$11),MAX($E$2:E603)+1,\"\")","v":""}]
[null,null,null,null,{"$f":"IF(AND(YEAR(C605)=Calendrier!$BD$8,B605=Calendrier!$BD$11),MAX($E$2:E604)+1,\"\")","v":""}]
[null,null,null,null,{"$f":"IF(AND(YEAR(C606)=Calendrier!$BD$8,B606=Calendrier!$BD$11),MAX($E$2:E605)+1,\"\")","v":""}]
[null,null,null,null,{"$f":"IF(AND(YEAR(C607)=Calendrier!$BD$8,B607=Calendrier!$BD$11),MAX($E$2:E606)+1,\"\")","v":""}]
[null,null,null,null,{"$f":"IF(AND(YEAR(C608)=Calendrier!$BD$8,B608=Calendrier!$BD$11),MAX($E$2:E607)+1,\"\")","v":""}]
[null,null,null,null,{"$f":"IF(AND(YEAR(C609)=Calendrier!$BD$8,B609=Calendrier!$BD$11),MAX($E$2:E608)+1,\"\")","v":""}]
[null,null,null,null,{"$f":"IF(AND(YEAR(C610)=Calendrier!$BD$8,B610=Calendrier!$BD$11),MAX($E$2:E609)+1,\"\")","v":""}]
[null,null,null,null,{"$f":"IF(AND(YEAR(C611)=Calendrier!$BD$8,B611=Calendrier!$BD$11),MAX($E$2:E610)+1,\"\")","v":""}]
[null,null,null,null,{"$f":"IF(AND(YEAR(C612)=Calendrier!$BD$8,B612=Calendrier!$BD$11),MAX($E$2:E611)+1,\"\")","v":""}]
[null,null,null,null,{"$f":"IF(AND(YEAR(C613)=Calendrier!$BD$8,B613=Calendrier!$BD$11),MAX($E$2:E612)+1,\"\")","v":""}]
[null,null,null,null,{"$f":"IF(AND(YEAR(C614)=Calendrier!$BD$8,B614=Calendrier!$BD$11),MAX($E$2:E613)+1,\"\")","v":""}]
[null,null,null,null,{"$f":"IF(AND(YEAR(C615)=Calendrier!$BD$8,B615=Calendrier!$BD$11),MAX($E$2:E614)+1,\"\")","v":""}]
[null,null,null,null,{"$f":"IF(AND(YEAR(C616)=Calendrier!$BD$8,B616=Calendrier!$BD$11),MAX($E$2:E615)+1,\"\")","v":""}]
[null,null,null,null,{"$f":"IF(AND(YEAR(C617)=Calendrier!$BD$8,B617=Calendrier!$BD$11),MAX($E$2:E616)+1,\"\")","v":""}]
[null,null,null,null,{"$f":"IF(AND(YEAR(C618)=Calendrier!$BD$8,B618=Calendrier!$BD$11),MAX($E$2:E617)+1,\"\")","v":""}]
[null,null,null,null,{"$f":"IF(AND(YEAR(C619)=Calendrier!$BD$8,B619=Calendrier!$BD$11),MAX($E$2:E618)+1,\"\")","v":""}]
[null,null,null,null,{"$f":"IF(AND(YEAR(C620)=Calendrier!$BD$8,B620=Calendrier!$BD$11),MAX($E$2:E619)+1,\"\")","v":""}]
[null,null,null,null,{"$f":"IF(AND(YEAR(C621)=Calendrier!$BD$8,B621=Calendrier!$BD$11),MAX($E$2:E620)+1,\"\")","v":""}]
[null,null,null,null,{"$f":"IF(AND(YEAR(C622)=Calendrier!$BD$8,B622=Calendrier!$BD$11),MAX($E$2:E621)+1,\"\")","v":""}]
[null,null,null,null,{"$f":"IF(AND(YEAR(C623)=Calendrier!$BD$8,B623=Calendrier!$BD$11),MAX($E$2:E622)+1,\"\")","v":""}]
[null,null,null,null,{"$f":"IF(AND(YEAR(C624)=Calendrier!$BD$8,B624=Calendrier!$BD$11),MAX($E$2:E623)+1,\"\")","v":""}]
[null,null,null,null,{"$f":"IF(AND(YEAR(C625)=Calendrier!$BD$8,B625=Calendrier!$BD$11),MAX($E$2:E624)+1,\"\")","v":""}]
[null,null,null,null,{"$f":"IF(AND(YEAR(C626)=Calendrier!$BD$8,B626=Calendrier!$BD$11),MAX($E$2:E625)+1,\"\")","v":""}]
[null,null,null,null,{"$f":"IF(AND(YEAR(C627)=Calendrier!$BD$8,B627=Calendrier!$BD$11),MAX($E$2:E626)+1,\"\")","v":""}]
[null,null,null,null,{"$f":"IF(AND(YEAR(C628)=Calendrier!$BD$8,B628=Calendrier!$BD$11),MAX($E$2:E627)+1,\"\")","v":""}]
[null,null,null,null,{"$f":"IF(AND(YEAR(C629)=Calendrier!$BD$8,B629=Calendrier!$BD$11),MAX($E$2:E628)+1,\"\")","v":""}]
[null,null,null,null,{"$f":"IF(AND(YEAR(C630)=Calendrier!$BD$8,B630=Calendrier!$BD$11),MAX($E$2:E629)+1,\"\")","v":""}]
[null,null,null,null,{"$f":"IF(AND(YEAR(C631)=Calendrier!$BD$8,B631=Calendrier!$BD$11),MAX($E$2:E630)+1,\"\")","v":""}]
[null,null,null,null,{"$f":"IF(AND(YEAR(C632)=Calendrier!$BD$8,B632=Calendrier!$BD$11),MAX($E$2:E631)+1,\"\")","v":""}]
[null,null,null,null,{"$f":"IF(AND(YEAR(C633)=Calendrier!$BD$8,B633=Calendrier!$BD$11),MAX($E$2:E632)+1,\"\")","v":""}]
[null,null,null,null,{"$f":"IF(AND(YEAR(C634)=Calendrier!$BD$8,B634=Calendrier!$BD$11),MAX($E$2:E633)+1,\"\")","v":""}]
[null,null,null,null,{"$f":"IF(AND(YEAR(C635)=Calendrier!$BD$8,B635=Calendrier!$BD$11),MAX($E$2:E634)+1,\"\")","v":""}]
[null,null,null,null,{"$f":"IF(AND(YEAR(C636)=Calendrier!$BD$8,B636=Calendrier!$BD$11),MAX($E$2:E635)+1,\"\")","v":""}]
[null,null,null,null,{"$f":"IF(AND(YEAR(C637)=Calendrier!$BD$8,B637=Calendrier!$BD$11),MAX($E$2:E636)+1,\"\")","v":""}]
[null,null,null,null,{"$f":"IF(AND(YEAR(C638)=Calendrier!$BD$8,B638=Calendrier!$BD$11),MAX($E$2:E637)+1,\"\")","v":""}]
[null,null,null,null,{"$f":"IF(AND(YEAR(C639)=Calendrier!$BD$8,B639=Calendrier!$BD$11),MAX($E$2:E638)+1,\"\")","v":""}]
[null,null,null,null,{"$f":"IF(AND(YEAR(C640)=Calendrier!$BD$8,B640=Calendrier!$BD$11),MAX($E$2:E639)+1,\"\")","v":""}]
[null,null,null,null,{"$f":"IF(AND(YEAR(C641)=Calendrier!$BD$8,B641=Calendrier!$BD$11),MAX($E$2:E640)+1,\"\")","v":""}]
[null,null,null,null,{"$f":"IF(AND(YEAR(C642)=Calendrier!$BD$8,B642=Calendrier!$BD$11),MAX($E$2:E641)+1,\"\")","v":""}]
[null,null,null,null,{"$f":"IF(AND(YEAR(C643)=Calendrier!$BD$8,B643=Calendrier!$BD$11),MAX($E$2:E642)+1,\"\")","v":""}]
[null,null,null,null,{"$f":"IF(AND(YEAR(C644)=Calendrier!$BD$8,B644=Calendrier!$BD$11),MAX($E$2:E643)+1,\"\")","v":""}]
[null,null,null,null,{"$f":"IF(AND(YEAR(C645)=Calendrier!$BD$8,B645=Calendrier!$BD$11),MAX($E$2:E644)+1,\"\")","v":""}]
[null,null,null,null,{"$f":"IF(AND(YEAR(C646)=Calendrier!$BD$8,B646=Calendrier!$BD$11),MAX($E$2:E645)+1,\"\")","v":""}]
[null,null,null,null,{"$f":"IF(AND(YEAR(C647)=Calendrier!$BD$8,B647=Calendrier!$BD$11),MAX($E$2:E646)+1,\"\")","v":""}]
[null,null,null,null,{"$f":"IF(AND(YEAR(C648)=Calendrier!$BD$8,B648=Calendrier!$BD$11),MAX($E$2:E647)+1,\"\")","v":""}]
[null,null,null,null,{"$f":"IF(AND(YEAR(C649)=Calendrier!$BD$8,B649=Calendrier!$BD$11),MAX($E$2:E648)+1,\"\")","v":""}]
[null,null,null,null,{"$f":"IF(AND(YEAR(C650)=Calendrier!$BD$8,B650=Calendrier!$BD$11),MAX($E$2:E649)+1,\"\")","v":""}]
[null,null,null,null,{"$f":"IF(AND(YEAR(C651)=Calendrier!$BD$8,B651=Calendrier!$BD$11),MAX($E$2:E650)+1,\"\")","v":""}]
[null,null,null,null,{"$f":"IF(AND(YEAR(C652)=Calendrier!$BD$8,B652=Calendrier!$BD$11),MAX($E$2:E651)+1,\"\")","v":""}]
[null,null,null,null,{"$f":"IF(AND(YEAR(C653)=Calendrier!$BD$8,B653=Calendrier!$BD$11),MAX($E$2:E652)+1,\"\")","v":""}]
[null,null,null,null,{"$f":"IF(AND(YEAR(C654)=Calendrier!$BD$8,B654=Calendrier!$BD$11),MAX($E$2:E653)+1,\"\")","v":""}]
[null,null,null,null,{"$f":"IF(AND(YEAR(C655)=Calendrier!$BD$8,B655=Calendrier!$BD$11),MAX($E$2:E654)+1,\"\")","v":""}]
[null,null,null,null,{"$f":"IF(AND(YEAR(C656)=Calendrier!$BD$8,B656=Calendrier!$BD$11),MAX($E$2:E655)+1,\"\")","v":""}]
[null,null,null,null,{"$f":"IF(AND(YEAR(C657)=Calendrier!$BD$8,B657=Calendrier!$BD$11),MAX($E$2:E656)+1,\"\")","v":""}]
[null,null,null,null,{"$f":"IF(AND(YEAR(C658)=Calendrier!$BD$8,B658=Calendrier!$BD$11),MAX($E$2:E657)+1,\"\")","v":""}]
[null,null,null,null,{"$f":"IF(AND(YEAR(C659)=Calendrier!$BD$8,B659=Calendrier!$BD$11),MAX($E$2:E658)+1,\"\")","v":""}]
[null,null,null,null,{"$f":"IF(AND(YEAR(C660)=Calendrier!$BD$8,B660=Calendrier!$BD$11),MAX($E$2:E659)+1,\"\")","v":""}]
[null,null,null,null,{"$f":"IF(AND(YEAR(C661)=Calendrier!$BD$8,B661=Calendrier!$BD$11),MAX($E$2:E660)+1,\"\")","v":""}]
[null,null,null,null,{"$f":"IF(AND(YEAR(C662)=Calendrier!$BD$8,B662=Calendrier!$BD$11),MAX($E$2:E661)+1,\"\")","v":""}]
[null,null,null,null,{"$f":"IF(AND(YEAR(C663)=Calendrier!$BD$8,B663=Calendrier!$BD$11),MAX($E$2:E662)+1,\"\")","v":""}]
[null,null,null,null,{"$f":"IF(AND(YEAR(C664)=Calendrier!$BD$8,B664=Calendrier!$BD$11),MAX($E$2:E663)+1,\"\")","v":""}]
[null,null,null,null,{"$f":"IF(AND(YEAR(C665)=Calendrier!$BD$8,B665=Calendrier!$BD$11),MAX($E$2:E664)+1,\"\")","v":""}]
[null,null,null,null,{"$f":"IF(AND(YEAR(C666)=Calendrier!$BD$8,B666=Calendrier!$BD$11),MAX($E$2:E665)+1,\"\")","v":""}]
[null,null,null,null,{"$f":"IF(AND(YEAR(C667)=Calendrier!$BD$8,B667=Calendrier!$BD$11),MAX($E$2:E666)+1,\"\")","v":""}]
[null,null,null,null,{"$f":"IF(AND(YEAR(C668)=Calendrier!$BD$8,B668=Calendrier!$BD$11),MAX($E$2:E667)+1,\"\")","v":""}]
[null,null,null,null,{"$f":"IF(AND(YEAR(C669)=Calendrier!$BD$8,B669=Calendrier!$BD$11),MAX($E$2:E668)+1,\"\")","v":""}]
[null,null,null,null,{"$f":"IF(AND(YEAR(C670)=Calendrier!$BD$8,B670=Calendrier!$BD$11),MAX($E$2:E669)+1,\"\")","v":""}]
[null,null,null,null,{"$f":"IF(AND(YEAR(C671)=Calendrier!$BD$8,B671=Calendrier!$BD$11),MAX($E$2:E670)+1,\"\")","v":""}]
[null,null,null,null,{"$f":"IF(AND(YEAR(C672)=Calendrier!$BD$8,B672=Calendrier!$BD$11),MAX($E$2:E671)+1,\"\")","v":""}]
[null,null,null,null,{"$f":"IF(AND(YEAR(C673)=Calendrier!$BD$8,B673=Calendrier!$BD$11),MAX($E$2:E672)+1,\"\")","v":""}]
[null,null,null,null,{"$f":"IF(AND(YEAR(C674)=Calendrier!$BD$8,B674=Calendrier!$BD$11),MAX($E$2:E673)+1,\"\")","v":""}]
[null,null,null,null,{"$f":"IF(AND(YEAR(C675)=Calendrier!$BD$8,B675=Calendrier!$BD$11),MAX($E$2:E674)+1,\"\")","v":""}]
[null,null,null,null,{"$f":"IF(AND(YEAR(C676)=Calendrier!$BD$8,B676=Calendrier!$BD$11),MAX($E$2:E675)+1,\"\")","v":""}]
[null,null,null,null,{"$f":"IF(AND(YEAR(C677)=Calendrier!$BD$8,B677=Calendrier!$BD$11),MAX($E$2:E676)+1,\"\")","v":""}]
[null,null,null,null,{"$f":"IF(AND(YEAR(C678)=Calendrier!$BD$8,B678=Calendrier!$BD$11),MAX($E$2:E677)+1,\"\")","v":""}]
[null,null,null,null,{"$f":"IF(AND(YEAR(C679)=Calendrier!$BD$8,B679=Calendrier!$BD$11),MAX($E$2:E678)+1,\"\")","v":""}]
[null,null,null,null,{"$f":"IF(AND(YEAR(C680)=Calendrier!$BD$8,B680=Calendrier!$BD$11),MAX($E$2:E679)+1,\"\")","v":""}]
[null,null,null,null,{"$f":"IF(AND(YEAR(C681)=Calendrier!$BD$8,B681=Calendrier!$BD$11),MAX($E$2:E680)+1,\"\")","v":""}]
[null,null,null,null,{"$f":"IF(AND(YEAR(C682)=Calendrier!$BD$8,B682=Calendrier!$BD$11),MAX($E$2:E681)+1,\"\")","v":""}]
[null,null,null,null,{"$f":"IF(AND(YEAR(C683)=Calendrier!$BD$8,B683=Calendrier!$BD$11),MAX($E$2:E682)+1,\"\")","v":""}]
[null,null,null,null,{"$f":"IF(AND(YEAR(C684)=Calendrier!$BD$8,B684=Calendrier!$BD$11),MAX($E$2:E683)+1,\"\")","v":""}]
[null,null,null,null,{"$f":"IF(AND(YEAR(C685)=Calendrier!$BD$8,B685=Calendrier!$BD$11),MAX($E$2:E684)+1,\"\")","v":""}]
[null,null,null,null,{"$f":"IF(AND(YEAR(C686)=Calendrier!$BD$8,B686=Calendrier!$BD$11),MAX($E$2:E685)+1,\"\")","v":""}]
[null,null,null,null,{"$f":"IF(AND(YEAR(C687)=Calendrier!$BD$8,B687=Calendrier!$BD$11),MAX($E$2:E686)+1,\"\")","v":""}]
[null,null,null,null,{"$f":"IF(AND(YEAR(C688)=Calendrier!$BD$8,B688=Calendrier!$BD$11),MAX($E$2:E687)+1,\"\")","v":""}]
[null,null,null,null,{"$f":"IF(AND(YEAR(C689)=Calendrier!$BD$8,B689=Calendrier!$BD$11),MAX($E$2:E688)+1,\"\")","v":""}]
[null,null,null,null,{"$f":"IF(AND(YEAR(C690)=Calendrier!$BD$8,B690=Calendrier!$BD$11),MAX($E$2:E689)+1,\"\")","v":""}]
[null,null,null,null,{"$f":"IF(AND(YEAR(C691)=Calendrier!$BD$8,B691=Calendrier!$BD$11),MAX($E$2:E690)+1,\"\")","v":""}]
[null,null,null,null,{"$f":"IF(AND(YEAR(C692)=Calendrier!$BD$8,B692=Calendrier!$BD$11),MAX($E$2:E691)+1,\"\")","v":""}]
[null,null,null,null,{"$f":"IF(AND(YEAR(C693)=Calendrier!$BD$8,B693=Calendrier!$BD$11),MAX($E$2:E692)+1,\"\")","v":""}]
[null,null,null,null,{"$f":"IF(AND(YEAR(C694)=Calendrier!$BD$8,B694=Calendrier!$BD$11),MAX($E$2:E693)+1,\"\")","v":""}]
[null,null,null,null,{"$f":"IF(AND(YEAR(C695)=Calendrier!$BD$8,B695=Calendrier!$BD$11),MAX($E$2:E694)+1,\"\")","v":""}]
[null,null,null,null,{"$f":"IF(AND(YEAR(C696)=Calendrier!$BD$8,B696=Calendrier!$BD$11),MAX($E$2:E695)+1,\"\")","v":""}]
[null,null,null,null,{"$f":"IF(AND(YEAR(C697)=Calendrier!$BD$8,B697=Calendrier!$BD$11),MAX($E$2:E696)+1,\"\")","v":""}]
[null,null,null,null,{"$f":"IF(AND(YEAR(C698)=Calendrier!$BD$8,B698=Calendrier!$BD$11),MAX($E$2:E697)+1,\"\")","v":""}]
[null,null,null,null,{"$f":"IF(AND(YEAR(C699)=Calendrier!$BD$8,B699=Calendrier!$BD$11),MAX($E$2:E698)+1,\"\")","v":""}]
[null,null,null,null,{"$f":"IF(AND(YEAR(C700)=Calendrier!$BD$8,B700=Calendrier!$BD$11),MAX($E$2:E699)+1,\"\")","v":""}]
[null,null,null,null,{"$f":"IF(AND(YEAR(C701)=Calendrier!$BD$8,B701=Calendrier!$BD$11),MAX($E$2:E700)+1,\"\")","v":""}]
[null,null,null,null,{"$f":"IF(AND(YEAR(C702)=Calendrier!$BD$8,B702=Calendrier!$BD$11),MAX($E$2:E701)+1,\"\")","v":""}]
[null,null,null,null,{"$f":"IF(AND(YEAR(C703)=Calendrier!$BD$8,B703=Calendrier!$BD$11),MAX($E$2:E702)+1,\"\")","v":""}]
[null,null,null,null,{"$f":"IF(AND(YEAR(C704)=Calendrier!$BD$8,B704=Calendrier!$BD$11),MAX($E$2:E703)+1,\"\")","v":""}]
[null,null,null,null,{"$f":"IF(AND(YEAR(C705)=Calendrier!$BD$8,B705=Calendrier!$BD$11),MAX($E$2:E704)+1,\"\")","v":""}]
[null,null,null,null,{"$f":"IF(AND(YEAR(C706)=Calendrier!$BD$8,B706=Calendrier!$BD$11),MAX($E$2:E705)+1,\"\")","v":""}]
[null,null,null,null,{"$f":"IF(AND(YEAR(C707)=Calendrier!$BD$8,B707=Calendrier!$BD$11),MAX($E$2:E706)+1,\"\")","v":""}]
[null,null,null,null,{"$f":"IF(AND(YEAR(C708)=Calendrier!$BD$8,B708=Calendrier!$BD$11),MAX($E$2:E707)+1,\"\")","v":""}]
[null,null,null,null,{"$f":"IF(AND(YEAR(C709)=Calendrier!$BD$8,B709=Calendrier!$BD$11),MAX($E$2:E708)+1,\"\")","v":""}]
[null,null,null,null,{"$f":"IF(AND(YEAR(C710)=Calendrier!$BD$8,B710=Calendrier!$BD$11),MAX($E$2:E709)+1,\"\")","v":""}]
[null,null,null,null,{"$f":"IF(AND(YEAR(C711)=Calendrier!$BD$8,B711=Calendrier!$BD$11),MAX($E$2:E710)+1,\"\")","v":""}]
[null,null,null,null,{"$f":"IF(AND(YEAR(C712)=Calendrier!$BD$8,B712=Calendrier!$BD$11),MAX($E$2:E711)+1,\"\")","v":""}]
[null,null,null,null,{"$f":"IF(AND(YEAR(C713)=Calendrier!$BD$8,B713=Calendrier!$BD$11),MAX($E$2:E712)+1,\"\")","v":""}]
[null,null,null,null,{"$f":"IF(AND(YEAR(C714)=Calendrier!$BD$8,B714=Calendrier!$BD$11),MAX($E$2:E713)+1,\"\")","v":""}]
[null,null,null,null,{"$f":"IF(AND(YEAR(C715)=Calendrier!$BD$8,B715=Calendrier!$BD$11),MAX($E$2:E714)+1,\"\")","v":""}]
[null,null,null,null,{"$f":"IF(AND(YEAR(C716)=Calendrier!$BD$8,B716=Calendrier!$BD$11),MAX($E$2:E715)+1,\"\")","v":""}]
[null,null,null,null,{"$f":"IF(AND(YEAR(C717)=Calendrier!$BD$8,B717=Calendrier!$BD$11),MAX($E$2:E716)+1,\"\")","v":""}]
[null,null,null,null,{"$f":"IF(AND(YEAR(C718)=Calendrier!$BD$8,B718=Calendrier!$BD$11),MAX($E$2:E717)+1,\"\")","v":""}]
[null,null,null,null,{"$f":"IF(AND(YEAR(C719)=Calendrier!$BD$8,B719=Calendrier!$BD$11),MAX($E$2:E718)+1,\"\")","v":""}]
[null,null,null,null,{"$f":"IF(AND(YEAR(C720)=Calendrier!$BD$8,B720=Calendrier!$BD$11),MAX($E$2:E719)+1,\"\")","v":""}]
[null,null,null,null,{"$f":"IF(AND(YEAR(C721)=Calendrier!$BD$8,B721=Calendrier!$BD$11),MAX($E$2:E720)+1,\"\")","v":""}]
[null,null,null,null,{"$f":"IF(AND(YEAR(C722)=Calendrier!$BD$8,B722=Calendrier!$BD$11),MAX($E$2:E721)+1,\"\")","v":""}]
[null,null,null,null,{"$f":"IF(AND(YEAR(C723)=Calendrier!$BD$8,B723=Calendrier!$BD$11),MAX($E$2:E722)+1,\"\")","v":""}]
[null,null,null,null,{"$f":"IF(AND(YEAR(C724)=Calendrier!$BD$8,B724=Calendrier!$BD$11),MAX($E$2:E723)+1,\"\")","v":""}]
[null,null,null,null,{"$f":"IF(AND(YEAR(C725)=Calendrier!$BD$8,B725=Calendrier!$BD$11),MAX($E$2:E724)+1,\"\")","v":""}]
[null,null,null,null,{"$f":"IF(AND(YEAR(C726)=Calendrier!$BD$8,B726=Calendrier!$BD$11),MAX($E$2:E725)+1,\"\")","v":""}]
[null,null,null,null,{"$f":"IF(AND(YEAR(C727)=Calendrier!$BD$8,B727=Calendrier!$BD$11),MAX($E$2:E726)+1,\"\")","v":""}]
[null,null,null,null,{"$f":"IF(AND(YEAR(C728)=Calendrier!$BD$8,B728=Calendrier!$BD$11),MAX($E$2:E727)+1,\"\")","v":""}]
[null,null,null,null,{"$f":"IF(AND(YEAR(C729)=Calendrier!$BD$8,B729=Calendrier!$BD$11),MAX($E$2:E728)+1,\"\")","v":""}]
[null,null,null,null,{"$f":"IF(AND(YEAR(C730)=Calendrier!$BD$8,B730=Calendrier!$BD$11),MAX($E$2:E729)+1,\"\")","v":""}]
[null,null,null,null,{"$f":"IF(AND(YEAR(C731)=Calendrier!$BD$8,B731=Calendrier!$BD$11),MAX($E$2:E730)+1,\"\")","v":""}]
[null,null,null,null,{"$f":"IF(AND(YEAR(C732)=Calendrier!$BD$8,B732=Calendrier!$BD$11),MAX($E$2:E731)+1,\"\")","v":""}]
[null,null,null,null,{"$f":"IF(AND(YEAR(C733)=Calendrier!$BD$8,B733=Calendrier!$BD$11),MAX($E$2:E732)+1,\"\")","v":""}]
[null,null,null,null,{"$f":"IF(AND(YEAR(C734)=Calendrier!$BD$8,B734=Calendrier!$BD$11),MAX($E$2:E733)+1,\"\")","v":""}]
[null,null,null,null,{"$f":"IF(AND(YEAR(C735)=Calendrier!$BD$8,B735=Calendrier!$BD$11),MAX($E$2:E734)+1,\"\")","v":""}]
[null,null,null,null,{"$f":"IF(AND(YEAR(C736)=Calendrier!$BD$8,B736=Calendrier!$BD$11),MAX($E$2:E735)+1,\"\")","v":""}]
[null,null,null,null,{"$f":"IF(AND(YEAR(C737)=Calendrier!$BD$8,B737=Calendrier!$BD$11),MAX($E$2:E736)+1,\"\")","v":""}]
[null,null,null,null,{"$f":"IF(AND(YEAR(C738)=Calendrier!$BD$8,B738=Calendrier!$BD$11),MAX($E$2:E737)+1,\"\")","v":""}]
[null,null,null,null,{"$f":"IF(AND(YEAR(C739)=Calendrier!$BD$8,B739=Calendrier!$BD$11),MAX($E$2:E738)+1,\"\")","v":""}]
[null,null,null,null,{"$f":"IF(AND(YEAR(C740)=Calendrier!$BD$8,B740=Calendrier!$BD$11),MAX($E$2:E739)+1,\"\")","v":""}]
[null,null,null,null,{"$f":"IF(AND(YEAR(C741)=Calendrier!$BD$8,B741=Calendrier!$BD$11),MAX($E$2:E740)+1,\"\")","v":""}]
[null,null,null,null,{"$f":"IF(AND(YEAR(C742)=Calendrier!$BD$8,B742=Calendrier!$BD$11),MAX($E$2:E741)+1,\"\")","v":""}]
[null,null,null,null,{"$f":"IF(AND(YEAR(C743)=Calendrier!$BD$8,B743=Calendrier!$BD$11),MAX($E$2:E742)+1,\"\")","v":""}]
[null,null,null,null,{"$f":"IF(AND(YEAR(C744)=Calendrier!$BD$8,B744=Calendrier!$BD$11),MAX($E$2:E743)+1,\"\")","v":""}]
[null,null,null,null,{"$f":"IF(AND(YEAR(C745)=Calendrier!$BD$8,B745=Calendrier!$BD$11),MAX($E$2:E744)+1,\"\")","v":""}]
[null,null,null,null,{"$f":"IF(AND(YEAR(C746)=Calendrier!$BD$8,B746=Calendrier!$BD$11),MAX($E$2:E745)+1,\"\")","v":""}]
[null,null,null,null,{"$f":"IF(AND(YEAR(C747)=Calendrier!$BD$8,B747=Calendrier!$BD$11),MAX($E$2:E746)+1,\"\")","v":""}]
[null,null,null,null,{"$f":"IF(AND(YEAR(C748)=Calendrier!$BD$8,B748=Calendrier!$BD$11),MAX($E$2:E747)+1,\"\")","v":""}]
[null,null,null,null,{"$f":"IF(AND(YEAR(C749)=Calendrier!$BD$8,B749=Calendrier!$BD$11),MAX($E$2:E748)+1,\"\")","v":""}]
[null,null,null,null,{"$f":"IF(AND(YEAR(C750)=Calendrier!$BD$8,B750=Calendrier!$BD$11),MAX($E$2:E749)+1,\"\")","v":""}]
[null,null,null,null,{"$f":"IF(AND(YEAR(C751)=Calendrier!$BD$8,B751=Calendrier!$BD$11),MAX($E$2:E750)+1,\"\")","v":""}]
[null,null,null,null,{"$f":"IF(AND(YEAR(C752)=Calendrier!$BD$8,B752=Calendrier!$BD$11),MAX($E$2:E751)+1,\"\")","v":""}]
[null,null,null,null,{"$f":"IF(AND(YEAR(C753)=Calendrier!$BD$8,B753=Calendrier!$BD$11),MAX($E$2:E752)+1,\"\")","v":""}]
[null,null,null,null,{"$f":"IF(AND(YEAR(C754)=Calendrier!$BD$8,B754=Calendrier!$BD$11),MAX($E$2:E753)+1,\"\")","v":""}]
[null,null,null,null,{"$f":"IF(AND(YEAR(C755)=Calendrier!$BD$8,B755=Calendrier!$BD$11),MAX($E$2:E754)+1,\"\")","v":""}]
[null,null,null,null,{"$f":"IF(AND(YEAR(C756)=Calendrier!$BD$8,B756=Calendrier!$BD$11),MAX($E$2:E755)+1,\"\")","v":""}]
[null,null,null,null,{"$f":"IF(AND(YEAR(C757)=Calendrier!$BD$8,B757=Calendrier!$BD$11),MAX($E$2:E756)+1,\"\")","v":""}]
[null,null,null,null,{"$f":"IF(AND(YEAR(C758)=Calendrier!$BD$8,B758=Calendrier!$BD$11),MAX($E$2:E757)+1,\"\")","v":""}]
[null,null,null,null,{"$f":"IF(AND(YEAR(C759)=Calendrier!$BD$8,B759=Calendrier!$BD$11),MAX($E$2:E758)+1,\"\")","v":""}]
[null,null,null,null,{"$f":"IF(AND(YEAR(C760)=Calendrier!$BD$8,B760=Calendrier!$BD$11),MAX($E$2:E759)+1,\"\")","v":""}]
[null,null,null,null,{"$f":"IF(AND(YEAR(C761)=Calendrier!$BD$8,B761=Calendrier!$BD$11),MAX($E$2:E760)+1,\"\")","v":""}]
[null,null,null,null,{"$f":"IF(AND(YEAR(C762)=Calendrier!$BD$8,B762=Calendrier!$BD$11),MAX($E$2:E761)+1,\"\")","v":""}]
[null,null,null,null,{"$f":"IF(AND(YEAR(C763)=Calendrier!$BD$8,B763=Calendrier!$BD$11),MAX($E$2:E762)+1,\"\")","v":""}]
[null,null,null,null,{"$f":"IF(AND(YEAR(C764)=Calendrier!$BD$8,B764=Calendrier!$BD$11),MAX($E$2:E763)+1,\"\")","v":""}]
[null,null,null,null,{"$f":"IF(AND(YEAR(C765)=Calendrier!$BD$8,B765=Calendrier!$BD$11),MAX($E$2:E764)+1,\"\")","v":""}]
[null,null,null,null,{"$f":"IF(AND(YEAR(C766)=Calendrier!$BD$8,B766=Calendrier!$BD$11),MAX($E$2:E765)+1,\"\")","v":""}]
[null,null,null,null,{"$f":"IF(AND(YEAR(C767)=Calendrier!$BD$8,B767=Calendrier!$BD$11),MAX($E$2:E766)+1,\"\")","v":""}]
[null,null,null,null,{"$f":"IF(AND(YEAR(C768)=Calendrier!$BD$8,B768=Calendrier!$BD$11),MAX($E$2:E767)+1,\"\")","v":""}]
[null,null,null,null,{"$f":"IF(AND(YEAR(C769)=Calendrier!$BD$8,B769=Calendrier!$BD$11),MAX($E$2:E768)+1,\"\")","v":""}]
[null,null,null,null,{"$f":"IF(AND(YEAR(C770)=Calendrier!$BD$8,B770=Calendrier!$BD$11),MAX($E$2:E769)+1,\"\")","v":""}]
[null,null,null,null,{"$f":"IF(AND(YEAR(C771)=Calendrier!$BD$8,B771=Calendrier!$BD$11),MAX($E$2:E770)+1,\"\")","v":""}]
[null,null,null,null,{"$f":"IF(AND(YEAR(C772)=Calendrier!$BD$8,B772=Calendrier!$BD$11),MAX($E$2:E771)+1,\"\")","v":""}]
[null,null,null,null,{"$f":"IF(AND(YEAR(C773)=Calendrier!$BD$8,B773=Calendrier!$BD$11),MAX($E$2:E772)+1,\"\")","v":""}]
[null,null,null,null,{"$f":"IF(AND(YEAR(C774)=Calendrier!$BD$8,B774=Calendrier!$BD$11),MAX($E$2:E773)+1,\"\")","v":""}]
[null,null,null,null,{"$f":"IF(AND(YEAR(C775)=Calendrier!$BD$8,B775=Calendrier!$BD$11),MAX($E$2:E774)+1,\"\")","v":""}]
[null,null,null,null,{"$f":"IF(AND(YEAR(C776)=Calendrier!$BD$8,B776=Calendrier!$BD$11),MAX($E$2:E775)+1,\"\")","v":""}]
[null,null,null,null,{"$f":"IF(AND(YEAR(C777)=Calendrier!$BD$8,B777=Calendrier!$BD$11),MAX($E$2:E776)+1,\"\")","v":""}]
[null,null,null,null,{"$f":"IF(AND(YEAR(C778)=Calendrier!$BD$8,B778=Calendrier!$BD$11),MAX($E$2:E777)+1,\"\")","v":""}]
[null,null,null,null,{"$f":"IF(AND(YEAR(C779)=Calendrier!$BD$8,B779=Calendrier!$BD$11),MAX($E$2:E778)+1,\"\")","v":""}]
[null,null,null,null,{"$f":"IF(AND(YEAR(C780)=Calendrier!$BD$8,B780=Calendrier!$BD$11),MAX($E$2:E779)+1,\"\")","v":""}]
[null,null,null,null,{"$f":"IF(AND(YEAR(C781)=Calendrier!$BD$8,B781=Calendrier!$BD$11),MAX($E$2:E780)+1,\"\")","v":""}]
[null,null,null,null,{"$f":"IF(AND(YEAR(C782)=Calendrier!$BD$8,B782=Calendrier!$BD$11),MAX($E$2:E781)+1,\"\")","v":""}]
[null,null,null,null,{"$f":"IF(AND(YEAR(C783)=Calendrier!$BD$8,B783=Calendrier!$BD$11),MAX($E$2:E782)+1,\"\")","v":""}]
[null,null,null,null,{"$f":"IF(AND(YEAR(C784)=Calendrier!$BD$8,B784=Calendrier!$BD$11),MAX($E$2:E783)+1,\"\")","v":""}]
[null,null,null,null,{"$f":"IF(AND(YEAR(C785)=Calendrier!$BD$8,B785=Calendrier!$BD$11),MAX($E$2:E784)+1,\"\")","v":""}]
[null,null,null,null,{"$f":"IF(AND(YEAR(C786)=Calendrier!$BD$8,B786=Calendrier!$BD$11),MAX($E$2:E785)+1,\"\")","v":""}]
[null,null,null,null,{"$f":"IF(AND(YEAR(C787)=Calendrier!$BD$8,B787=Calendrier!$BD$11),MAX($E$2:E786)+1,\"\")","v":""}]
[null,null,null,null,{"$f":"IF(AND(YEAR(C788)=Calendrier!$BD$8,B788=Calendrier!$BD$11),MAX($E$2:E787)+1,\"\")","v":""}]
[null,null,null,null,{"$f":"IF(AND(YEAR(C789)=Calendrier!$BD$8,B789=Calendrier!$BD$11),MAX($E$2:E788)+1,\"\")","v":""}]
[null,null,null,null,{"$f":"IF(AND(YEAR(C790)=Calendrier!$BD$8,B790=Calendrier!$BD$11),MAX($E$2:E789)+1,\"\")","v":""}]
[null,null,null,null,{"$f":"IF(AND(YEAR(C791)=Calendrier!$BD$8,B791=Calendrier!$BD$11),MAX($E$2:E790)+1,\"\")","v":""}]
[null,null,null,null,{"$f":"IF(AND(YEAR(C792)=Calendrier!$BD$8,B792=Calendrier!$BD$11),MAX($E$2:E791)+1,\"\")","v":""}]
[null,null,null,null,{"$f":"IF(AND(YEAR(C793)=Calendrier!$BD$8,B793=Calendrier!$BD$11),MAX($E$2:E792)+1,\"\")","v":""}]
[null,null,null,null,{"$f":"IF(AND(YEAR(C794)=Calendrier!$BD$8,B794=Calendrier!$BD$11),MAX($E$2:E793)+1,\"\")","v":""}]
[null,null,null,null,{"$f":"IF(AND(YEAR(C795)=Calendrier!$BD$8,B795=Calendrier!$BD$11),MAX($E$2:E794)+1,\"\")","v":""}]
[null,null,null,null,{"$f":"IF(AND(YEAR(C796)=Calendrier!$BD$8,B796=Calendrier!$BD$11),MAX($E$2:E795)+1,\"\")","v":""}]
[null,null,null,null,{"$f":"IF(AND(YEAR(C797)=Calendrier!$BD$8,B797=Calendrier!$BD$11),MAX($E$2:E796)+1,\"\")","v":""}]
[null,null,null,null,{"$f":"IF(AND(YEAR(C798)=Calendrier!$BD$8,B798=Calendrier!$BD$11),MAX($E$2:E797)+1,\"\")","v":""}]
[null,null,null,null,{"$f":"IF(AND(YEAR(C799)=Calendrier!$BD$8,B799=Calendrier!$BD$11),MAX($E$2:E798)+1,\"\")","v":""}]
[null,null,null,null,{"$f":"IF(AND(YEAR(C800)=Calendrier!$BD$8,B800=Calendrier!$BD$11),MAX($E$2:E799)+1,\"\")","v":""}]
[null,null,null,null,{"$f":"IF(AND(YEAR(C801)=Calendrier!$BD$8,B801=Calendrier!$BD$11),MAX($E$2:E800)+1,\"\")","v":""}]
[null,null,null,null,{"$f":"IF(AND(YEAR(C802)=Calendrier!$BD$8,B802=Calendrier!$BD$11),MAX($E$2:E801)+1,\"\")","v":""}]
[null,null,null,null,{"$f":"IF(AND(YEAR(C803)=Calendrier!$BD$8,B803=Calendrier!$BD$11),MAX($E$2:E802)+1,\"\")","v":""}]
[null,null,null,null,{"$f":"IF(AND(YEAR(C804)=Calendrier!$BD$8,B804=Calendrier!$BD$11),MAX($E$2:E803)+1,\"\")","v":""}]
[null,null,null,null,{"$f":"IF(AND(YEAR(C805)=Calendrier!$BD$8,B805=Calendrier!$BD$11),MAX($E$2:E804)+1,\"\")","v":""}]
[null,null,null,null,{"$f":"IF(AND(YEAR(C806)=Calendrier!$BD$8,B806=Calendrier!$BD$11),MAX($E$2:E805)+1,\"\")","v":""}]
[null,null,null,null,{"$f":"IF(AND(YEAR(C807)=Calendrier!$BD$8,B807=Calendrier!$BD$11),MAX($E$2:E806)+1,\"\")","v":""}]
[null,null,null,null,{"$f":"IF(AND(YEAR(C808)=Calendrier!$BD$8,B808=Calendrier!$BD$11),MAX($E$2:E807)+1,\"\")","v":""}]
[null,null,null,null,{"$f":"IF(AND(YEAR(C809)=Calendrier!$BD$8,B809=Calendrier!$BD$11),MAX($E$2:E808)+1,\"\")","v":""}]
[null,null,null,null,{"$f":"IF(AND(YEAR(C810)=Calendrier!$BD$8,B810=Calendrier!$BD$11),MAX($E$2:E809)+1,\"\")","v":""}]
[null,null,null,null,{"$f":"IF(AND(YEAR(C811)=Calendrier!$BD$8,B811=Calendrier!$BD$11),MAX($E$2:E810)+1,\"\")","v":""}]
[null,null,null,null,{"$f":"IF(AND(YEAR(C812)=Calendrier!$BD$8,B812=Calendrier!$BD$11),MAX($E$2:E811)+1,\"\")","v":""}]
[null,null,null,null,{"$f":"IF(AND(YEAR(C813)=Calendrier!$BD$8,B813=Calendrier!$BD$11),MAX($E$2:E812)+1,\"\")","v":""}]
[null,null,null,null,{"$f":"IF(AND(YEAR(C814)=Calendrier!$BD$8,B814=Calendrier!$BD$11),MAX($E$2:E813)+1,\"\")","v":""}]
[null,null,null,null,{"$f":"IF(AND(YEAR(C815)=Calendrier!$BD$8,B815=Calendrier!$BD$11),MAX($E$2:E814)+1,\"\")","v":""}]
[null,null,null,null,{"$f":"IF(AND(YEAR(C816)=Calendrier!$BD$8,B816=Calendrier!$BD$11),MAX($E$2:E815)+1,\"\")","v":""}]
[null,null,null,null,{"$f":"IF(AND(YEAR(C817)=Calendrier!$BD$8,B817=Calendrier!$BD$11),MAX($E$2:E816)+1,\"\")","v":""}]
[null,null,null,null,{"$f":"IF(AND(YEAR(C818)=Calendrier!$BD$8,B818=Calendrier!$BD$11),MAX($E$2:E817)+1,\"\")","v":""}]
[null,null,null,null,{"$f":"IF(AND(YEAR(C819)=Calendrier!$BD$8,B819=Calendrier!$BD$11),MAX($E$2:E818)+1,\"\")","v":""}]
[null,null,null,null,{"$f":"IF(AND(YEAR(C820)=Calendrier!$BD$8,B820=Calendrier!$BD$11),MAX($E$2:E819)+1,\"\")","v":""}]
[null,null,null,null,{"$f":"IF(AND(YEAR(C821)=Calendrier!$BD$8,B821=Calendrier!$BD$11),MAX($E$2:E820)+1,\"\")","v":""}]
[null,null,null,null,{"$f":"IF(AND(YEAR(C822)=Calendrier!$BD$8,B822=Calendrier!$BD$11),MAX($E$2:E821)+1,\"\")","v":""}]
[null,null,null,null,{"$f":"IF(AND(YEAR(C823)=Calendrier!$BD$8,B823=Calendrier!$BD$11),MAX($E$2:E822)+1,\"\")","v":""}]
[null,null,null,null,{"$f":"IF(AND(YEAR(C824)=Calendrier!$BD$8,B824=Calendrier!$BD$11),MAX($E$2:E823)+1,\"\")","v":""}]
[null,null,null,null,{"$f":"IF(AND(YEAR(C825)=Calendrier!$BD$8,B825=Calendrier!$BD$11),MAX($E$2:E824)+1,\"\")","v":""}]
[null,null,null,null,{"$f":"IF(AND(YEAR(C826)=Calendrier!$BD$8,B826=Calendrier!$BD$11),MAX($E$2:E825)+1,\"\")","v":""}]
[null,null,null,null,{"$f":"IF(AND(YEAR(C827)=Calendrier!$BD$8,B827=Calendrier!$BD$11),MAX($E$2:E826)+1,\"\")","v":""}]
[null,null,null,null,{"$f":"IF(AND(YEAR(C828)=Calendrier!$BD$8,B828=Calendrier!$BD$11),MAX($E$2:E827)+1,\"\")","v":""}]
[null,null,null,null,{"$f":"IF(AND(YEAR(C829)=Calendrier!$BD$8,B829=Calendrier!$BD$11),MAX($E$2:E828)+1,\"\")","v":""}]
[null,null,null,null,{"$f":"IF(AND(YEAR(C830)=Calendrier!$BD$8,B830=Calendrier!$BD$11),MAX($E$2:E829)+1,\"\")","v":""}]
[null,null,null,null,{"$f":"IF(AND(YEAR(C831)=Calendrier!$BD$8,B831=Calendrier!$BD$11),MAX($E$2:E830)+1,\"\")","v":""}]
[null,null,null,null,{"$f":"IF(AND(YEAR(C832)=Calendrier!$BD$8,B832=Calendrier!$BD$11),MAX($E$2:E831)+1,\"\")","v":""}]
[null,null,null,null,{"$f":"IF(AND(YEAR(C833)=Calendrier!$BD$8,B833=Calendrier!$BD$11),MAX($E$2:E832)+1,\"\")","v":""}]
[null,null,null,null,{"$f":"IF(AND(YEAR(C834)=Calendrier!$BD$8,B834=Calendrier!$BD$11),MAX($E$2:E833)+1,\"\")","v":""}]
[null,null,null,null,{"$f":"IF(AND(YEAR(C835)=Calendrier!$BD$8,B835=Calendrier!$BD$11),MAX($E$2:E834)+1,\"\")","v":""}]
[null,null,null,null,{"$f":"IF(AND(YEAR(C836)=Calendrier!$BD$8,B836=Calendrier!$BD$11),MAX($E$2:E835)+1,\"\")","v":""}]
[null,null,null,null,{"$f":"IF(AND(YEAR(C837)=Calendrier!$BD$8,B837=Calendrier!$BD$11),MAX($E$2:E836)+1,\"\")","v":""}]
[null,null,null,null,{"$f":"IF(AND(YEAR(C838)=Calendrier!$BD$8,B838=Calendrier!$BD$11),MAX($E$2:E837)+1,\"\")","v":""}]
[null,null,null,null,{"$f":"IF(AND(YEAR(C839)=Calendrier!$BD$8,B839=Calendrier!$BD$11),MAX($E$2:E838)+1,\"\")","v":""}]
[null,null,null,null,{"$f":"IF(AND(YEAR(C840)=Calendrier!$BD$8,B840=Calendrier!$BD$11),MAX($E$2:E839)+1,\"\")","v":""}]
[null,null,null,null,{"$f":"IF(AND(YEAR(C841)=Calendrier!$BD$8,B841=Calendrier!$BD$11),MAX($E$2:E840)+1,\"\")","v":""}]
[null,null,null,null,{"$f":"IF(AND(YEAR(C842)=Calendrier!$BD$8,B842=Calendrier!$BD$11),MAX($E$2:E841)+1,\"\")","v":""}]
[null,null,null,null,{"$f":"IF(AND(YEAR(C843)=Calendrier!$BD$8,B843=Calendrier!$BD$11),MAX($E$2:E842)+1,\"\")","v":""}]
[null,null,null,null,{"$f":"IF(AND(YEAR(C844)=Calendrier!$BD$8,B844=Calendrier!$BD$11),MAX($E$2:E843)+1,\"\")","v":""}]
[null,null,null,null,{"$f":"IF(AND(YEAR(C845)=Calendrier!$BD$8,B845=Calendrier!$BD$11),MAX($E$2:E844)+1,\"\")","v":""}]
[null,null,null,null,{"$f":"IF(AND(YEAR(C846)=Calendrier!$BD$8,B846=Calendrier!$BD$11),MAX($E$2:E845)+1,\"\")","v":""}]
[null,null,null,null,{"$f":"IF(AND(YEAR(C847)=Calendrier!$BD$8,B847=Calendrier!$BD$11),MAX($E$2:E846)+1,\"\")","v":""}]
[null,null,null,null,{"$f":"IF(AND(YEAR(C848)=Calendrier!$BD$8,B848=Calendrier!$BD$11),MAX($E$2:E847)+1,\"\")","v":""}]
[null,null,null,null,{"$f":"IF(AND(YEAR(C849)=Calendrier!$BD$8,B849=Calendrier!$BD$11),MAX($E$2:E848)+1,\"\")","v":""}]
[null,null,null,null,{"$f":"IF(AND(YEAR(C850)=Calendrier!$BD$8,B850=Calendrier!$BD$11),MAX($E$2:E849)+1,\"\")","v":""}]
[null,null,null,null,{"$f":"IF(AND(YEAR(C851)=Calendrier!$BD$8,B851=Calendrier!$BD$11),MAX($E$2:E850)+1,\"\")","v":""}]
[null,null,null,null,{"$f":"IF(AND(YEAR(C852)=Calendrier!$BD$8,B852=Calendrier!$BD$11),MAX($E$2:E851)+1,\"\")","v":""}]
[null,null,null,null,{"$f":"IF(AND(YEAR(C853)=Calendrier!$BD$8,B853=Calendrier!$BD$11),MAX($E$2:E852)+1,\"\")","v":""}]
[null,null,null,null,{"$f":"IF(AND(YEAR(C854)=Calendrier!$BD$8,B854=Calendrier!$BD$11),MAX($E$2:E853)+1,\"\")","v":""}]
[null,null,null,null,{"$f":"IF(AND(YEAR(C855)=Calendrier!$BD$8,B855=Calendrier!$BD$11),MAX($E$2:E854)+1,\"\")","v":""}]
[null,null,null,null,{"$f":"IF(AND(YEAR(C856)=Calendrier!$BD$8,B856=Calendrier!$BD$11),MAX($E$2:E855)+1,\"\")","v":""}]
[null,null,null,null,{"$f":"IF(AND(YEAR(C857)=Calendrier!$BD$8,B857=Calendrier!$BD$11),MAX($E$2:E856)+1,\"\")","v":""}]
[null,null,null,null,{"$f":"IF(AND(YEAR(C858)=Calendrier!$BD$8,B858=Calendrier!$BD$11),MAX($E$2:E857)+1,\"\")","v":""}]
[null,null,null,null,{"$f":"IF(AND(YEAR(C859)=Calendrier!$BD$8,B859=Calendrier!$BD$11),MAX($E$2:E858)+1,\"\")","v":""}]
[null,null,null,null,{"$f":"IF(AND(YEAR(C860)=Calendrier!$BD$8,B860=Calendrier!$BD$11),MAX($E$2:E859)+1,\"\")","v":""}]
[null,null,null,null,{"$f":"IF(AND(YEAR(C861)=Calendrier!$BD$8,B861=Calendrier!$BD$11),MAX($E$2:E860)+1,\"\")","v":""}]
[null,null,null,null,{"$f":"IF(AND(YEAR(C862)=Calendrier!$BD$8,B862=Calendrier!$BD$11),MAX($E$2:E861)+1,\"\")","v":""}]
[null,null,null,null,{"$f":"IF(AND(YEAR(C863)=Calendrier!$BD$8,B863=Calendrier!$BD$11),MAX($E$2:E862)+1,\"\")","v":""}]
[null,null,null,null,{"$f":"IF(AND(YEAR(C864)=Calendrier!$BD$8,B864=Calendrier!$BD$11),MAX($E$2:E863)+1,\"\")","v":""}]
[null,null,null,null,{"$f":"IF(AND(YEAR(C865)=Calendrier!$BD$8,B865=Calendrier!$BD$11),MAX($E$2:E864)+1,\"\")","v":""}]
[null,null,null,null,{"$f":"IF(AND(YEAR(C866)=Calendrier!$BD$8,B866=Calendrier!$BD$11),MAX($E$2:E865)+1,\"\")","v":""}]
[null,null,null,null,{"$f":"IF(AND(YEAR(C867)=Calendrier!$BD$8,B867=Calendrier!$BD$11),MAX($E$2:E866)+1,\"\")","v":""}]
[null,null,null,null,{"$f":"IF(AND(YEAR(C868)=Calendrier!$BD$8,B868=Calendrier!$BD$11),MAX($E$2:E867)+1,\"\")","v":""}]
[null,null,null,null,{"$f":"IF(AND(YEAR(C869)=Calendrier!$BD$8,B869=Calendrier!$BD$11),MAX($E$2:E868)+1,\"\")","v":""}]
[null,null,null,null,{"$f":"IF(AND(YEAR(C870)=Calendrier!$BD$8,B870=Calendrier!$BD$11),MAX($E$2:E869)+1,\"\")","v":""}]
[null,null,null,null,{"$f":"IF(AND(YEAR(C871)=Calendrier!$BD$8,B871=Calendrier!$BD$11),MAX($E$2:E870)+1,\"\")","v":""}]
[null,null,null,null,{"$f":"IF(AND(YEAR(C872)=Calendrier!$BD$8,B872=Calendrier!$BD$11),MAX($E$2:E871)+1,\"\")","v":""}]
[null,null,null,null,{"$f":"IF(AND(YEAR(C873)=Calendrier!$BD$8,B873=Calendrier!$BD$11),MAX($E$2:E872)+1,\"\")","v":""}]
[null,null,null,null,{"$f":"IF(AND(YEAR(C874)=Calendrier!$BD$8,B874=Calendrier!$BD$11),MAX($E$2:E873)+1,\"\")","v":""}]
[null,null,null,null,{"$f":"IF(AND(YEAR(C875)=Calendrier!$BD$8,B875=Calendrier!$BD$11),MAX($E$2:E874)+1,\"\")","v":""}]
[null,null,null,null,{"$f":"IF(AND(YEAR(C876)=Calendrier!$BD$8,B876=Calendrier!$BD$11),MAX($E$2:E875)+1,\"\")","v":""}]
[null,null,null,null,{"$f":"IF(AND(YEAR(C877)=Calendrier!$BD$8,B877=Calendrier!$BD$11),MAX($E$2:E876)+1,\"\")","v":""}]
[null,null,null,null,{"$f":"IF(AND(YEAR(C878)=Calendrier!$BD$8,B878=Calendrier!$BD$11),MAX($E$2:E877)+1,\"\")","v":""}]
[null,null,null,null,{"$f":"IF(AND(YEAR(C879)=Calendrier!$BD$8,B879=Calendrier!$BD$11),MAX($E$2:E878)+1,\"\")","v":""}]
[null,null,null,null,{"$f":"IF(AND(YEAR(C880)=Calendrier!$BD$8,B880=Calendrier!$BD$11),MAX($E$2:E879)+1,\"\")","v":""}]
[null,null,null,null,{"$f":"IF(AND(YEAR(C881)=Calendrier!$BD$8,B881=Calendrier!$BD$11),MAX($E$2:E880)+1,\"\")","v":""}]
[null,null,null,null,{"$f":"IF(AND(YEAR(C882)=Calendrier!$BD$8,B882=Calendrier!$BD$11),MAX($E$2:E881)+1,\"\")","v":""}]
[null,null,null,null,{"$f":"IF(AND(YEAR(C883)=Calendrier!$BD$8,B883=Calendrier!$BD$11),MAX($E$2:E882)+1,\"\")","v":""}]
[null,null,null,null,{"$f":"IF(AND(YEAR(C884)=Calendrier!$BD$8,B884=Calendrier!$BD$11),MAX($E$2:E883)+1,\"\")","v":""}]
[null,null,null,null,{"$f":"IF(AND(YEAR(C885)=Calendrier!$BD$8,B885=Calendrier!$BD$11),MAX($E$2:E884)+1,\"\")","v":""}]
[null,null,null,null,{"$f":"IF(AND(YEAR(C886)=Calendrier!$BD$8,B886=Calendrier!$BD$11),MAX($E$2:E885)+1,\"\")","v":""}]
[null,null,null,null,{"$f":"IF(AND(YEAR(C887)=Calendrier!$BD$8,B887=Calendrier!$BD$11),MAX($E$2:E886)+1,\"\")","v":""}]
[null,null,null,null,{"$f":"IF(AND(YEAR(C888)=Calendrier!$BD$8,B888=Calendrier!$BD$11),MAX($E$2:E887)+1,\"\")","v":""}]
[null,null,null,null,{"$f":"IF(AND(YEAR(C889)=Calendrier!$BD$8,B889=Calendrier!$BD$11),MAX($E$2:E888)+1,\"\")","v":""}]
[null,null,null,null,{"$f":"IF(AND(YEAR(C890)=Calendrier!$BD$8,B890=Calendrier!$BD$11),MAX($E$2:E889)+1,\"\")","v":""}]
[null,null,null,null,{"$f":"IF(AND(YEAR(C891)=Calendrier!$BD$8,B891=Calendrier!$BD$11),MAX($E$2:E890)+1,\"\")","v":""}]
[null,null,null,null,{"$f":"IF(AND(YEAR(C892)=Calendrier!$BD$8,B892=Calendrier!$BD$11),MAX($E$2:E891)+1,\"\")","v":""}]
[null,null,null,null,{"$f":"IF(AND(YEAR(C893)=Calendrier!$BD$8,B893=Calendrier!$BD$11),MAX($E$2:E892)+1,\"\")","v":""}]
[null,null,null,null,{"$f":"IF(AND(YEAR(C894)=Calendrier!$BD$8,B894=Calendrier!$BD$11),MAX($E$2:E893)+1,\"\")","v":""}]
[null,null,null,null,{"$f":"IF(AND(YEAR(C895)=Calendrier!$BD$8,B895=Calendrier!$BD$11),MAX($E$2:E894)+1,\"\")","v":""}]
[null,null,null,null,{"$f":"IF(AND(YEAR(C896)=Calendrier!$BD$8,B896=Calendrier!$BD$11),MAX($E$2:E895)+1,\"\")","v":""}]
[null,null,null,null,{"$f":"IF(AND(YEAR(C897)=Calendrier!$BD$8,B897=Calendrier!$BD$11),MAX($E$2:E896)+1,\"\")","v":""}]
[null,null,null,null,{"$f":"IF(AND(YEAR(C898)=Calendrier!$BD$8,B898=Calendrier!$BD$11),MAX($E$2:E897)+1,\"\")","v":""}]
[null,null,null,null,{"$f":"IF(AND(YEAR(C899)=Calendrier!$BD$8,B899=Calendrier!$BD$11),MAX($E$2:E898)+1,\"\")","v":""}]
[null,null,null,null,{"$f":"IF(AND(YEAR(C900)=Calendrier!$BD$8,B900=Calendrier!$BD$11),MAX($E$2:E899)+1,\"\")","v":""}]
[null,null,null,null,{"$f":"IF(AND(YEAR(C901)=Calendrier!$BD$8,B901=Calendrier!$BD$11),MAX($E$2:E900)+1,\"\")","v":""}]
[null,null,null,null,{"$f":"IF(AND(YEAR(C902)=Calendrier!$BD$8,B902=Calendrier!$BD$11),MAX($E$2:E901)+1,\"\")","v":""}]
[null,null,null,null,{"$f":"IF(AND(YEAR(C903)=Calendrier!$BD$8,B903=Calendrier!$BD$11),MAX($E$2:E902)+1,\"\")","v":""}]
[null,null,null,null,{"$f":"IF(AND(YEAR(C904)=Calendrier!$BD$8,B904=Calendrier!$BD$11),MAX($E$2:E903)+1,\"\")","v":""}]
[null,null,null,null,{"$f":"IF(AND(YEAR(C905)=Calendrier!$BD$8,B905=Calendrier!$BD$11),MAX($E$2:E904)+1,\"\")","v":""}]
[null,null,null,null,{"$f":"IF(AND(YEAR(C906)=Calendrier!$BD$8,B906=Calendrier!$BD$11),MAX($E$2:E905)+1,\"\")","v":""}]
[null,null,null,null,{"$f":"IF(AND(YEAR(C907)=Calendrier!$BD$8,B907=Calendrier!$BD$11),MAX($E$2:E906)+1,\"\")","v":""}]
[null,null,null,null,{"$f":"IF(AND(YEAR(C908)=Calendrier!$BD$8,B908=Calendrier!$BD$11),MAX($E$2:E907)+1,\"\")","v":""}]
[null,null,null,null,{"$f":"IF(AND(YEAR(C909)=Calendrier!$BD$8,B909=Calendrier!$BD$11),MAX($E$2:E908)+1,\"\")","v":""}]
[null,null,null,null,{"$f":"IF(AND(YEAR(C910)=Calendrier!$BD$8,B910=Calendrier!$BD$11),MAX($E$2:E909)+1,\"\")","v":""}]
[null,null,null,null,{"$f":"IF(AND(YEAR(C911)=Calendrier!$BD$8,B911=Calendrier!$BD$11),MAX($E$2:E910)+1,\"\")","v":""}]
[null,null,null,null,{"$f":"IF(AND(YEAR(C912)=Calendrier!$BD$8,B912=Calendrier!$BD$11),MAX($E$2:E911)+1,\"\")","v":""}]
[null,null,null,null,{"$f":"IF(AND(YEAR(C913)=Calendrier!$BD$8,B913=Calendrier!$BD$11),MAX($E$2:E912)+1,\"\")","v":""}]
[null,null,null,null,{"$f":"IF(AND(YEAR(C914)=Calendrier!$BD$8,B914=Calendrier!$BD$11),MAX($E$2:E913)+1,\"\")","v":""}]
[null,null,null,null,{"$f":"IF(AND(YEAR(C915)=Calendrier!$BD$8,B915=Calendrier!$BD$11),MAX($E$2:E914)+1,\"\")","v":""}]
[null,null,null,null,{"$f":"IF(AND(YEAR(C916)=Calendrier!$BD$8,B916=Calendrier!$BD$11),MAX($E$2:E915)+1,\"\")","v":""}]
[null,null,null,null,{"$f":"IF(AND(YEAR(C917)=Calendrier!$BD$8,B917=Calendrier!$BD$11),MAX($E$2:E916)+1,\"\")","v":""}]
[null,null,null,null,{"$f":"IF(AND(YEAR(C918)=Calendrier!$BD$8,B918=Calendrier!$BD$11),MAX($E$2:E917)+1,\"\")","v":""}]
[null,null,null,null,{"$f":"IF(AND(YEAR(C919)=Calendrier!$BD$8,B919=Calendrier!$BD$11),MAX($E$2:E918)+1,\"\")","v":""}]
[null,null,null,null,{"$f":"IF(AND(YEAR(C920)=Calendrier!$BD$8,B920=Calendrier!$BD$11),MAX($E$2:E919)+1,\"\")","v":""}]
[null,null,null,null,{"$f":"IF(AND(YEAR(C921)=Calendrier!$BD$8,B921=Calendrier!$BD$11),MAX($E$2:E920)+1,\"\")","v":""}]
[null,null,null,null,{"$f":"IF(AND(YEAR(C922)=Calendrier!$BD$8,B922=Calendrier!$BD$11),MAX($E$2:E921)+1,\"\")","v":""}]
[null,null,null,null,{"$f":"IF(AND(YEAR(C923)=Calendrier!$BD$8,B923=Calendrier!$BD$11),MAX($E$2:E922)+1,\"\")","v":""}]
[null,null,null,null,{"$f":"IF(AND(YEAR(C924)=Calendrier!$BD$8,B924=Calendrier!$BD$11),MAX($E$2:E923)+1,\"\")","v":""}]
[null,null,null,null,{"$f":"IF(AND(YEAR(C925)=Calendrier!$BD$8,B925=Calendrier!$BD$11),MAX($E$2:E924)+1,\"\")","v":""}]
[null,null,null,null,{"$f":"IF(AND(YEAR(C926)=Calendrier!$BD$8,B926=Calendrier!$BD$11),MAX($E$2:E925)+1,\"\")","v":""}]
[null,null,null,null,{"$f":"IF(AND(YEAR(C927)=Calendrier!$BD$8,B927=Calendrier!$BD$11),MAX($E$2:E926)+1,\"\")","v":""}]
[null,null,null,null,{"$f":"IF(AND(YEAR(C928)=Calendrier!$BD$8,B928=Calendrier!$BD$11),MAX($E$2:E927)+1,\"\")","v":""}]
[null,null,null,null,{"$f":"IF(AND(YEAR(C929)=Calendrier!$BD$8,B929=Calendrier!$BD$11),MAX($E$2:E928)+1,\"\")","v":""}]
[null,null,null,null,{"$f":"IF(AND(YEAR(C930)=Calendrier!$BD$8,B930=Calendrier!$BD$11),MAX($E$2:E929)+1,\"\")","v":""}]
[null,null,null,null,{"$f":"IF(AND(YEAR(C931)=Calendrier!$BD$8,B931=Calendrier!$BD$11),MAX($E$2:E930)+1,\"\")","v":""}]
[null,null,null,null,{"$f":"IF(AND(YEAR(C932)=Calendrier!$BD$8,B932=Calendrier!$BD$11),MAX($E$2:E931)+1,\"\")","v":""}]
[null,null,null,null,{"$f":"IF(AND(YEAR(C933)=Calendrier!$BD$8,B933=Calendrier!$BD$11),MAX($E$2:E932)+1,\"\")","v":""}]
[null,null,null,null,{"$f":"IF(AND(YEAR(C934)=Calendrier!$BD$8,B934=Calendrier!$BD$11),MAX($E$2:E933)+1,\"\")","v":""}]
[null,null,null,null,{"$f":"IF(AND(YEAR(C935)=Calendrier!$BD$8,B935=Calendrier!$BD$11),MAX($E$2:E934)+1,\"\")","v":""}]
[null,null,null,null,{"$f":"IF(AND(YEAR(C936)=Calendrier!$BD$8,B936=Calendrier!$BD$11),MAX($E$2:E935)+1,\"\")","v":""}]
[null,null,null,null,{"$f":"IF(AND(YEAR(C937)=Calendrier!$BD$8,B937=Calendrier!$BD$11),MAX($E$2:E936)+1,\"\")","v":""}]
[null,null,null,null,{"$f":"IF(AND(YEAR(C938)=Calendrier!$BD$8,B938=Calendrier!$BD$11),MAX($E$2:E937)+1,\"\")","v":""}]
[null,null,null,null,{"$f":"IF(AND(YEAR(C939)=Calendrier!$BD$8,B939=Calendrier!$BD$11),MAX($E$2:E938)+1,\"\")","v":""}]
[null,null,null,null,{"$f":"IF(AND(YEAR(C940)=Calendrier!$BD$8,B940=Calendrier!$BD$11),MAX($E$2:E939)+1,\"\")","v":""}]
[null,null,null,null,{"$f":"IF(AND(YEAR(C941)=Calendrier!$BD$8,B941=Calendrier!$BD$11),MAX($E$2:E940)+1,\"\")","v":""}]
[null,null,null,null,{"$f":"IF(AND(YEAR(C942)=Calendrier!$BD$8,B942=Calendrier!$BD$11),MAX($E$2:E941)+1,\"\")","v":""}]
[null,null,null,null,{"$f":"IF(AND(YEAR(C943)=Calendrier!$BD$8,B943=Calendrier!$BD$11),MAX($E$2:E942)+1,\"\")","v":""}]
[null,null,null,null,{"$f":"IF(AND(YEAR(C944)=Calendrier!$BD$8,B944=Calendrier!$BD$11),MAX($E$2:E943)+1,\"\")","v":""}]
[null,null,null,null,{"$f":"IF(AND(YEAR(C945)=Calendrier!$BD$8,B945=Calendrier!$BD$11),MAX($E$2:E944)+1,\"\")","v":""}]
[null,null,null,null,{"$f":"IF(AND(YEAR(C946)=Calendrier!$BD$8,B946=Calendrier!$BD$11),MAX($E$2:E945)+1,\"\")","v":""}]
[null,null,null,null,{"$f":"IF(AND(YEAR(C947)=Calendrier!$BD$8,B947=Calendrier!$BD$11),MAX($E$2:E946)+1,\"\")","v":""}]
[null,null,null,null,{"$f":"IF(AND(YEAR(C948)=Calendrier!$BD$8,B948=Calendrier!$BD$11),MAX($E$2:E947)+1,\"\")","v":""}]
[null,null,null,null,{"$f":"IF(AND(YEAR(C949)=Calendrier!$BD$8,B949=Calendrier!$BD$11),MAX($E$2:E948)+1,\"\")","v":""}]
[null,null,null,null,{"$f":"IF(AND(YEAR(C950)=Calendrier!$BD$8,B950=Calendrier!$BD$11),MAX($E$2:E949)+1,\"\")","v":""}]
[null,null,null,null,{"$f":"IF(AND(YEAR(C951)=Calendrier!$BD$8,B951=Calendrier!$BD$11),MAX($E$2:E950)+1,\"\")","v":""}]
[null,null,null,null,{"$f":"IF(AND(YEAR(C952)=Calendrier!$BD$8,B952=Calendrier!$BD$11),MAX($E$2:E951)+1,\"\")","v":""}]
[null,null,null,null,{"$f":"IF(AND(YEAR(C953)=Calendrier!$BD$8,B953=Calendrier!$BD$11),MAX($E$2:E952)+1,\"\")","v":""}]
[null,null,null,null,{"$f":"IF(AND(YEAR(C954)=Calendrier!$BD$8,B954=Calendrier!$BD$11),MAX($E$2:E953)+1,\"\")","v":""}]
[null,null,null,null,{"$f":"IF(AND(YEAR(C955)=Calendrier!$BD$8,B955=Calendrier!$BD$11),MAX($E$2:E954)+1,\"\")","v":""}]
[null,null,null,null,{"$f":"IF(AND(YEAR(C956)=Calendrier!$BD$8,B956=Calendrier!$BD$11),MAX($E$2:E955)+1,\"\")","v":""}]
[null,null,null,null,{"$f":"IF(AND(YEAR(C957)=Calendrier!$BD$8,B957=Calendrier!$BD$11),MAX($E$2:E956)+1,\"\")","v":""}]
[null,null,null,null,{"$f":"IF(AND(YEAR(C958)=Calendrier!$BD$8,B958=Calendrier!$BD$11),MAX($E$2:E957)+1,\"\")","v":""}]
[null,null,null,null,{"$f":"IF(AND(YEAR(C959)=Calendrier!$BD$8,B959=Calendrier!$BD$11),MAX($E$2:E958)+1,\"\")","v":""}]
[null,null,null,null,{"$f":"IF(AND(YEAR(C960)=Calendrier!$BD$8,B960=Calendrier!$BD$11),MAX($E$2:E959)+1,\"\")","v":""}]
[null,null,null,null,{"$f":"IF(AND(YEAR(C961)=Calendrier!$BD$8,B961=Calendrier!$BD$11),MAX($E$2:E960)+1,\"\")","v":""}]
[null,null,null,null,{"$f":"IF(AND(YEAR(C962)=Calendrier!$BD$8,B962=Calendrier!$BD$11),MAX($E$2:E961)+1,\"\")","v":""}]
[null,null,null,null,{"$f":"IF(AND(YEAR(C963)=Calendrier!$BD$8,B963=Calendrier!$BD$11),MAX($E$2:E962)+1,\"\")","v":""}]
[null,null,null,null,{"$f":"IF(AND(YEAR(C964)=Calendrier!$BD$8,B964=Calendrier!$BD$11),MAX($E$2:E963)+1,\"\")","v":""}]
[null,null,null,null,{"$f":"IF(AND(YEAR(C965)=Calendrier!$BD$8,B965=Calendrier!$BD$11),MAX($E$2:E964)+1,\"\")","v":""}]
[null,null,null,null,{"$f":"IF(AND(YEAR(C966)=Calendrier!$BD$8,B966=Calendrier!$BD$11),MAX($E$2:E965)+1,\"\")","v":""}]
[null,null,null,null,{"$f":"IF(AND(YEAR(C967)=Calendrier!$BD$8,B967=Calendrier!$BD$11),MAX($E$2:E966)+1,\"\")","v":""}]
[null,null,null,null,{"$f":"IF(AND(YEAR(C968)=Calendrier!$BD$8,B968=Calendrier!$BD$11),MAX($E$2:E967)+1,\"\")","v":""}]
[null,null,null,null,{"$f":"IF(AND(YEAR(C969)=Calendrier!$BD$8,B969=Calendrier!$BD$11),MAX($E$2:E968)+1,\"\")","v":""}]
[null,null,null,null,{"$f":"IF(AND(YEAR(C970)=Calendrier!$BD$8,B970=Calendrier!$BD$11),MAX($E$2:E969)+1,\"\")","v":""}]
[null,null,null,null,{"$f":"IF(AND(YEAR(C971)=Calendrier!$BD$8,B971=Calendrier!$BD$11),MAX($E$2:E970)+1,\"\")","v":""}]
[null,null,null,null,{"$f":"IF(AND(YEAR(C972)=Calendrier!$BD$8,B972=Calendrier!$BD$11),MAX($E$2:E971)+1,\"\")","v":""}]
[null,null,null,null,{"$f":"IF(AND(YEAR(C973)=Calendrier!$BD$8,B973=Calendrier!$BD$11),MAX($E$2:E972)+1,\"\")","v":""}]
[null,null,null,null,{"$f":"IF(AND(YEAR(C974)=Calendrier!$BD$8,B974=Calendrier!$BD$11),MAX($E$2:E973)+1,\"\")","v":""}]
[null,null,null,null,{"$f":"IF(AND(YEAR(C975)=Calendrier!$BD$8,B975=Calendrier!$BD$11),MAX($E$2:E974)+1,\"\")","v":""}]
[null,null,null,null,{"$f":"IF(AND(YEAR(C976)=Calendrier!$BD$8,B976=Calendrier!$BD$11),MAX($E$2:E975)+1,\"\")","v":""}]
[null,null,null,null,{"$f":"IF(AND(YEAR(C977)=Calendrier!$BD$8,B977=Calendrier!$BD$11),MAX($E$2:E976)+1,\"\")","v":""}]
[null,null,null,null,{"$f":"IF(AND(YEAR(C978)=Calendrier!$BD$8,B978=Calendrier!$BD$11),MAX($E$2:E977)+1,\"\")","v":""}]
[null,null,null,null,{"$f":"IF(AND(YEAR(C979)=Calendrier!$BD$8,B979=Calendrier!$BD$11),MAX($E$2:E978)+1,\"\")","v":""}]
[null,null,null,null,{"$f":"IF(AND(YEAR(C980)=Calendrier!$BD$8,B980=Calendrier!$BD$11),MAX($E$2:E979)+1,\"\")","v":""}]
[null,null,null,null,{"$f":"IF(AND(YEAR(C981)=Calendrier!$BD$8,B981=Calendrier!$BD$11),MAX($E$2:E980)+1,\"\")","v":""}]
[null,null,null,null,{"$f":"IF(AND(YEAR(C982)=Calendrier!$BD$8,B982=Calendrier!$BD$11),MAX($E$2:E981)+1,\"\")","v":""}]
[null,null,null,null,{"$f":"IF(AND(YEAR(C983)=Calendrier!$BD$8,B983=Calendrier!$BD$11),MAX($E$2:E982)+1,\"\")","v":""}]
[null,null,null,null,{"$f":"IF(AND(YEAR(C984)=Calendrier!$BD$8,B984=Calendrier!$BD$11),MAX($E$2:E983)+1,\"\")","v":""}]
[null,null,null,null,{"$f":"IF(AND(YEAR(C985)=Calendrier!$BD$8,B985=Calendrier!$BD$11),MAX($E$2:E984)+1,\"\")","v":""}]
[null,null,null,null,{"$f":"IF(AND(YEAR(C986)=Calendrier!$BD$8,B986=Calendrier!$BD$11),MAX($E$2:E985)+1,\"\")","v":""}]
[null,null,null,null,{"$f":"IF(AND(YEAR(C987)=Calendrier!$BD$8,B987=Calendrier!$BD$11),MAX($E$2:E986)+1,\"\")","v":""}]
[null,null,null,null,{"$f":"IF(AND(YEAR(C988)=Calendrier!$BD$8,B988=Calendrier!$BD$11),MAX($E$2:E987)+1,\"\")","v":""}]
[null,null,null,null,{"$f":"IF(AND(YEAR(C989)=Calendrier!$BD$8,B989=Calendrier!$BD$11),MAX($E$2:E988)+1,\"\")","v":""}]
[null,null,null,null,{"$f":"IF(AND(YEAR(C990)=Calendrier!$BD$8,B990=Calendrier!$BD$11),MAX($E$2:E989)+1,\"\")","v":""}]
[null,null,null,null,{"$f":"IF(AND(YEAR(C991)=Calendrier!$BD$8,B991=Calendrier!$BD$11),MAX($E$2:E990)+1,\"\")","v":""}]
[null,null,null,null,{"$f":"IF(AND(YEAR(C992)=Calendrier!$BD$8,B992=Calendrier!$BD$11),MAX($E$2:E991)+1,\"\")","v":""}]
[null,null,null,null,{"$f":"IF(AND(YEAR(C993)=Calendrier!$BD$8,B993=Calendrier!$BD$11),MAX($E$2:E992)+1,\"\")","v":""}]
[null,null,null,null,{"$f":"IF(AND(YEAR(C994)=Calendrier!$BD$8,B994=Calendrier!$BD$11),MAX($E$2:E993)+1,\"\")","v":""}]
[null,null,null,null,{"$f":"IF(AND(YEAR(C995)=Calendrier!$BD$8,B995=Calendrier!$BD$11),MAX($E$2:E994)+1,\"\")","v":""}]
[null,null,null,null,{"$f":"IF(AND(YEAR(C996)=Calendrier!$BD$8,B996=Calendrier!$BD$11),MAX($E$2:E995)+1,\"\")","v":""}]
[null,null,null,null,{"$f":"IF(AND(YEAR(C997)=Calendrier!$BD$8,B997=Calendrier!$BD$11),MAX($E$2:E996)+1,\"\")","v":""}]
[null,null,null,null,{"$f":"IF(AND(YEAR(C998)=Calendrier!$BD$8,B998=Calendrier!$BD$11),MAX($E$2:E997)+1,\"\")","v":""}]
[null,null,null,null,{"$f":"IF(AND(YEAR(C999)=Calendrier!$BD$8,B999=Calendrier!$BD$11),MAX($E$2:E998)+1,\"\")","v":""}]
[null,null,null,null,{"$f":"IF(AND(YEAR(C1000)=Calendrier!$BD$8,B1000=Calendrier!$BD$11),MAX($E$2:E999)+1,\"\")","v":""}]
[null,null,null,null,{"$f":"IF(AND(YEAR(C1001)=Calendrier!$BD$8,B1001=Calendrier!$BD$11),MAX($E$2:E1000)+1,\"\")","v":""}]
[null,null,null,null,{"$f":"IF(AND(YEAR(C1002)=Calendrier!$BD$8,B1002=Calendrier!$BD$11),MAX($E$2:E1001)+1,\"\")","v":""}]
[null,null,null,null,{"$f":"IF(AND(YEAR(C1003)=Calendrier!$BD$8,B1003=Calendrier!$BD$11),MAX($E$2:E1002)+1,\"\")","v":""}]
[null,null,null,null,{"$f":"IF(AND(YEAR(C1004)=Calendrier!$BD$8,B1004=Calendrier!$BD$11),MAX($E$2:E1003)+1,\"\")","v":""}]
[null,null,null,null,{"$f":"IF(AND(YEAR(C1005)=Calendrier!$BD$8,B1005=Calendrier!$BD$11),MAX($E$2:E1004)+1,\"\")","v":""}]
[null,null,null,null,{"$f":"IF(AND(YEAR(C1006)=Calendrier!$BD$8,B1006=Calendrier!$BD$11),MAX($E$2:E1005)+1,\"\")","v":""}]
[null,null,null,null,{"$f":"IF(AND(YEAR(C1007)=Calendrier!$BD$8,B1007=Calendrier!$BD$11),MAX($E$2:E1006)+1,\"\")","v":""}]
[null,null,null,null,{"$f":"IF(AND(YEAR(C1008)=Calendrier!$BD$8,B1008=Calendrier!$BD$11),MAX($E$2:E1007)+1,\"\")","v":""}]
[null,null,null,null,{"$f":"IF(AND(YEAR(C1009)=Calendrier!$BD$8,B1009=Calendrier!$BD$11),MAX($E$2:E1008)+1,\"\")","v":""}]
[null,null,null,null,{"$f":"IF(AND(YEAR(C1010)=Calendrier!$BD$8,B1010=Calendrier!$BD$11),MAX($E$2:E1009)+1,\"\")","v":""}]
[null,null,null,null,{"$f":"IF(AND(YEAR(C1011)=Calendrier!$BD$8,B1011=Calendrier!$BD$11),MAX($E$2:E1010)+1,\"\")","v":""}]
[null,null,null,null,{"$f":"IF(AND(YEAR(C1012)=Calendrier!$BD$8,B1012=Calendrier!$BD$11),MAX($E$2:E1011)+1,\"\")","v":""}]
[null,null,null,null,{"$f":"IF(AND(YEAR(C1013)=Calendrier!$BD$8,B1013=Calendrier!$BD$11),MAX($E$2:E1012)+1,\"\")","v":""}]
[null,null,null,null,{"$f":"IF(AND(YEAR(C1014)=Calendrier!$BD$8,B1014=Calendrier!$BD$11),MAX($E$2:E1013)+1,\"\")","v":""}]
[null,null,null,null,{"$f":"IF(AND(YEAR(C1015)=Calendrier!$BD$8,B1015=Calendrier!$BD$11),MAX($E$2:E1014)+1,\"\")","v":""}]
[null,null,null,null,{"$f":"IF(AND(YEAR(C1016)=Calendrier!$BD$8,B1016=Calendrier!$BD$11),MAX($E$2:E1015)+1,\"\")","v":""}]
[null,null,null,null,{"$f":"IF(AND(YEAR(C1017)=Calendrier!$BD$8,B1017=Calendrier!$BD$11),MAX($E$2:E1016)+1,\"\")","v":""}]
[null,null,null,null,{"$f":"IF(AND(YEAR(C1018)=Calendrier!$BD$8,B1018=Calendrier!$BD$11),MAX($E$2:E1017)+1,\"\")","v":""}]
[null,null,null,null,{"$f":"IF(AND(YEAR(C1019)=Calendrier!$BD$8,B1019=Calendrier!$BD$11),MAX($E$2:E1018)+1,\"\")","v":""}]
[null,null,null,null,{"$f":"IF(AND(YEAR(C1020)=Calendrier!$BD$8,B1020=Calendrier!$BD$11),MAX($E$2:E1019)+1,\"\")","v":""}]
[null,null,null,null,{"$f":"IF(AND(YEAR(C1021)=Calendrier!$BD$8,B1021=Calendrier!$BD$11),MAX($E$2:E1020)+1,\"\")","v":""}]
[null,null,null,null,{"$f":"IF(AND(YEAR(C1022)=Calendrier!$BD$8,B1022=Calendrier!$BD$11),MAX($E$2:E1021)+1,\"\")","v":""}]
[null,null,null,null,{"$f":"IF(AND(YEAR(C1023)=Calendrier!$BD$8,B1023=Calendrier!$BD$11),MAX($E$2:E1022)+1,\"\")","v":""}]
[null,null,null,null,{"$f":"IF(AND(YEAR(C1024)=Calendrier!$BD$8,B1024=Calendrier!$BD$11),MAX($E$2:E1023)+1,\"\")","v":""}]
[null,null,null,null,{"$f":"IF(AND(YEAR(C1025)=Calendrier!$BD$8,B1025=Calendrier!$BD$11),MAX($E$2:E1024)+1,\"\")","v":""}]
[null,null,null,null,{"$f":"IF(AND(YEAR(C1026)=Calendrier!$BD$8,B1026=Calendrier!$BD$11),MAX($E$2:E1025)+1,\"\")","v":""}]
[null,null,null,null,{"$f":"IF(AND(YEAR(C1027)=Calendrier!$BD$8,B1027=Calendrier!$BD$11),MAX($E$2:E1026)+1,\"\")","v":""}]
[null,null,null,null,{"$f":"IF(AND(YEAR(C1028)=Calendrier!$BD$8,B1028=Calendrier!$BD$11),MAX($E$2:E1027)+1,\"\")","v":""}]
[null,null,null,null,{"$f":"IF(AND(YEAR(C1029)=Calendrier!$BD$8,B1029=Calendrier!$BD$11),MAX($E$2:E1028)+1,\"\")","v":""}]
[null,null,null,null,{"$f":"IF(AND(YEAR(C1030)=Calendrier!$BD$8,B1030=Calendrier!$BD$11),MAX($E$2:E1029)+1,\"\")","v":""}]
[null,null,null,null,{"$f":"IF(AND(YEAR(C1031)=Calendrier!$BD$8,B1031=Calendrier!$BD$11),MAX($E$2:E1030)+1,\"\")","v":""}]
[null,null,null,null,{"$f":"IF(AND(YEAR(C1032)=Calendrier!$BD$8,B1032=Calendrier!$BD$11),MAX($E$2:E1031)+1,\"\")","v":""}]
[null,null,null,null,{"$f":"IF(AND(YEAR(C1033)=Calendrier!$BD$8,B1033=Calendrier!$BD$11),MAX($E$2:E1032)+1,\"\")","v":""}]
[null,null,null,null,{"$f":"IF(AND(YEAR(C1034)=Calendrier!$BD$8,B1034=Calendrier!$BD$11),MAX($E$2:E1033)+1,\"\")","v":""}]
[null,null,null,null,{"$f":"IF(AND(YEAR(C1035)=Calendrier!$BD$8,B1035=Calendrier!$BD$11),MAX($E$2:E1034)+1,\"\")","v":""}]
[null,null,null,null,{"$f":"IF(AND(YEAR(C1036)=Calendrier!$BD$8,B1036=Calendrier!$BD$11),MAX($E$2:E1035)+1,\"\")","v":""}]
[null,null,null,null,{"$f":"IF(AND(YEAR(C1037)=Calendrier!$BD$8,B1037=Calendrier!$BD$11),MAX($E$2:E1036)+1,\"\")","v":""}]
[null,null,null,null,{"$f":"IF(AND(YEAR(C1038)=Calendrier!$BD$8,B1038=Calendrier!$BD$11),MAX($E$2:E1037)+1,\"\")","v":""}]
[null,null,null,null,{"$f":"IF(AND(YEAR(C1039)=Calendrier!$BD$8,B1039=Calendrier!$BD$11),MAX($E$2:E1038)+1,\"\")","v":""}]
[null,null,null,null,{"$f":"IF(AND(YEAR(C1040)=Calendrier!$BD$8,B1040=Calendrier!$BD$11),MAX($E$2:E1039)+1,\"\")","v":""}]
[null,null,null,null,{"$f":"IF(AND(YEAR(C1041)=Calendrier!$BD$8,B1041=Calendrier!$BD$11),MAX($E$2:E1040)+1,\"\")","v":""}]
[null,null,null,null,{"$f":"IF(AND(YEAR(C1042)=Calendrier!$BD$8,B1042=Calendrier!$BD$11),MAX($E$2:E1041)+1,\"\")","v":""}]
[null,null,null,null,{"$f":"IF(AND(YEAR(C1043)=Calendrier!$BD$8,B1043=Calendrier!$BD$11),MAX($E$2:E1042)+1,\"\")","v":""}]
[null,null,null,null,{"$f":"IF(AND(YEAR(C1044)=Calendrier!$BD$8,B1044=Calendrier!$BD$11),MAX($E$2:E1043)+1,\"\")","v":""}]
[null,null,null,null,{"$f":"IF(AND(YEAR(C1045)=Calendrier!$BD$8,B1045=Calendrier!$BD$11),MAX($E$2:E1044)+1,\"\")","v":""}]
[null,null,null,null,{"$f":"IF(AND(YEAR(C1046)=Calendrier!$BD$8,B1046=Calendrier!$BD$11),MAX($E$2:E1045)+1,\"\")","v":""}]
[null,null,null,null,{"$f":"IF(AND(YEAR(C1047)=Calendrier!$BD$8,B1047=Calendrier!$BD$11),MAX($E$2:E1046)+1,\"\")","v":""}]
[null,null,null,null,{"$f":"IF(AND(YEAR(C1048)=Calendrier!$BD$8,B1048=Calendrier!$BD$11),MAX($E$2:E1047)+1,\"\")","v":""}]
[null,null,null,null,{"$f":"IF(AND(YEAR(C1049)=Calendrier!$BD$8,B1049=Calendrier!$BD$11),MAX($E$2:E1048)+1,\"\")","v":""}]
[null,null,null,null,{"$f":"IF(AND(YEAR(C1050)=Calendrier!$BD$8,B1050=Calendrier!$BD$11),MAX($E$2:E1049)+1,\"\")","v":""}]
[null,null,null,null,{"$f":"IF(AND(YEAR(C1051)=Calendrier!$BD$8,B1051=Calendrier!$BD$11),MAX($E$2:E1050)+1,\"\")","v":""}]
[null,null,null,null,{"$f":"IF(AND(YEAR(C1052)=Calendrier!$BD$8,B1052=Calendrier!$BD$11),MAX($E$2:E1051)+1,\"\")","v":""}]
[null,null,null,null,{"$f":"IF(AND(YEAR(C1053)=Calendrier!$BD$8,B1053=Calendrier!$BD$11),MAX($E$2:E1052)+1,\"\")","v":""}]
[null,null,null,null,{"$f":"IF(AND(YEAR(C1054)=Calendrier!$BD$8,B1054=Calendrier!$BD$11),MAX($E$2:E1053)+1,\"\")","v":""}]
[null,null,null,null,{"$f":"IF(AND(YEAR(C1055)=Calendrier!$BD$8,B1055=Calendrier!$BD$11),MAX($E$2:E1054)+1,\"\")","v":""}]
[null,null,null,null,{"$f":"IF(AND(YEAR(C1056)=Calendrier!$BD$8,B1056=Calendrier!$BD$11),MAX($E$2:E1055)+1,\"\")","v":""}]
[null,null,null,null,{"$f":"IF(AND(YEAR(C1057)=Calendrier!$BD$8,B1057=Calendrier!$BD$11),MAX($E$2:E1056)+1,\"\")","v":""}]
[null,null,null,null,{"$f":"IF(AND(YEAR(C1058)=Calendrier!$BD$8,B1058=Calendrier!$BD$11),MAX($E$2:E1057)+1,\"\")","v":""}]
[null,null,null,null,{"$f":"IF(AND(YEAR(C1059)=Calendrier!$BD$8,B1059=Calendrier!$BD$11),MAX($E$2:E1058)+1,\"\")","v":""}]
[null,null,null,null,{"$f":"IF(AND(YEAR(C1060)=Calendrier!$BD$8,B1060=Calendrier!$BD$11),MAX($E$2:E1059)+1,\"\")","v":""}]
[null,null,null,null,{"$f":"IF(AND(YEAR(C1061)=Calendrier!$BD$8,B1061=Calendrier!$BD$11),MAX($E$2:E1060)+1,\"\")","v":""}]
[null,null,null,null,{"$f":"IF(AND(YEAR(C1062)=Calendrier!$BD$8,B1062=Calendrier!$BD$11),MAX($E$2:E1061)+1,\"\")","v":""}]
[null,null,null,null,{"$f":"IF(AND(YEAR(C1063)=Calendrier!$BD$8,B1063=Calendrier!$BD$11),MAX($E$2:E1062)+1,\"\")","v":""}]
[null,null,null,null,{"$f":"IF(AND(YEAR(C1064)=Calendrier!$BD$8,B1064=Calendrier!$BD$11),MAX($E$2:E1063)+1,\"\")","v":""}]
[null,null,null,null,{"$f":"IF(AND(YEAR(C1065)=Calendrier!$BD$8,B1065=Calendrier!$BD$11),MAX($E$2:E1064)+1,\"\")","v":""}]
[null,null,null,null,{"$f":"IF(AND(YEAR(C1066)=Calendrier!$BD$8,B1066=Calendrier!$BD$11),MAX($E$2:E1065)+1,\"\")","v":""}]
[null,null,null,null,{"$f":"IF(AND(YEAR(C1067)=Calendrier!$BD$8,B1067=Calendrier!$BD$11),MAX($E$2:E1066)+1,\"\")","v":""}]
[null,null,null,null,{"$f":"IF(AND(YEAR(C1068)=Calendrier!$BD$8,B1068=Calendrier!$BD$11),MAX($E$2:E1067)+1,\"\")","v":""}]
[null,null,null,null,{"$f":"IF(AND(YEAR(C1069)=Calendrier!$BD$8,B1069=Calendrier!$BD$11),MAX($E$2:E1068)+1,\"\")","v":""}]
[null,null,null,null,{"$f":"IF(AND(YEAR(C1070)=Calendrier!$BD$8,B1070=Calendrier!$BD$11),MAX($E$2:E1069)+1,\"\")","v":""}]
[null,null,null,null,{"$f":"IF(AND(YEAR(C1071)=Calendrier!$BD$8,B1071=Calendrier!$BD$11),MAX($E$2:E1070)+1,\"\")","v":""}]
[null,null,null,null,{"$f":"IF(AND(YEAR(C1072)=Calendrier!$BD$8,B1072=Calendrier!$BD$11),MAX($E$2:E1071)+1,\"\")","v":""}]
[null,null,null,null,{"$f":"IF(AND(YEAR(C1073)=Calendrier!$BD$8,B1073=Calendrier!$BD$11),MAX($E$2:E1072)+1,\"\")","v":""}]
[null,null,null,null,{"$f":"IF(AND(YEAR(C1074)=Calendrier!$BD$8,B1074=Calendrier!$BD$11),MAX($E$2:E1073)+1,\"\")","v":""}]
[null,null,null,null,{"$f":"IF(AND(YEAR(C1075)=Calendrier!$BD$8,B1075=Calendrier!$BD$11),MAX($E$2:E1074)+1,\"\")","v":""}]
[null,null,null,null,{"$f":"IF(AND(YEAR(C1076)=Calendrier!$BD$8,B1076=Calendrier!$BD$11),MAX($E$2:E1075)+1,\"\")","v":""}]
[null,null,null,null,{"$f":"IF(AND(YEAR(C1077)=Calendrier!$BD$8,B1077=Calendrier!$BD$11),MAX($E$2:E1076)+1,\"\")","v":""}]
[null,null,null,null,{"$f":"IF(AND(YEAR(C1078)=Calendrier!$BD$8,B1078=Calendrier!$BD$11),MAX($E$2:E1077)+1,\"\")","v":""}]
[null,null,null,null,{"$f":"IF(AND(YEAR(C1079)=Calendrier!$BD$8,B1079=Calendrier!$BD$11),MAX($E$2:E1078)+1,\"\")","v":""}]
[null,null,null,null,{"$f":"IF(AND(YEAR(C1080)=Calendrier!$BD$8,B1080=Calendrier!$BD$11),MAX($E$2:E1079)+1,\"\")","v":""}]
[null,null,null,null,{"$f":"IF(AND(YEAR(C1081)=Calendrier!$BD$8,B1081=Calendrier!$BD$11),MAX($E$2:E1080)+1,\"\")","v":""}]
[null,null,null,null,{"$f":"IF(AND(YEAR(C1082)=Calendrier!$BD$8,B1082=Calendrier!$BD$11),MAX($E$2:E1081)+1,\"\")","v":""}]
[null,null,null,null,{"$f":"IF(AND(YEAR(C1083)=Calendrier!$BD$8,B1083=Calendrier!$BD$11),MAX($E$2:E1082)+1,\"\")","v":""}]
[null,null,null,null,{"$f":"IF(AND(YEAR(C1084)=Calendrier!$BD$8,B1084=Calendrier!$BD$11),MAX($E$2:E1083)+1,\"\")","v":""}]
[null,null,null,null,{"$f":"IF(AND(YEAR(C1085)=Calendrier!$BD$8,B1085=Calendrier!$BD$11),MAX($E$2:E1084)+1,\"\")","v":""}]
[null,null,null,null,{"$f":"IF(AND(YEAR(C1086)=Calendrier!$BD$8,B1086=Calendrier!$BD$11),MAX($E$2:E1085)+1,\"\")","v":""}]
[null,null,null,null,{"$f":"IF(AND(YEAR(C1087)=Calendrier!$BD$8,B1087=Calendrier!$BD$11),MAX($E$2:E1086)+1,\"\")","v":""}]
[null,null,null,null,{"$f":"IF(AND(YEAR(C1088)=Calendrier!$BD$8,B1088=Calendrier!$BD$11),MAX($E$2:E1087)+1,\"\")","v":""}]
[null,null,null,null,{"$f":"IF(AND(YEAR(C1089)=Calendrier!$BD$8,B1089=Calendrier!$BD$11),MAX($E$2:E1088)+1,\"\")","v":""}]
[null,null,null,null,{"$f":"IF(AND(YEAR(C1090)=Calendrier!$BD$8,B1090=Calendrier!$BD$11),MAX($E$2:E1089)+1,\"\")","v":""}]
[null,null,null,null,{"$f":"IF(AND(YEAR(C1091)=Calendrier!$BD$8,B1091=Calendrier!$BD$11),MAX($E$2:E1090)+1,\"\")","v":""}]
[null,null,null,null,{"$f":"IF(AND(YEAR(C1092)=Calendrier!$BD$8,B1092=Calendrier!$BD$11),MAX($E$2:E1091)+1,\"\")","v":""}]
[null,null,null,null,{"$f":"IF(AND(YEAR(C1093)=Calendrier!$BD$8,B1093=Calendrier!$BD$11),MAX($E$2:E1092)+1,\"\")","v":""}]
[null,null,null,null,{"$f":"IF(AND(YEAR(C1094)=Calendrier!$BD$8,B1094=Calendrier!$BD$11),MAX($E$2:E1093)+1,\"\")","v":""}]
[null,null,null,null,{"$f":"IF(AND(YEAR(C1095)=Calendrier!$BD$8,B1095=Calendrier!$BD$11),MAX($E$2:E1094)+1,\"\")","v":""}]
[null,null,null,null,{"$f":"IF(AND(YEAR(C1096)=Calendrier!$BD$8,B1096=Calendrier!$BD$11),MAX($E$2:E1095)+1,\"\")","v":""}]
[null,null,null,null,{"$f":"IF(AND(YEAR(C1097)=Calendrier!$BD$8,B1097=Calendrier!$BD$11),MAX($E$2:E1096)+1,\"\")","v":""}]
[null,null,null,null,{"$f":"IF(AND(YEAR(C1098)=Calendrier!$BD$8,B1098=Calendrier!$BD$11),MAX($E$2:E1097)+1,\"\")","v":""}]
[null,null,null,null,{"$f":"IF(AND(YEAR(C1099)=Calendrier!$BD$8,B1099=Calendrier!$BD$11),MAX($E$2:E1098)+1,\"\")","v":""}]
[null,null,null,null,{"$f":"IF(AND(YEAR(C1100)=Calendrier!$BD$8,B1100=Calendrier!$BD$11),MAX($E$2:E1099)+1,\"\")","v":""}]
[null,null,null,null,{"$f":"IF(AND(YEAR(C1101)=Calendrier!$BD$8,B1101=Calendrier!$BD$11),MAX($E$2:E1100)+1,\"\")","v":""}]
[null,null,null,null,{"$f":"IF(AND(YEAR(C1102)=Calendrier!$BD$8,B1102=Calendrier!$BD$11),MAX($E$2:E1101)+1,\"\")","v":""}]
[null,null,null,null,{"$f":"IF(AND(YEAR(C1103)=Calendrier!$BD$8,B1103=Calendrier!$BD$11),MAX($E$2:E1102)+1,\"\")","v":""}]
[null,null,null,null,{"$f":"IF(AND(YEAR(C1104)=Calendrier!$BD$8,B1104=Calendrier!$BD$11),MAX($E$2:E1103)+1,\"\")","v":""}]
[null,null,null,null,{"$f":"IF(AND(YEAR(C1105)=Calendrier!$BD$8,B1105=Calendrier!$BD$11),MAX($E$2:E1104)+1,\"\")","v":""}]
[null,null,null,null,{"$f":"IF(AND(YEAR(C1106)=Calendrier!$BD$8,B1106=Calendrier!$BD$11),MAX($E$2:E1105)+1,\"\")","v":""}]
[null,null,null,null,{"$f":"IF(AND(YEAR(C1107)=Calendrier!$BD$8,B1107=Calendrier!$BD$11),MAX($E$2:E1106)+1,\"\")","v":""}]
[null,null,null,null,{"$f":"IF(AND(YEAR(C1108)=Calendrier!$BD$8,B1108=Calendrier!$BD$11),MAX($E$2:E1107)+1,\"\")","v":""}]
[null,null,null,null,{"$f":"IF(AND(YEAR(C1109)=Calendrier!$BD$8,B1109=Calendrier!$BD$11),MAX($E$2:E1108)+1,\"\")","v":""}]
[null,null,null,null,{"$f":"IF(AND(YEAR(C1110)=Calendrier!$BD$8,B1110=Calendrier!$BD$11),MAX($E$2:E1109)+1,\"\")","v":""}]
[null,null,null,null,{"$f":"IF(AND(YEAR(C1111)=Calendrier!$BD$8,B1111=Calendrier!$BD$11),MAX($E$2:E1110)+1,\"\")","v":""}]
[null,null,null,null,{"$f":"IF(AND(YEAR(C1112)=Calendrier!$BD$8,B1112=Calendrier!$BD$11),MAX($E$2:E1111)+1,\"\")","v":""}]
[null,null,null,null,{"$f":"IF(AND(YEAR(C1113)=Calendrier!$BD$8,B1113=Calendrier!$BD$11),MAX($E$2:E1112)+1,\"\")","v":""}]
[null,null,null,null,{"$f":"IF(AND(YEAR(C1114)=Calendrier!$BD$8,B1114=Calendrier!$BD$11),MAX($E$2:E1113)+1,\"\")","v":""}]
[null,null,null,null,{"$f":"IF(AND(YEAR(C1115)=Calendrier!$BD$8,B1115=Calendrier!$BD$11),MAX($E$2:E1114)+1,\"\")","v":""}]
[null,null,null,null,{"$f":"IF(AND(YEAR(C1116)=Calendrier!$BD$8,B1116=Calendrier!$BD$11),MAX($E$2:E1115)+1,\"\")","v":""}]
[null,null,null,null,{"$f":"IF(AND(YEAR(C1117)=Calendrier!$BD$8,B1117=Calendrier!$BD$11),MAX($E$2:E1116)+1,\"\")","v":""}]
[null,null,null,null,{"$f":"IF(AND(YEAR(C1118)=Calendrier!$BD$8,B1118=Calendrier!$BD$11),MAX($E$2:E1117)+1,\"\")","v":""}]
[null,null,null,null,{"$f":"IF(AND(YEAR(C1119)=Calendrier!$BD$8,B1119=Calendrier!$BD$11),MAX($E$2:E1118)+1,\"\")","v":""}]
[null,null,null,null,{"$f":"IF(AND(YEAR(C1120)=Calendrier!$BD$8,B1120=Calendrier!$BD$11),MAX($E$2:E1119)+1,\"\")","v":""}]
[null,null,null,null,{"$f":"IF(AND(YEAR(C1121)=Calendrier!$BD$8,B1121=Calendrier!$BD$11),MAX($E$2:E1120)+1,\"\")","v":""}]
[null,null,null,null,{"$f":"IF(AND(YEAR(C1122)=Calendrier!$BD$8,B1122=Calendrier!$BD$11),MAX($E$2:E1121)+1,\"\")","v":""}]
[null,null,null,null,{"$f":"IF(AND(YEAR(C1123)=Calendrier!$BD$8,B1123=Calendrier!$BD$11),MAX($E$2:E1122)+1,\"\")","v":""}]
[null,null,null,null,{"$f":"IF(AND(YEAR(C1124)=Calendrier!$BD$8,B1124=Calendrier!$BD$11),MAX($E$2:E1123)+1,\"\")","v":""}]
[null,null,null,null,{"$f":"IF(AND(YEAR(C1125)=Calendrier!$BD$8,B1125=Calendrier!$BD$11),MAX($E$2:E1124)+1,\"\")","v":""}]
[null,null,null,null,{"$f":"IF(AND(YEAR(C1126)=Calendrier!$BD$8,B1126=Calendrier!$BD$11),MAX($E$2:E1125)+1,\"\")","v":""}]
[null,null,null,null,{"$f":"IF(AND(YEAR(C1127)=Calendrier!$BD$8,B1127=Calendrier!$BD$11),MAX($E$2:E1126)+1,\"\")","v":""}]
[null,null,null,null,{"$f":"IF(AND(YEAR(C1128)=Calendrier!$BD$8,B1128=Calendrier!$BD$11),MAX($E$2:E1127)+1,\"\")","v":""}]
[null,null,null,null,{"$f":"IF(AND(YEAR(C1129)=Calendrier!$BD$8,B1129=Calendrier!$BD$11),MAX($E$2:E1128)+1,\"\")","v":""}]
[null,null,null,null,{"$f":"IF(AND(YEAR(C1130)=Calendrier!$BD$8,B1130=Calendrier!$BD$11),MAX($E$2:E1129)+1,\"\")","v":""}]
[null,null,null,null,{"$f":"IF(AND(YEAR(C1131)=Calendrier!$BD$8,B1131=Calendrier!$BD$11),MAX($E$2:E1130)+1,\"\")","v":""}]
[null,null,null,null,{"$f":"IF(AND(YEAR(C1132)=Calendrier!$BD$8,B1132=Calendrier!$BD$11),MAX($E$2:E1131)+1,\"\")","v":""}]
[null,null,null,null,{"$f":"IF(AND(YEAR(C1133)=Calendrier!$BD$8,B1133=Calendrier!$BD$11),MAX($E$2:E1132)+1,\"\")","v":""}]
[null,null,null,null,{"$f":"IF(AND(YEAR(C1134)=Calendrier!$BD$8,B1134=Calendrier!$BD$11),MAX($E$2:E1133)+1,\"\")","v":""}]
[null,null,null,null,{"$f":"IF(AND(YEAR(C1135)=Calendrier!$BD$8,B1135=Calendrier!$BD$11),MAX($E$2:E1134)+1,\"\")","v":""}]
[null,null,null,null,{"$f":"IF(AND(YEAR(C1136)=Calendrier!$BD$8,B1136=Calendrier!$BD$11),MAX($E$2:E1135)+1,\"\")","v":""}]
[null,null,null,null,{"$f":"IF(AND(YEAR(C1137)=Calendrier!$BD$8,B1137=Calendrier!$BD$11),MAX($E$2:E1136)+1,\"\")","v":""}]
[null,null,null,null,{"$f":"IF(AND(YEAR(C1138)=Calendrier!$BD$8,B1138=Calendrier!$BD$11),MAX($E$2:E1137)+1,\"\")","v":""}]
[null,null,null,null,{"$f":"IF(AND(YEAR(C1139)=Calendrier!$BD$8,B1139=Calendrier!$BD$11),MAX($E$2:E1138)+1,\"\")","v":""}]
[null,null,null,null,{"$f":"IF(AND(YEAR(C1140)=Calendrier!$BD$8,B1140=Calendrier!$BD$11),MAX($E$2:E1139)+1,\"\")","v":""}]
[null,null,null,null,{"$f":"IF(AND(YEAR(C1141)=Calendrier!$BD$8,B1141=Calendrier!$BD$11),MAX($E$2:E1140)+1,\"\")","v":""}]
[null,null,null,null,{"$f":"IF(AND(YEAR(C1142)=Calendrier!$BD$8,B1142=Calendrier!$BD$11),MAX($E$2:E1141)+1,\"\")","v":""}]
[null,null,null,null,{"$f":"IF(AND(YEAR(C1143)=Calendrier!$BD$8,B1143=Calendrier!$BD$11),MAX($E$2:E1142)+1,\"\")","v":""}]
[null,null,null,null,{"$f":"IF(AND(YEAR(C1144)=Calendrier!$BD$8,B1144=Calendrier!$BD$11),MAX($E$2:E1143)+1,\"\")","v":""}]
[null,null,null,null,{"$f":"IF(AND(YEAR(C1145)=Calendrier!$BD$8,B1145=Calendrier!$BD$11),MAX($E$2:E1144)+1,\"\")","v":""}]
[null,null,null,null,{"$f":"IF(AND(YEAR(C1146)=Calendrier!$BD$8,B1146=Calendrier!$BD$11),MAX($E$2:E1145)+1,\"\")","v":""}]
[null,null,null,null,{"$f":"IF(AND(YEAR(C1147)=Calendrier!$BD$8,B1147=Calendrier!$BD$11),MAX($E$2:E1146)+1,\"\")","v":""}]
[null,null,null,null,{"$f":"IF(AND(YEAR(C1148)=Calendrier!$BD$8,B1148=Calendrier!$BD$11),MAX($E$2:E1147)+1,\"\")","v":""}]
[null,null,null,null,{"$f":"IF(AND(YEAR(C1149)=Calendrier!$BD$8,B1149=Calendrier!$BD$11),MAX($E$2:E1148)+1,\"\")","v":""}]
[null,null,null,null,{"$f":"IF(AND(YEAR(C1150)=Calendrier!$BD$8,B1150=Calendrier!$BD$11),MAX($E$2:E1149)+1,\"\")","v":""}]
[null,null,null,null,{"$f":"IF(AND(YEAR(C1151)=Calendrier!$BD$8,B1151=Calendrier!$BD$11),MAX($E$2:E1150)+1,\"\")","v":""}]
[null,null,null,null,{"$f":"IF(AND(YEAR(C1152)=Calendrier!$BD$8,B1152=Calendrier!$BD$11),MAX($E$2:E1151)+1,\"\")","v":""}]
[null,null,null,null,{"$f":"IF(AND(YEAR(C1153)=Calendrier!$BD$8,B1153=Calendrier!$BD$11),MAX($E$2:E1152)+1,\"\")","v":""}]
[null,null,null,null,{"$f":"IF(AND(YEAR(C1154)=Calendrier!$BD$8,B1154=Calendrier!$BD$11),MAX($E$2:E1153)+1,\"\")","v":""}]
[null,null,null,null,{"$f":"IF(AND(YEAR(C1155)=Calendrier!$BD$8,B1155=Calendrier!$BD$11),MAX($E$2:E1154)+1,\"\")","v":""}]
[null,null,null,null,{"$f":"IF(AND(YEAR(C1156)=Calendrier!$BD$8,B1156=Calendrier!$BD$11),MAX($E$2:E1155)+1,\"\")","v":""}]
[null,null,null,null,{"$f":"IF(AND(YEAR(C1157)=Calendrier!$BD$8,B1157=Calendrier!$BD$11),MAX($E$2:E1156)+1,\"\")","v":""}]
[null,null,null,null,{"$f":"IF(AND(YEAR(C1158)=Calendrier!$BD$8,B1158=Calendrier!$BD$11),MAX($E$2:E1157)+1,\"\")","v":""}]
[null,null,null,null,{"$f":"IF(AND(YEAR(C1159)=Calendrier!$BD$8,B1159=Calendrier!$BD$11),MAX($E$2:E1158)+1,\"\")","v":""}]
[null,null,null,null,{"$f":"IF(AND(YEAR(C1160)=Calendrier!$BD$8,B1160=Calendrier!$BD$11),MAX($E$2:E1159)+1,\"\")","v":""}]
[null,null,null,null,{"$f":"IF(AND(YEAR(C1161)=Calendrier!$BD$8,B1161=Calendrier!$BD$11),MAX($E$2:E1160)+1,\"\")","v":""}]
[null,null,null,null,{"$f":"IF(AND(YEAR(C1162)=Calendrier!$BD$8,B1162=Calendrier!$BD$11),MAX($E$2:E1161)+1,\"\")","v":""}]
[null,null,null,null,{"$f":"IF(AND(YEAR(C1163)=Calendrier!$BD$8,B1163=Calendrier!$BD$11),MAX($E$2:E1162)+1,\"\")","v":""}]
[null,null,null,null,{"$f":"IF(AND(YEAR(C1164)=Calendrier!$BD$8,B1164=Calendrier!$BD$11),MAX($E$2:E1163)+1,\"\")","v":""}]
[null,null,null,null,{"$f":"IF(AND(YEAR(C1165)=Calendrier!$BD$8,B1165=Calendrier!$BD$11),MAX($E$2:E1164)+1,\"\")","v":""}]
[null,null,null,null,{"$f":"IF(AND(YEAR(C1166)=Calendrier!$BD$8,B1166=Calendrier!$BD$11),MAX($E$2:E1165)+1,\"\")","v":""}]
[null,null,null,null,{"$f":"IF(AND(YEAR(C1167)=Calendrier!$BD$8,B1167=Calendrier!$BD$11),MAX($E$2:E1166)+1,\"\")","v":""}]
[null,null,null,null,{"$f":"IF(AND(YEAR(C1168)=Calendrier!$BD$8,B1168=Calendrier!$BD$11),MAX($E$2:E1167)+1,\"\")","v":""}]
[null,null,null,null,{"$f":"IF(AND(YEAR(C1169)=Calendrier!$BD$8,B1169=Calendrier!$BD$11),MAX($E$2:E1168)+1,\"\")","v":""}]
[null,null,null,null,{"$f":"IF(AND(YEAR(C1170)=Calendrier!$BD$8,B1170=Calendrier!$BD$11),MAX($E$2:E1169)+1,\"\")","v":""}]
[null,null,null,null,{"$f":"IF(AND(YEAR(C1171)=Calendrier!$BD$8,B1171=Calendrier!$BD$11),MAX($E$2:E1170)+1,\"\")","v":""}]
[null,null,null,null,{"$f":"IF(AND(YEAR(C1172)=Calendrier!$BD$8,B1172=Calendrier!$BD$11),MAX($E$2:E1171)+1,\"\")","v":""}]
[null,null,null,null,{"$f":"IF(AND(YEAR(C1173)=Calendrier!$BD$8,B1173=Calendrier!$BD$11),MAX($E$2:E1172)+1,\"\")","v":""}]
[null,null,null,null,{"$f":"IF(AND(YEAR(C1174)=Calendrier!$BD$8,B1174=Calendrier!$BD$11),MAX($E$2:E1173)+1,\"\")","v":""}]
[null,null,null,null,{"$f":"IF(AND(YEAR(C1175)=Calendrier!$BD$8,B1175=Calendrier!$BD$11),MAX($E$2:E1174)+1,\"\")","v":""}]
[null,null,null,null,{"$f":"IF(AND(YEAR(C1176)=Calendrier!$BD$8,B1176=Calendrier!$BD$11),MAX($E$2:E1175)+1,\"\")","v":""}]
[null,null,null,null,{"$f":"IF(AND(YEAR(C1177)=Calendrier!$BD$8,B1177=Calendrier!$BD$11),MAX($E$2:E1176)+1,\"\")","v":""}]
[null,null,null,null,{"$f":"IF(AND(YEAR(C1178)=Calendrier!$BD$8,B1178=Calendrier!$BD$11),MAX($E$2:E1177)+1,\"\")","v":""}]
[null,null,null,null,{"$f":"IF(AND(YEAR(C1179)=Calendrier!$BD$8,B1179=Calendrier!$BD$11),MAX($E$2:E1178)+1,\"\")","v":""}]
[null,null,null,null,{"$f":"IF(AND(YEAR(C1180)=Calendrier!$BD$8,B1180=Calendrier!$BD$11),MAX($E$2:E1179)+1,\"\")","v":""}]
[null,null,null,null,{"$f":"IF(AND(YEAR(C1181)=Calendrier!$BD$8,B1181=Calendrier!$BD$11),MAX($E$2:E1180)+1,\"\")","v":""}]
[null,null,null,null,{"$f":"IF(AND(YEAR(C1182)=Calendrier!$BD$8,B1182=Calendrier!$BD$11),MAX($E$2:E1181)+1,\"\")","v":""}]
[null,null,null,null,{"$f":"IF(AND(YEAR(C1183)=Calendrier!$BD$8,B1183=Calendrier!$BD$11),MAX($E$2:E1182)+1,\"\")","v":""}]
[null,null,null,null,{"$f":"IF(AND(YEAR(C1184)=Calendrier!$BD$8,B1184=Calendrier!$BD$11),MAX($E$2:E1183)+1,\"\")","v":""}]
[null,null,null,null,{"$f":"IF(AND(YEAR(C1185)=Calendrier!$BD$8,B1185=Calendrier!$BD$11),MAX($E$2:E1184)+1,\"\")","v":""}]
[null,null,null,null,{"$f":"IF(AND(YEAR(C1186)=Calendrier!$BD$8,B1186=Calendrier!$BD$11),MAX($E$2:E1185)+1,\"\")","v":""}]
[null,null,null,null,{"$f":"IF(AND(YEAR(C1187)=Calendrier!$BD$8,B1187=Calendrier!$BD$11),MAX($E$2:E1186)+1,\"\")","v":""}]
[null,null,null,null,{"$f":"IF(AND(YEAR(C1188)=Calendrier!$BD$8,B1188=Calendrier!$BD$11),MAX($E$2:E1187)+1,\"\")","v":""}]
[null,null,null,null,{"$f":"IF(AND(YEAR(C1189)=Calendrier!$BD$8,B1189=Calendrier!$BD$11),MAX($E$2:E1188)+1,\"\")","v":""}]
[null,null,null,null,{"$f":"IF(AND(YEAR(C1190)=Calendrier!$BD$8,B1190=Calendrier!$BD$11),MAX($E$2:E1189)+1,\"\")","v":""}]
[null,null,null,null,{"$f":"IF(AND(YEAR(C1191)=Calendrier!$BD$8,B1191=Calendrier!$BD$11),MAX($E$2:E1190)+1,\"\")","v":""}]
[null,null,null,null,{"$f":"IF(AND(YEAR(C1192)=Calendrier!$BD$8,B1192=Calendrier!$BD$11),MAX($E$2:E1191)+1,\"\")","v":""}]
[null,null,null,null,{"$f":"IF(AND(YEAR(C1193)=Calendrier!$BD$8,B1193=Calendrier!$BD$11),MAX($E$2:E1192)+1,\"\")","v":""}]
[null,null,null,null,{"$f":"IF(AND(YEAR(C1194)=Calendrier!$BD$8,B1194=Calendrier!$BD$11),MAX($E$2:E1193)+1,\"\")","v":""}]
[null,null,null,null,{"$f":"IF(AND(YEAR(C1195)=Calendrier!$BD$8,B1195=Calendrier!$BD$11),MAX($E$2:E1194)+1,\"\")","v":""}]
[null,null,null,null,{"$f":"IF(AND(YEAR(C1196)=Calendrier!$BD$8,B1196=Calendrier!$BD$11),MAX($E$2:E1195)+1,\"\")","v":""}]
[null,null,null,null,{"$f":"IF(AND(YEAR(C1197)=Calendrier!$BD$8,B1197=Calendrier!$BD$11),MAX($E$2:E1196)+1,\"\")","v":""}]
[null,null,null,null,{"$f":"IF(AND(YEAR(C1198)=Calendrier!$BD$8,B1198=Calendrier!$BD$11),MAX($E$2:E1197)+1,\"\")","v":""}]
[null,null,null,null,{"$f":"IF(AND(YEAR(C1199)=Calendrier!$BD$8,B1199=Calendrier!$BD$11),MAX($E$2:E1198)+1,\"\")","v":""}]
[null,null,null,null,{"$f":"IF(AND(YEAR(C1200)=Calendrier!$BD$8,B1200=Calendrier!$BD$11),MAX($E$2:E1199)+1,\"\")","v":""}]
[null,null,null,null,{"$f":"IF(AND(YEAR(C1201)=Calendrier!$BD$8,B1201=Calendrier!$BD$11),MAX($E$2:E1200)+1,\"\")","v":""}]
[null,null,null,null,{"$f":"IF(AND(YEAR(C1202)=Calendrier!$BD$8,B1202=Calendrier!$BD$11),MAX($E$2:E1201)+1,\"\")","v":""}]
[null,null,null,null,{"$f":"IF(AND(YEAR(C1203)=Calendrier!$BD$8,B1203=Calendrier!$BD$11),MAX($E$2:E1202)+1,\"\")","v":""}]
[null,null,null,null,{"$f":"IF(AND(YEAR(C1204)=Calendrier!$BD$8,B1204=Calendrier!$BD$11),MAX($E$2:E1203)+1,\"\")","v":""}]
[null,null,null,null,{"$f":"IF(AND(YEAR(C1205)=Calendrier!$BD$8,B1205=Calendrier!$BD$11),MAX($E$2:E1204)+1,\"\")","v":""}]
[null,null,null,null,{"$f":"IF(AND(YEAR(C1206)=Calendrier!$BD$8,B1206=Calendrier!$BD$11),MAX($E$2:E1205)+1,\"\")","v":""}]
[null,null,null,null,{"$f":"IF(AND(YEAR(C1207)=Calendrier!$BD$8,B1207=Calendrier!$BD$11),MAX($E$2:E1206)+1,\"\")","v":""}]
[null,null,null,null,{"$f":"IF(AND(YEAR(C1208)=Calendrier!$BD$8,B1208=Calendrier!$BD$11),MAX($E$2:E1207)+1,\"\")","v":""}]
[null,null,null,null,{"$f":"IF(AND(YEAR(C1209)=Calendrier!$BD$8,B1209=Calendrier!$BD$11),MAX($E$2:E1208)+1,\"\")","v":""}]
[null,null,null,null,{"$f":"IF(AND(YEAR(C1210)=Calendrier!$BD$8,B1210=Calendrier!$BD$11),MAX($E$2:E1209)+1,\"\")","v":""}]
[null,null,null,null,{"$f":"IF(AND(YEAR(C1211)=Calendrier!$BD$8,B1211=Calendrier!$BD$11),MAX($E$2:E1210)+1,\"\")","v":""}]
[null,null,null,null,{"$f":"IF(AND(YEAR(C1212)=Calendrier!$BD$8,B1212=Calendrier!$BD$11),MAX($E$2:E1211)+1,\"\")","v":""}]
[null,null,null,null,{"$f":"IF(AND(YEAR(C1213)=Calendrier!$BD$8,B1213=Calendrier!$BD$11),MAX($E$2:E1212)+1,\"\")","v":""}]
[null,null,null,null,{"$f":"IF(AND(YEAR(C1214)=Calendrier!$BD$8,B1214=Calendrier!$BD$11),MAX($E$2:E1213)+1,\"\")","v":""}]
[null,null,null,null,{"$f":"IF(AND(YEAR(C1215)=Calendrier!$BD$8,B1215=Calendrier!$BD$11),MAX($E$2:E1214)+1,\"\")","v":""}]
[null,null,null,null,{"$f":"IF(AND(YEAR(C1216)=Calendrier!$BD$8,B1216=Calendrier!$BD$11),MAX($E$2:E1215)+1,\"\")","v":""}]
[null,null,null,null,{"$f":"IF(AND(YEAR(C1217)=Calendrier!$BD$8,B1217=Calendrier!$BD$11),MAX($E$2:E1216)+1,\"\")","v":""}]
[null,null,null,null,{"$f":"IF(AND(YEAR(C1218)=Calendrier!$BD$8,B1218=Calendrier!$BD$11),MAX($E$2:E1217)+1,\"\")","v":""}]
[null,null,null,null,{"$f":"IF(AND(YEAR(C1219)=Calendrier!$BD$8,B1219=Calendrier!$BD$11),MAX($E$2:E1218)+1,\"\")","v":""}]
[null,null,null,null,{"$f":"IF(AND(YEAR(C1220)=Calendrier!$BD$8,B1220=Calendrier!$BD$11),MAX($E$2:E1219)+1,\"\")","v":""}]
[null,null,null,null,{"$f":"IF(AND(YEAR(C1221)=Calendrier!$BD$8,B1221=Calendrier!$BD$11),MAX($E$2:E1220)+1,\"\")","v":""}]
[null,null,null,null,{"$f":"IF(AND(YEAR(C1222)=Calendrier!$BD$8,B1222=Calendrier!$BD$11),MAX($E$2:E1221)+1,\"\")","v":""}]
[null,null,null,null,{"$f":"IF(AND(YEAR(C1223)=Calendrier!$BD$8,B1223=Calendrier!$BD$11),MAX($E$2:E1222)+1,\"\")","v":""}]
[null,null,null,null,{"$f":"IF(AND(YEAR(C1224)=Calendrier!$BD$8,B1224=Calendrier!$BD$11),MAX($E$2:E1223)+1,\"\")","v":""}]
[null,null,null,null,{"$f":"IF(AND(YEAR(C1225)=Calendrier!$BD$8,B1225=Calendrier!$BD$11),MAX($E$2:E1224)+1,\"\")","v":""}]
[null,null,null,null,{"$f":"IF(AND(YEAR(C1226)=Calendrier!$BD$8,B1226=Calendrier!$BD$11),MAX($E$2:E1225)+1,\"\")","v":""}]
[null,null,null,null,{"$f":"IF(AND(YEAR(C1227)=Calendrier!$BD$8,B1227=Calendrier!$BD$11),MAX($E$2:E1226)+1,\"\")","v":""}]
[null,null,null,null,{"$f":"IF(AND(YEAR(C1228)=Calendrier!$BD$8,B1228=Calendrier!$BD$11),MAX($E$2:E1227)+1,\"\")","v":""}]
[null,null,null,null,{"$f":"IF(AND(YEAR(C1229)=Calendrier!$BD$8,B1229=Calendrier!$BD$11),MAX($E$2:E1228)+1,\"\")","v":""}]
[null,null,null,null,{"$f":"IF(AND(YEAR(C1230)=Calendrier!$BD$8,B1230=Calendrier!$BD$11),MAX($E$2:E1229)+1,\"\")","v":""}]
[null,null,null,null,{"$f":"IF(AND(YEAR(C1231)=Calendrier!$BD$8,B1231=Calendrier!$BD$11),MAX($E$2:E1230)+1,\"\")","v":""}]
[null,null,null,null,{"$f":"IF(AND(YEAR(C1232)=Calendrier!$BD$8,B1232=Calendrier!$BD$11),MAX($E$2:E1231)+1,\"\")","v":""}]
[null,null,null,null,{"$f":"IF(AND(YEAR(C1233)=Calendrier!$BD$8,B1233=Calendrier!$BD$11),MAX($E$2:E1232)+1,\"\")","v":""}]
[null,null,null,null,{"$f":"IF(AND(YEAR(C1234)=Calendrier!$BD$8,B1234=Calendrier!$BD$11),MAX($E$2:E1233)+1,\"\")","v":""}]
[null,null,null,null,{"$f":"IF(AND(YEAR(C1235)=Calendrier!$BD$8,B1235=Calendrier!$BD$11),MAX($E$2:E1234)+1,\"\")","v":""}]
[null,null,null,null,{"$f":"IF(AND(YEAR(C1236)=Calendrier!$BD$8,B1236=Calendrier!$BD$11),MAX($E$2:E1235)+1,\"\")","v":""}]
[null,null,null,null,{"$f":"IF(AND(YEAR(C1237)=Calendrier!$BD$8,B1237=Calendrier!$BD$11),MAX($E$2:E1236)+1,\"\")","v":""}]
[null,null,null,null,{"$f":"IF(AND(YEAR(C1238)=Calendrier!$BD$8,B1238=Calendrier!$BD$11),MAX($E$2:E1237)+1,\"\")","v":""}]
[null,null,null,null,{"$f":"IF(AND(YEAR(C1239)=Calendrier!$BD$8,B1239=Calendrier!$BD$11),MAX($E$2:E1238)+1,\"\")","v":""}]
[null,null,null,null,{"$f":"IF(AND(YEAR(C1240)=Calendrier!$BD$8,B1240=Calendrier!$BD$11),MAX($E$2:E1239)+1,\"\")","v":""}]
[null,null,null,null,{"$f":"IF(AND(YEAR(C1241)=Calendrier!$BD$8,B1241=Calendrier!$BD$11),MAX($E$2:E1240)+1,\"\")","v":""}]
[null,null,null,null,{"$f":"IF(AND(YEAR(C1242)=Calendrier!$BD$8,B1242=Calendrier!$BD$11),MAX($E$2:E1241)+1,\"\")","v":""}]
[null,null,null,null,{"$f":"IF(AND(YEAR(C1243)=Calendrier!$BD$8,B1243=Calendrier!$BD$11),MAX($E$2:E1242)+1,\"\")","v":""}]
[null,null,null,null,{"$f":"IF(AND(YEAR(C1244)=Calendrier!$BD$8,B1244=Calendrier!$BD$11),MAX($E$2:E1243)+1,\"\")","v":""}]
[null,null,null,null,{"$f":"IF(AND(YEAR(C1245)=Calendrier!$BD$8,B1245=Calendrier!$BD$11),MAX($E$2:E1244)+1,\"\")","v":""}]
[null,null,null,null,{"$f":"IF(AND(YEAR(C1246)=Calendrier!$BD$8,B1246=Calendrier!$BD$11),MAX($E$2:E1245)+1,\"\")","v":""}]
[null,null,null,null,{"$f":"IF(AND(YEAR(C1247)=Calendrier!$BD$8,B1247=Calendrier!$BD$11),MAX($E$2:E1246)+1,\"\")","v":""}]
[null,null,null,null,{"$f":"IF(AND(YEAR(C1248)=Calendrier!$BD$8,B1248=Calendrier!$BD$11),MAX($E$2:E1247)+1,\"\")","v":""}]
[null,null,null,null,{"$f":"IF(AND(YEAR(C1249)=Calendrier!$BD$8,B1249=Calendrier!$BD$11),MAX($E$2:E1248)+1,\"\")","v":""}]
[null,null,null,null,{"$f":"IF(AND(YEAR(C1250)=Calendrier!$BD$8,B1250=Calendrier!$BD$11),MAX($E$2:E1249)+1,\"\")","v":""}]
[null,null,null,null,{"$f":"IF(AND(YEAR(C1251)=Calendrier!$BD$8,B1251=Calendrier!$BD$11),MAX($E$2:E1250)+1,\"\")","v":""}]
[null,null,null,null,{"$f":"IF(AND(YEAR(C1252)=Calendrier!$BD$8,B1252=Calendrier!$BD$11),MAX($E$2:E1251)+1,\"\")","v":""}]
[null,null,null,null,{"$f":"IF(AND(YEAR(C1253)=Calendrier!$BD$8,B1253=Calendrier!$BD$11),MAX($E$2:E1252)+1,\"\")","v":""}]
[null,null,null,null,{"$f":"IF(AND(YEAR(C1254)=Calendrier!$BD$8,B1254=Calendrier!$BD$11),MAX($E$2:E1253)+1,\"\")","v":""}]
[null,null,null,null,{"$f":"IF(AND(YEAR(C1255)=Calendrier!$BD$8,B1255=Calendrier!$BD$11),MAX($E$2:E1254)+1,\"\")","v":""}]
[null,null,null,null,{"$f":"IF(AND(YEAR(C1256)=Calendrier!$BD$8,B1256=Calendrier!$BD$11),MAX($E$2:E1255)+1,\"\")","v":""}]
[null,null,null,null,{"$f":"IF(AND(YEAR(C1257)=Calendrier!$BD$8,B1257=Calendrier!$BD$11),MAX($E$2:E1256)+1,\"\")","v":""}]
[null,null,null,null,{"$f":"IF(AND(YEAR(C1258)=Calendrier!$BD$8,B1258=Calendrier!$BD$11),MAX($E$2:E1257)+1,\"\")","v":""}]
[null,null,null,null,{"$f":"IF(AND(YEAR(C1259)=Calendrier!$BD$8,B1259=Calendrier!$BD$11),MAX($E$2:E1258)+1,\"\")","v":""}]
[null,null,null,null,{"$f":"IF(AND(YEAR(C1260)=Calendrier!$BD$8,B1260=Calendrier!$BD$11),MAX($E$2:E1259)+1,\"\")","v":""}]
[null,null,null,null,{"$f":"IF(AND(YEAR(C1261)=Calendrier!$BD$8,B1261=Calendrier!$BD$11),MAX($E$2:E1260)+1,\"\")","v":""}]
[null,null,null,null,{"$f":"IF(AND(YEAR(C1262)=Calendrier!$BD$8,B1262=Calendrier!$BD$11),MAX($E$2:E1261)+1,\"\")","v":""}]
[null,null,null,null,{"$f":"IF(AND(YEAR(C1263)=Calendrier!$BD$8,B1263=Calendrier!$BD$11),MAX($E$2:E1262)+1,\"\")","v":""}]
[null,null,null,null,{"$f":"IF(AND(YEAR(C1264)=Calendrier!$BD$8,B1264=Calendrier!$BD$11),MAX($E$2:E1263)+1,\"\")","v":""}]
[null,null,null,null,{"$f":"IF(AND(YEAR(C1265)=Calendrier!$BD$8,B1265=Calendrier!$BD$11),MAX($E$2:E1264)+1,\"\")","v":""}]
[null,null,null,null,{"$f":"IF(AND(YEAR(C1266)=Calendrier!$BD$8,B1266=Calendrier!$BD$11),MAX($E$2:E1265)+1,\"\")","v":""}]
[null,null,null,null,{"$f":"IF(AND(YEAR(C1267)=Calendrier!$BD$8,B1267=Calendrier!$BD$11),MAX($E$2:E1266)+1,\"\")","v":""}]
[null,null,null,null,{"$f":"IF(AND(YEAR(C1268)=Calendrier!$BD$8,B1268=Calendrier!$BD$11),MAX($E$2:E1267)+1,\"\")","v":""}]
[null,null,null,null,{"$f":"IF(AND(YEAR(C1269)=Calendrier!$BD$8,B1269=Calendrier!$BD$11),MAX($E$2:E1268)+1,\"\")","v":""}]
[null,null,null,null,{"$f":"IF(AND(YEAR(C1270)=Calendrier!$BD$8,B1270=Calendrier!$BD$11),MAX($E$2:E1269)+1,\"\")","v":""}]
[null,null,null,null,{"$f":"IF(AND(YEAR(C1271)=Calendrier!$BD$8,B1271=Calendrier!$BD$11),MAX($E$2:E1270)+1,\"\")","v":""}]
[null,null,null,null,{"$f":"IF(AND(YEAR(C1272)=Calendrier!$BD$8,B1272=Calendrier!$BD$11),MAX($E$2:E1271)+1,\"\")","v":""}]
[null,null,null,null,{"$f":"IF(AND(YEAR(C1273)=Calendrier!$BD$8,B1273=Calendrier!$BD$11),MAX($E$2:E1272)+1,\"\")","v":""}]
[null,null,null,null,{"$f":"IF(AND(YEAR(C1274)=Calendrier!$BD$8,B1274=Calendrier!$BD$11),MAX($E$2:E1273)+1,\"\")","v":""}]
[null,null,null,null,{"$f":"IF(AND(YEAR(C1275)=Calendrier!$BD$8,B1275=Calendrier!$BD$11),MAX($E$2:E1274)+1,\"\")","v":""}]
[null,null,null,null,{"$f":"IF(AND(YEAR(C1276)=Calendrier!$BD$8,B1276=Calendrier!$BD$11),MAX($E$2:E1275)+1,\"\")","v":""}]
[null,null,null,null,{"$f":"IF(AND(YEAR(C1277)=Calendrier!$BD$8,B1277=Calendrier!$BD$11),MAX($E$2:E1276)+1,\"\")","v":""}]
[null,null,null,null,{"$f":"IF(AND(YEAR(C1278)=Calendrier!$BD$8,B1278=Calendrier!$BD$11),MAX($E$2:E1277)+1,\"\")","v":""}]
[null,null,null,null,{"$f":"IF(AND(YEAR(C1279)=Calendrier!$BD$8,B1279=Calendrier!$BD$11),MAX($E$2:E1278)+1,\"\")","v":""}]
[null,null,null,null,{"$f":"IF(AND(YEAR(C1280)=Calendrier!$BD$8,B1280=Calendrier!$BD$11),MAX($E$2:E1279)+1,\"\")","v":""}]
[null,null,null,null,{"$f":"IF(AND(YEAR(C1281)=Calendrier!$BD$8,B1281=Calendrier!$BD$11),MAX($E$2:E1280)+1,\"\")","v":""}]
[null,null,null,null,{"$f":"IF(AND(YEAR(C1282)=Calendrier!$BD$8,B1282=Calendrier!$BD$11),MAX($E$2:E1281)+1,\"\")","v":""}]
[null,null,null,null,{"$f":"IF(AND(YEAR(C1283)=Calendrier!$BD$8,B1283=Calendrier!$BD$11),MAX($E$2:E1282)+1,\"\")","v":""}]
[null,null,null,null,{"$f":"IF(AND(YEAR(C1284)=Calendrier!$BD$8,B1284=Calendrier!$BD$11),MAX($E$2:E1283)+1,\"\")","v":""}]
[null,null,null,null,{"$f":"IF(AND(YEAR(C1285)=Calendrier!$BD$8,B1285=Calendrier!$BD$11),MAX($E$2:E1284)+1,\"\")","v":""}]
[null,null,null,null,{"$f":"IF(AND(YEAR(C1286)=Calendrier!$BD$8,B1286=Calendrier!$BD$11),MAX($E$2:E1285)+1,\"\")","v":""}]
[null,null,null,null,{"$f":"IF(AND(YEAR(C1287)=Calendrier!$BD$8,B1287=Calendrier!$BD$11),MAX($E$2:E1286)+1,\"\")","v":""}]
[null,null,null,null,{"$f":"IF(AND(YEAR(C1288)=Calendrier!$BD$8,B1288=Calendrier!$BD$11),MAX($E$2:E1287)+1,\"\")","v":""}]
[null,null,null,null,{"$f":"IF(AND(YEAR(C1289)=Calendrier!$BD$8,B1289=Calendrier!$BD$11),MAX($E$2:E1288)+1,\"\")","v":""}]
[null,null,null,null,{"$f":"IF(AND(YEAR(C1290)=Calendrier!$BD$8,B1290=Calendrier!$BD$11),MAX($E$2:E1289)+1,\"\")","v":""}]
[null,null,null,null,{"$f":"IF(AND(YEAR(C1291)=Calendrier!$BD$8,B1291=Calendrier!$BD$11),MAX($E$2:E1290)+1,\"\")","v":""}]
[null,null,null,null,{"$f":"IF(AND(YEAR(C1292)=Calendrier!$BD$8,B1292=Calendrier!$BD$11),MAX($E$2:E1291)+1,\"\")","v":""}]
[null,null,null,null,{"$f":"IF(AND(YEAR(C1293)=Calendrier!$BD$8,B1293=Calendrier!$BD$11),MAX($E$2:E1292)+1,\"\")","v":""}]
[null,null,null,null,{"$f":"IF(AND(YEAR(C1294)=Calendrier!$BD$8,B1294=Calendrier!$BD$11),MAX($E$2:E1293)+1,\"\")","v":""}]
[null,null,null,null,{"$f":"IF(AND(YEAR(C1295)=Calendrier!$BD$8,B1295=Calendrier!$BD$11),MAX($E$2:E1294)+1,\"\")","v":""}]
[null,null,null,null,{"$f":"IF(AND(YEAR(C1296)=Calendrier!$BD$8,B1296=Calendrier!$BD$11),MAX($E$2:E1295)+1,\"\")","v":""}]
[null,null,null,null,{"$f":"IF(AND(YEAR(C1297)=Calendrier!$BD$8,B1297=Calendrier!$BD$11),MAX($E$2:E1296)+1,\"\")","v":""}]
[null,null,null,null,{"$f":"IF(AND(YEAR(C1298)=Calendrier!$BD$8,B1298=Calendrier!$BD$11),MAX($E$2:E1297)+1,\"\")","v":""}]
[null,null,null,null,{"$f":"IF(AND(YEAR(C1299)=Calendrier!$BD$8,B1299=Calendrier!$BD$11),MAX($E$2:E1298)+1,\"\")","v":""}]
[null,null,null,null,{"$f":"IF(AND(YEAR(C1300)=Calendrier!$BD$8,B1300=Calendrier!$BD$11),MAX($E$2:E1299)+1,\"\")","v":""}]
[null,null,null,null,{"$f":"IF(AND(YEAR(C1301)=Calendrier!$BD$8,B1301=Calendrier!$BD$11),MAX($E$2:E1300)+1,\"\")","v":""}]
[null,null,null,null,{"$f":"IF(AND(YEAR(C1302)=Calendrier!$BD$8,B1302=Calendrier!$BD$11),MAX($E$2:E1301)+1,\"\")","v":""}]
[null,null,null,null,{"$f":"IF(AND(YEAR(C1303)=Calendrier!$BD$8,B1303=Calendrier!$BD$11),MAX($E$2:E1302)+1,\"\")","v":""}]
[null,null,null,null,{"$f":"IF(AND(YEAR(C1304)=Calendrier!$BD$8,B1304=Calendrier!$BD$11),MAX($E$2:E1303)+1,\"\")","v":""}]
[null,null,null,null,{"$f":"IF(AND(YEAR(C1305)=Calendrier!$BD$8,B1305=Calendrier!$BD$11),MAX($E$2:E1304)+1,\"\")","v":""}]
[null,null,null,null,{"$f":"IF(AND(YEAR(C1306)=Calendrier!$BD$8,B1306=Calendrier!$BD$11),MAX($E$2:E1305)+1,\"\")","v":""}]
[null,null,null,null,{"$f":"IF(AND(YEAR(C1307)=Calendrier!$BD$8,B1307=Calendrier!$BD$11),MAX($E$2:E1306)+1,\"\")","v":""}]
[null,null,null,null,{"$f":"IF(AND(YEAR(C1308)=Calendrier!$BD$8,B1308=Calendrier!$BD$11),MAX($E$2:E1307)+1,\"\")","v":""}]
[null,null,null,null,{"$f":"IF(AND(YEAR(C1309)=Calendrier!$BD$8,B1309=Calendrier!$BD$11),MAX($E$2:E1308)+1,\"\")","v":""}]
[null,null,null,null,{"$f":"IF(AND(YEAR(C1310)=Calendrier!$BD$8,B1310=Calendrier!$BD$11),MAX($E$2:E1309)+1,\"\")","v":""}]
[null,null,null,null,{"$f":"IF(AND(YEAR(C1311)=Calendrier!$BD$8,B1311=Calendrier!$BD$11),MAX($E$2:E1310)+1,\"\")","v":""}]
[null,null,null,null,{"$f":"IF(AND(YEAR(C1312)=Calendrier!$BD$8,B1312=Calendrier!$BD$11),MAX($E$2:E1311)+1,\"\")","v":""}]
[null,null,null,null,{"$f":"IF(AND(YEAR(C1313)=Calendrier!$BD$8,B1313=Calendrier!$BD$11),MAX($E$2:E1312)+1,\"\")","v":""}]
[null,null,null,null,{"$f":"IF(AND(YEAR(C1314)=Calendrier!$BD$8,B1314=Calendrier!$BD$11),MAX($E$2:E1313)+1,\"\")","v":""}]
[null,null,null,null,{"$f":"IF(AND(YEAR(C1315)=Calendrier!$BD$8,B1315=Calendrier!$BD$11),MAX($E$2:E1314)+1,\"\")","v":""}]
[null,null,null,null,{"$f":"IF(AND(YEAR(C1316)=Calendrier!$BD$8,B1316=Calendrier!$BD$11),MAX($E$2:E1315)+1,\"\")","v":""}]
[null,null,null,null,{"$f":"IF(AND(YEAR(C1317)=Calendrier!$BD$8,B1317=Calendrier!$BD$11),MAX($E$2:E1316)+1,\"\")","v":""}]
[null,null,null,null,{"$f":"IF(AND(YEAR(C1318)=Calendrier!$BD$8,B1318=Calendrier!$BD$11),MAX($E$2:E1317)+1,\"\")","v":""}]
[null,null,null,null,{"$f":"IF(AND(YEAR(C1319)=Calendrier!$BD$8,B1319=Calendrier!$BD$11),MAX($E$2:E1318)+1,\"\")","v":""}]
[null,null,null,null,{"$f":"IF(AND(YEAR(C1320)=Calendrier!$BD$8,B1320=Calendrier!$BD$11),MAX($E$2:E1319)+1,\"\")","v":""}]
[null,null,null,null,{"$f":"IF(AND(YEAR(C1321)=Calendrier!$BD$8,B1321=Calendrier!$BD$11),MAX($E$2:E1320)+1,\"\")","v":""}]
[null,null,null,null,{"$f":"IF(AND(YEAR(C1322)=Calendrier!$BD$8,B1322=Calendrier!$BD$11),MAX($E$2:E1321)+1,\"\")","v":""}]
[null,null,null,null,{"$f":"IF(AND(YEAR(C1323)=Calendrier!$BD$8,B1323=Calendrier!$BD$11),MAX($E$2:E1322)+1,\"\")","v":""}]
[null,null,null,null,{"$f":"IF(AND(YEAR(C1324)=Calendrier!$BD$8,B1324=Calendrier!$BD$11),MAX($E$2:E1323)+1,\"\")","v":""}]
[null,null,null,null,{"$f":"IF(AND(YEAR(C1325)=Calendrier!$BD$8,B1325=Calendrier!$BD$11),MAX($E$2:E1324)+1,\"\")","v":""}]
[null,null,null,null,{"$f":"IF(AND(YEAR(C1326)=Calendrier!$BD$8,B1326=Calendrier!$BD$11),MAX($E$2:E1325)+1,\"\")","v":""}]
[null,null,null,null,{"$f":"IF(AND(YEAR(C1327)=Calendrier!$BD$8,B1327=Calendrier!$BD$11),MAX($E$2:E1326)+1,\"\")","v":""}]
[null,null,null,null,{"$f":"IF(AND(YEAR(C1328)=Calendrier!$BD$8,B1328=Calendrier!$BD$11),MAX($E$2:E1327)+1,\"\")","v":""}]
[null,null,null,null,{"$f":"IF(AND(YEAR(C1329)=Calendrier!$BD$8,B1329=Calendrier!$BD$11),MAX($E$2:E1328)+1,\"\")","v":""}]
[null,null,null,null,{"$f":"IF(AND(YEAR(C1330)=Calendrier!$BD$8,B1330=Calendrier!$BD$11),MAX($E$2:E1329)+1,\"\")","v":""}]
[null,null,null,null,{"$f":"IF(AND(YEAR(C1331)=Calendrier!$BD$8,B1331=Calendrier!$BD$11),MAX($E$2:E1330)+1,\"\")","v":""}]
[null,null,null,null,{"$f":"IF(AND(YEAR(C1332)=Calendrier!$BD$8,B1332=Calendrier!$BD$11),MAX($E$2:E1331)+1,\"\")","v":""}]
[null,null,null,null,{"$f":"IF(AND(YEAR(C1333)=Calendrier!$BD$8,B1333=Calendrier!$BD$11),MAX($E$2:E1332)+1,\"\")","v":""}]
[null,null,null,null,{"$f":"IF(AND(YEAR(C1334)=Calendrier!$BD$8,B1334=Calendrier!$BD$11),MAX($E$2:E1333)+1,\"\")","v":""}]
[null,null,null,null,{"$f":"IF(AND(YEAR(C1335)=Calendrier!$BD$8,B1335=Calendrier!$BD$11),MAX($E$2:E1334)+1,\"\")","v":""}]
[null,null,null,null,{"$f":"IF(AND(YEAR(C1336)=Calendrier!$BD$8,B1336=Calendrier!$BD$11),MAX($E$2:E1335)+1,\"\")","v":""}]
[null,null,null,null,{"$f":"IF(AND(YEAR(C1337)=Calendrier!$BD$8,B1337=Calendrier!$BD$11),MAX($E$2:E1336)+1,\"\")","v":""}]
[null,null,null,null,{"$f":"IF(AND(YEAR(C1338)=Calendrier!$BD$8,B1338=Calendrier!$BD$11),MAX($E$2:E1337)+1,\"\")","v":""}]
[null,null,null,null,{"$f":"IF(AND(YEAR(C1339)=Calendrier!$BD$8,B1339=Calendrier!$BD$11),MAX($E$2:E1338)+1,\"\")","v":""}]
[null,null,null,null,{"$f":"IF(AND(YEAR(C1340)=Calendrier!$BD$8,B1340=Calendrier!$BD$11),MAX($E$2:E1339)+1,\"\")","v":""}]
[null,null,null,null,{"$f":"IF(AND(YEAR(C1341)=Calendrier!$BD$8,B1341=Calendrier!$BD$11),MAX($E$2:E1340)+1,\"\")","v":""}]
[null,null,null,null,{"$f":"IF(AND(YEAR(C1342)=Calendrier!$BD$8,B1342=Calendrier!$BD$11),MAX($E$2:E1341)+1,\"\")","v":""}]
[null,null,null,null,{"$f":"IF(AND(YEAR(C1343)=Calendrier!$BD$8,B1343=Calendrier!$BD$11),MAX($E$2:E1342)+1,\"\")","v":""}]
[null,null,null,null,{"$f":"IF(AND(YEAR(C1344)=Calendrier!$BD$8,B1344=Calendrier!$BD$11),MAX($E$2:E1343)+1,\"\")","v":""}]
[null,null,null,null,{"$f":"IF(AND(YEAR(C1345)=Calendrier!$BD$8,B1345=Calendrier!$BD$11),MAX($E$2:E1344)+1,\"\")","v":""}]
[null,null,null,null,{"$f":"IF(AND(YEAR(C1346)=Calendrier!$BD$8,B1346=Calendrier!$BD$11),MAX($E$2:E1345)+1,\"\")","v":""}]
[null,null,null,null,{"$f":"IF(AND(YEAR(C1347)=Calendrier!$BD$8,B1347=Calendrier!$BD$11),MAX($E$2:E1346)+1,\"\")","v":""}]
[null,null,null,null,{"$f":"IF(AND(YEAR(C1348)=Calendrier!$BD$8,B1348=Calendrier!$BD$11),MAX($E$2:E1347)+1,\"\")","v":""}]
[null,null,null,null,{"$f":"IF(AND(YEAR(C1349)=Calendrier!$BD$8,B1349=Calendrier!$BD$11),MAX($E$2:E1348)+1,\"\")","v":""}]
[null,null,null,null,{"$f":"IF(AND(YEAR(C1350)=Calendrier!$BD$8,B1350=Calendrier!$BD$11),MAX($E$2:E1349)+1,\"\")","v":""}]
[null,null,null,null,{"$f":"IF(AND(YEAR(C1351)=Calendrier!$BD$8,B1351=Calendrier!$BD$11),MAX($E$2:E1350)+1,\"\")","v":""}]
[null,null,null,null,{"$f":"IF(AND(YEAR(C1352)=Calendrier!$BD$8,B1352=Calendrier!$BD$11),MAX($E$2:E1351)+1,\"\")","v":""}]
[null,null,null,null,{"$f":"IF(AND(YEAR(C1353)=Calendrier!$BD$8,B1353=Calendrier!$BD$11),MAX($E$2:E1352)+1,\"\")","v":""}]
[null,null,null,null,{"$f":"IF(AND(YEAR(C1354)=Calendrier!$BD$8,B1354=Calendrier!$BD$11),MAX($E$2:E1353)+1,\"\")","v":""}]
[null,null,null,null,{"$f":"IF(AND(YEAR(C1355)=Calendrier!$BD$8,B1355=Calendrier!$BD$11),MAX($E$2:E1354)+1,\"\")","v":""}]
[null,null,null,null,{"$f":"IF(AND(YEAR(C1356)=Calendrier!$BD$8,B1356=Calendrier!$BD$11),MAX($E$2:E1355)+1,\"\")","v":""}]
[null,null,null,null,{"$f":"IF(AND(YEAR(C1357)=Calendrier!$BD$8,B1357=Calendrier!$BD$11),MAX($E$2:E1356)+1,\"\")","v":""}]
[null,null,null,null,{"$f":"IF(AND(YEAR(C1358)=Calendrier!$BD$8,B1358=Calendrier!$BD$11),MAX($E$2:E1357)+1,\"\")","v":""}]
[null,null,null,null,{"$f":"IF(AND(YEAR(C1359)=Calendrier!$BD$8,B1359=Calendrier!$BD$11),MAX($E$2:E1358)+1,\"\")","v":""}]
[null,null,null,null,{"$f":"IF(AND(YEAR(C1360)=Calendrier!$BD$8,B1360=Calendrier!$BD$11),MAX($E$2:E1359)+1,\"\")","v":""}]
[null,null,null,null,{"$f":"IF(AND(YEAR(C1361)=Calendrier!$BD$8,B1361=Calendrier!$BD$11),MAX($E$2:E1360)+1,\"\")","v":""}]
[null,null,null,null,{"$f":"IF(AND(YEAR(C1362)=Calendrier!$BD$8,B1362=Calendrier!$BD$11),MAX($E$2:E1361)+1,\"\")","v":""}]
[null,null,null,null,{"$f":"IF(AND(YEAR(C1363)=Calendrier!$BD$8,B1363=Calendrier!$BD$11),MAX($E$2:E1362)+1,\"\")","v":""}]
[null,null,null,null,{"$f":"IF(AND(YEAR(C1364)=Calendrier!$BD$8,B1364=Calendrier!$BD$11),MAX($E$2:E1363)+1,\"\")","v":""}]
[null,null,null,null,{"$f":"IF(AND(YEAR(C1365)=Calendrier!$BD$8,B1365=Calendrier!$BD$11),MAX($E$2:E1364)+1,\"\")","v":""}]
[null,null,null,null,{"$f":"IF(AND(YEAR(C1366)=Calendrier!$BD$8,B1366=Calendrier!$BD$11),MAX($E$2:E1365)+1,\"\")","v":""}]
[null,null,null,null,{"$f":"IF(AND(YEAR(C1367)=Calendrier!$BD$8,B1367=Calendrier!$BD$11),MAX($E$2:E1366)+1,\"\")","v":""}]
[null,null,null,null,{"$f":"IF(AND(YEAR(C1368)=Calendrier!$BD$8,B1368=Calendrier!$BD$11),MAX($E$2:E1367)+1,\"\")","v":""}]
[null,null,null,null,{"$f":"IF(AND(YEAR(C1369)=Calendrier!$BD$8,B1369=Calendrier!$BD$11),MAX($E$2:E1368)+1,\"\")","v":""}]
[null,null,null,null,{"$f":"IF(AND(YEAR(C1370)=Calendrier!$BD$8,B1370=Calendrier!$BD$11),MAX($E$2:E1369)+1,\"\")","v":""}]
[null,null,null,null,{"$f":"IF(AND(YEAR(C1371)=Calendrier!$BD$8,B1371=Calendrier!$BD$11),MAX($E$2:E1370)+1,\"\")","v":""}]
[null,null,null,null,{"$f":"IF(AND(YEAR(C1372)=Calendrier!$BD$8,B1372=Calendrier!$BD$11),MAX($E$2:E1371)+1,\"\")","v":""}]
[null,null,null,null,{"$f":"IF(AND(YEAR(C1373)=Calendrier!$BD$8,B1373=Calendrier!$BD$11),MAX($E$2:E1372)+1,\"\")","v":""}]
[null,null,null,null,{"$f":"IF(AND(YEAR(C1374)=Calendrier!$BD$8,B1374=Calendrier!$BD$11),MAX($E$2:E1373)+1,\"\")","v":""}]
[null,null,null,null,{"$f":"IF(AND(YEAR(C1375)=Calendrier!$BD$8,B1375=Calendrier!$BD$11),MAX($E$2:E1374)+1,\"\")","v":""}]
[null,null,null,null,{"$f":"IF(AND(YEAR(C1376)=Calendrier!$BD$8,B1376=Calendrier!$BD$11),MAX($E$2:E1375)+1,\"\")","v":""}]
[null,null,null,null,{"$f":"IF(AND(YEAR(C1377)=Calendrier!$BD$8,B1377=Calendrier!$BD$11),MAX($E$2:E1376)+1,\"\")","v":""}]
[null,null,null,null,{"$f":"IF(AND(YEAR(C1378)=Calendrier!$BD$8,B1378=Calendrier!$BD$11),MAX($E$2:E1377)+1,\"\")","v":""}]
[null,null,null,null,{"$f":"IF(AND(YEAR(C1379)=Calendrier!$BD$8,B1379=Calendrier!$BD$11),MAX($E$2:E1378)+1,\"\")","v":""}]
[null,null,null,null,{"$f":"IF(AND(YEAR(C1380)=Calendrier!$BD$8,B1380=Calendrier!$BD$11),MAX($E$2:E1379)+1,\"\")","v":""}]
[null,null,null,null,{"$f":"IF(AND(YEAR(C1381)=Calendrier!$BD$8,B1381=Calendrier!$BD$11),MAX($E$2:E1380)+1,\"\")","v":""}]
[null,null,null,null,{"$f":"IF(AND(YEAR(C1382)=Calendrier!$BD$8,B1382=Calendrier!$BD$11),MAX($E$2:E1381)+1,\"\")","v":""}]
[null,null,null,null,{"$f":"IF(AND(YEAR(C1383)=Calendrier!$BD$8,B1383=Calendrier!$BD$11),MAX($E$2:E1382)+1,\"\")","v":""}]
[null,null,null,null,{"$f":"IF(AND(YEAR(C1384)=Calendrier!$BD$8,B1384=Calendrier!$BD$11),MAX($E$2:E1383)+1,\"\")","v":""}]
[null,null,null,null,{"$f":"IF(AND(YEAR(C1385)=Calendrier!$BD$8,B1385=Calendrier!$BD$11),MAX($E$2:E1384)+1,\"\")","v":""}]
[null,null,null,null,{"$f":"IF(AND(YEAR(C1386)=Calendrier!$BD$8,B1386=Calendrier!$BD$11),MAX($E$2:E1385)+1,\"\")","v":""}]
[null,null,null,null,{"$f":"IF(AND(YEAR(C1387)=Calendrier!$BD$8,B1387=Calendrier!$BD$11),MAX($E$2:E1386)+1,\"\")","v":""}]
[null,null,null,null,{"$f":"IF(AND(YEAR(C1388)=Calendrier!$BD$8,B1388=Calendrier!$BD$11),MAX($E$2:E1387)+1,\"\")","v":""}]
[null,null,null,null,{"$f":"IF(AND(YEAR(C1389)=Calendrier!$BD$8,B1389=Calendrier!$BD$11),MAX($E$2:E1388)+1,\"\")","v":""}]
[null,null,null,null,{"$f":"IF(AND(YEAR(C1390)=Calendrier!$BD$8,B1390=Calendrier!$BD$11),MAX($E$2:E1389)+1,\"\")","v":""}]
[null,null,null,null,{"$f":"IF(AND(YEAR(C1391)=Calendrier!$BD$8,B1391=Calendrier!$BD$11),MAX($E$2:E1390)+1,\"\")","v":""}]
[null,null,null,null,{"$f":"IF(AND(YEAR(C1392)=Calendrier!$BD$8,B1392=Calendrier!$BD$11),MAX($E$2:E1391)+1,\"\")","v":""}]
[null,null,null,null,{"$f":"IF(AND(YEAR(C1393)=Calendrier!$BD$8,B1393=Calendrier!$BD$11),MAX($E$2:E1392)+1,\"\")","v":""}]
[null,null,null,null,{"$f":"IF(AND(YEAR(C1394)=Calendrier!$BD$8,B1394=Calendrier!$BD$11),MAX($E$2:E1393)+1,\"\")","v":""}]
[null,null,null,null,{"$f":"IF(AND(YEAR(C1395)=Calendrier!$BD$8,B1395=Calendrier!$BD$11),MAX($E$2:E1394)+1,\"\")","v":""}]
[null,null,null,null,{"$f":"IF(AND(YEAR(C1396)=Calendrier!$BD$8,B1396=Calendrier!$BD$11),MAX($E$2:E1395)+1,\"\")","v":""}]
[null,null,null,null,{"$f":"IF(AND(YEAR(C1397)=Calendrier!$BD$8,B1397=Calendrier!$BD$11),MAX($E$2:E1396)+1,\"\")","v":""}]
[null,null,null,null,{"$f":"IF(AND(YEAR(C1398)=Calendrier!$BD$8,B1398=Calendrier!$BD$11),MAX($E$2:E1397)+1,\"\")","v":""}]
[null,null,null,null,{"$f":"IF(AND(YEAR(C1399)=Calendrier!$BD$8,B1399=Calendrier!$BD$11),MAX($E$2:E1398)+1,\"\")","v":""}]
[null,null,null,null,{"$f":"IF(AND(YEAR(C1400)=Calendrier!$BD$8,B1400=Calendrier!$BD$11),MAX($E$2:E1399)+1,\"\")","v":""}]
[null,null,null,null,{"$f":"IF(AND(YEAR(C1401)=Calendrier!$BD$8,B1401=Calendrier!$BD$11),MAX($E$2:E1400)+1,\"\")","v":""}]
[null,null,null,null,{"$f":"IF(AND(YEAR(C1402)=Calendrier!$BD$8,B1402=Calendrier!$BD$11),MAX($E$2:E1401)+1,\"\")","v":""}]
[null,null,null,null,{"$f":"IF(AND(YEAR(C1403)=Calendrier!$BD$8,B1403=Calendrier!$BD$11),MAX($E$2:E1402)+1,\"\")","v":""}]
[null,null,null,null,{"$f":"IF(AND(YEAR(C1404)=Calendrier!$BD$8,B1404=Calendrier!$BD$11),MAX($E$2:E1403)+1,\"\")","v":""}]
[null,null,null,null,{"$f":"IF(AND(YEAR(C1405)=Calendrier!$BD$8,B1405=Calendrier!$BD$11),MAX($E$2:E1404)+1,\"\")","v":""}]
[null,null,null,null,{"$f":"IF(AND(YEAR(C1406)=Calendrier!$BD$8,B1406=Calendrier!$BD$11),MAX($E$2:E1405)+1,\"\")","v":""}]
[null,null,null,null,{"$f":"IF(AND(YEAR(C1407)=Calendrier!$BD$8,B1407=Calendrier!$BD$11),MAX($E$2:E1406)+1,\"\")","v":""}]
[null,null,null,null,{"$f":"IF(AND(YEAR(C1408)=Calendrier!$BD$8,B1408=Calendrier!$BD$11),MAX($E$2:E1407)+1,\"\")","v":""}]
[null,null,null,null,{"$f":"IF(AND(YEAR(C1409)=Calendrier!$BD$8,B1409=Calendrier!$BD$11),MAX($E$2:E1408)+1,\"\")","v":""}]
[null,null,null,null,{"$f":"IF(AND(YEAR(C1410)=Calendrier!$BD$8,B1410=Calendrier!$BD$11),MAX($E$2:E1409)+1,\"\")","v":""}]
[null,null,null,null,{"$f":"IF(AND(YEAR(C1411)=Calendrier!$BD$8,B1411=Calendrier!$BD$11),MAX($E$2:E1410)+1,\"\")","v":""}]
[null,null,null,null,{"$f":"IF(AND(YEAR(C1412)=Calendrier!$BD$8,B1412=Calendrier!$BD$11),MAX($E$2:E1411)+1,\"\")","v":""}]
[null,null,null,null,{"$f":"IF(AND(YEAR(C1413)=Calendrier!$BD$8,B1413=Calendrier!$BD$11),MAX($E$2:E1412)+1,\"\")","v":""}]
[null,null,null,null,{"$f":"IF(AND(YEAR(C1414)=Calendrier!$BD$8,B1414=Calendrier!$BD$11),MAX($E$2:E1413)+1,\"\")","v":""}]
[null,null,null,null,{"$f":"IF(AND(YEAR(C1415)=Calendrier!$BD$8,B1415=Calendrier!$BD$11),MAX($E$2:E1414)+1,\"\")","v":""}]
[null,null,null,null,{"$f":"IF(AND(YEAR(C1416)=Calendrier!$BD$8,B1416=Calendrier!$BD$11),MAX($E$2:E1415)+1,\"\")","v":""}]
[null,null,null,null,{"$f":"IF(AND(YEAR(C1417)=Calendrier!$BD$8,B1417=Calendrier!$BD$11),MAX($E$2:E1416)+1,\"\")","v":""}]
[null,null,null,null,{"$f":"IF(AND(YEAR(C1418)=Calendrier!$BD$8,B1418=Calendrier!$BD$11),MAX($E$2:E1417)+1,\"\")","v":""}]
[null,null,null,null,{"$f":"IF(AND(YEAR(C1419)=Calendrier!$BD$8,B1419=Calendrier!$BD$11),MAX($E$2:E1418)+1,\"\")","v":""}]
[null,null,null,null,{"$f":"IF(AND(YEAR(C1420)=Calendrier!$BD$8,B1420=Calendrier!$BD$11),MAX($E$2:E1419)+1,\"\")","v":""}]
[null,null,null,null,{"$f":"IF(AND(YEAR(C1421)=Calendrier!$BD$8,B1421=Calendrier!$BD$11),MAX($E$2:E1420)+1,\"\")","v":""}]
[null,null,null,null,{"$f":"IF(AND(YEAR(C1422)=Calendrier!$BD$8,B1422=Calendrier!$BD$11),MAX($E$2:E1421)+1,\"\")","v":""}]
[null,null,null,null,{"$f":"IF(AND(YEAR(C1423)=Calendrier!$BD$8,B1423=Calendrier!$BD$11),MAX($E$2:E1422)+1,\"\")","v":""}]
[null,null,null,null,{"$f":"IF(AND(YEAR(C1424)=Calendrier!$BD$8,B1424=Calendrier!$BD$11),MAX($E$2:E1423)+1,\"\")","v":""}]
[null,null,null,null,{"$f":"IF(AND(YEAR(C1425)=Calendrier!$BD$8,B1425=Calendrier!$BD$11),MAX($E$2:E1424)+1,\"\")","v":""}]
[null,null,null,null,{"$f":"IF(AND(YEAR(C1426)=Calendrier!$BD$8,B1426=Calendrier!$BD$11),MAX($E$2:E1425)+1,\"\")","v":""}]
[null,null,null,null,{"$f":"IF(AND(YEAR(C1427)=Calendrier!$BD$8,B1427=Calendrier!$BD$11),MAX($E$2:E1426)+1,\"\")","v":""}]
[null,null,null,null,{"$f":"IF(AND(YEAR(C1428)=Calendrier!$BD$8,B1428=Calendrier!$BD$11),MAX($E$2:E1427)+1,\"\")","v":""}]
[null,null,null,null,{"$f":"IF(AND(YEAR(C1429)=Calendrier!$BD$8,B1429=Calendrier!$BD$11),MAX($E$2:E1428)+1,\"\")","v":""}]
[null,null,null,null,{"$f":"IF(AND(YEAR(C1430)=Calendrier!$BD$8,B1430=Calendrier!$BD$11),MAX($E$2:E1429)+1,\"\")","v":""}]
[null,null,null,null,{"$f":"IF(AND(YEAR(C1431)=Calendrier!$BD$8,B1431=Calendrier!$BD$11),MAX($E$2:E1430)+1,\"\")","v":""}]
[null,null,null,null,{"$f":"IF(AND(YEAR(C1432)=Calendrier!$BD$8,B1432=Calendrier!$BD$11),MAX($E$2:E1431)+1,\"\")","v":""}]
[null,null,null,null,{"$f":"IF(AND(YEAR(C1433)=Calendrier!$BD$8,B1433=Calendrier!$BD$11),MAX($E$2:E1432)+1,\"\")","v":""}]
[null,null,null,null,{"$f":"IF(AND(YEAR(C1434)=Calendrier!$BD$8,B1434=Calendrier!$BD$11),MAX($E$2:E1433)+1,\"\")","v":""}]
[null,null,null,null,{"$f":"IF(AND(YEAR(C1435)=Calendrier!$BD$8,B1435=Calendrier!$BD$11),MAX($E$2:E1434)+1,\"\")","v":""}]
[null,null,null,null,{"$f":"IF(AND(YEAR(C1436)=Calendrier!$BD$8,B1436=Calendrier!$BD$11),MAX($E$2:E1435)+1,\"\")","v":""}]
[null,null,null,null,{"$f":"IF(AND(YEAR(C1437)=Calendrier!$BD$8,B1437=Calendrier!$BD$11),MAX($E$2:E1436)+1,\"\")","v":""}]
[null,null,null,null,{"$f":"IF(AND(YEAR(C1438)=Calendrier!$BD$8,B1438=Calendrier!$BD$11),MAX($E$2:E1437)+1,\"\")","v":""}]
[null,null,null,null,{"$f":"IF(AND(YEAR(C1439)=Calendrier!$BD$8,B1439=Calendrier!$BD$11),MAX($E$2:E1438)+1,\"\")","v":""}]
[null,null,null,null,{"$f":"IF(AND(YEAR(C1440)=Calendrier!$BD$8,B1440=Calendrier!$BD$11),MAX($E$2:E1439)+1,\"\")","v":""}]
[null,null,null,null,{"$f":"IF(AND(YEAR(C1441)=Calendrier!$BD$8,B1441=Calendrier!$BD$11),MAX($E$2:E1440)+1,\"\")","v":""}]
[null,null,null,null,{"$f":"IF(AND(YEAR(C1442)=Calendrier!$BD$8,B1442=Calendrier!$BD$11),MAX($E$2:E1441)+1,\"\")","v":""}]
[null,null,null,null,{"$f":"IF(AND(YEAR(C1443)=Calendrier!$BD$8,B1443=Calendrier!$BD$11),MAX($E$2:E1442)+1,\"\")","v":""}]
[null,null,null,null,{"$f":"IF(AND(YEAR(C1444)=Calendrier!$BD$8,B1444=Calendrier!$BD$11),MAX($E$2:E1443)+1,\"\")","v":""}]
[null,null,null,null,{"$f":"IF(AND(YEAR(C1445)=Calendrier!$BD$8,B1445=Calendrier!$BD$11),MAX($E$2:E1444)+1,\"\")","v":""}]
[null,null,null,null,{"$f":"IF(AND(YEAR(C1446)=Calendrier!$BD$8,B1446=Calendrier!$BD$11),MAX($E$2:E1445)+1,\"\")","v":""}]
[null,null,null,null,{"$f":"IF(AND(YEAR(C1447)=Calendrier!$BD$8,B1447=Calendrier!$BD$11),MAX($E$2:E1446)+1,\"\")","v":""}]
[null,null,null,null,{"$f":"IF(AND(YEAR(C1448)=Calendrier!$BD$8,B1448=Calendrier!$BD$11),MAX($E$2:E1447)+1,\"\")","v":""}]
[null,null,null,null,{"$f":"IF(AND(YEAR(C1449)=Calendrier!$BD$8,B1449=Calendrier!$BD$11),MAX($E$2:E1448)+1,\"\")","v":""}]
[null,null,null,null,{"$f":"IF(AND(YEAR(C1450)=Calendrier!$BD$8,B1450=Calendrier!$BD$11),MAX($E$2:E1449)+1,\"\")","v":""}]
[null,null,null,null,{"$f":"IF(AND(YEAR(C1451)=Calendrier!$BD$8,B1451=Calendrier!$BD$11),MAX($E$2:E1450)+1,\"\")","v":""}]
[null,null,null,null,{"$f":"IF(AND(YEAR(C1452)=Calendrier!$BD$8,B1452=Calendrier!$BD$11),MAX($E$2:E1451)+1,\"\")","v":""}]
[null,null,null,null,{"$f":"IF(AND(YEAR(C1453)=Calendrier!$BD$8,B1453=Calendrier!$BD$11),MAX($E$2:E1452)+1,\"\")","v":""}]
[null,null,null,null,{"$f":"IF(AND(YEAR(C1454)=Calendrier!$BD$8,B1454=Calendrier!$BD$11),MAX($E$2:E1453)+1,\"\")","v":""}]
[null,null,null,null,{"$f":"IF(AND(YEAR(C1455)=Calendrier!$BD$8,B1455=Calendrier!$BD$11),MAX($E$2:E1454)+1,\"\")","v":""}]
[null,null,null,null,{"$f":"IF(AND(YEAR(C1456)=Calendrier!$BD$8,B1456=Calendrier!$BD$11),MAX($E$2:E1455)+1,\"\")","v":""}]
[null,null,null,null,{"$f":"IF(AND(YEAR(C1457)=Calendrier!$BD$8,B1457=Calendrier!$BD$11),MAX($E$2:E1456)+1,\"\")","v":""}]
[null,null,null,null,{"$f":"IF(AND(YEAR(C1458)=Calendrier!$BD$8,B1458=Calendrier!$BD$11),MAX($E$2:E1457)+1,\"\")","v":""}]
[null,null,null,null,{"$f":"IF(AND(YEAR(C1459)=Calendrier!$BD$8,B1459=Calendrier!$BD$11),MAX($E$2:E1458)+1,\"\")","v":""}]
[null,null,null,null,{"$f":"IF(AND(YEAR(C1460)=Calendrier!$BD$8,B1460=Calendrier!$BD$11),MAX($E$2:E1459)+1,\"\")","v":""}]
[null,null,null,null,{"$f":"IF(AND(YEAR(C1461)=Calendrier!$BD$8,B1461=Calendrier!$BD$11),MAX($E$2:E1460)+1,\"\")","v":""}]
[null,null,null,null,{"$f":"IF(AND(YEAR(C1462)=Calendrier!$BD$8,B1462=Calendrier!$BD$11),MAX($E$2:E1461)+1,\"\")","v":""}]
[null,null,null,null,{"$f":"IF(AND(YEAR(C1463)=Calendrier!$BD$8,B1463=Calendrier!$BD$11),MAX($E$2:E1462)+1,\"\")","v":""}]
[null,null,null,null,{"$f":"IF(AND(YEAR(C1464)=Calendrier!$BD$8,B1464=Calendrier!$BD$11),MAX($E$2:E1463)+1,\"\")","v":""}]
[null,null,null,null,{"$f":"IF(AND(YEAR(C1465)=Calendrier!$BD$8,B1465=Calendrier!$BD$11),MAX($E$2:E1464)+1,\"\")","v":""}]
[null,null,null,null,{"$f":"IF(AND(YEAR(C1466)=Calendrier!$BD$8,B1466=Calendrier!$BD$11),MAX($E$2:E1465)+1,\"\")","v":""}]
[null,null,null,null,{"$f":"IF(AND(YEAR(C1467)=Calendrier!$BD$8,B1467=Calendrier!$BD$11),MAX($E$2:E1466)+1,\"\")","v":""}]
[null,null,null,null,{"$f":"IF(AND(YEAR(C1468)=Calendrier!$BD$8,B1468=Calendrier!$BD$11),MAX($E$2:E1467)+1,\"\")","v":""}]
[null,null,null,null,{"$f":"IF(AND(YEAR(C1469)=Calendrier!$BD$8,B1469=Calendrier!$BD$11),MAX($E$2:E1468)+1,\"\")","v":""}]
[null,null,null,null,{"$f":"IF(AND(YEAR(C1470)=Calendrier!$BD$8,B1470=Calendrier!$BD$11),MAX($E$2:E1469)+1,\"\")","v":""}]
[null,null,null,null,{"$f":"IF(AND(YEAR(C1471)=Calendrier!$BD$8,B1471=Calendrier!$BD$11),MAX($E$2:E1470)+1,\"\")","v":""}]
[null,null,null,null,{"$f":"IF(AND(YEAR(C1472)=Calendrier!$BD$8,B1472=Calendrier!$BD$11),MAX($E$2:E1471)+1,\"\")","v":""}]
[null,null,null,null,{"$f":"IF(AND(YEAR(C1473)=Calendrier!$BD$8,B1473=Calendrier!$BD$11),MAX($E$2:E1472)+1,\"\")","v":""}]
[null,null,null,null,{"$f":"IF(AND(YEAR(C1474)=Calendrier!$BD$8,B1474=Calendrier!$BD$11),MAX($E$2:E1473)+1,\"\")","v":""}]
[null,null,null,null,{"$f":"IF(AND(YEAR(C1475)=Calendrier!$BD$8,B1475=Calendrier!$BD$11),MAX($E$2:E1474)+1,\"\")","v":""}]
[null,null,null,null,{"$f":"IF(AND(YEAR(C1476)=Calendrier!$BD$8,B1476=Calendrier!$BD$11),MAX($E$2:E1475)+1,\"\")","v":""}]
[null,null,null,null,{"$f":"IF(AND(YEAR(C1477)=Calendrier!$BD$8,B1477=Calendrier!$BD$11),MAX($E$2:E1476)+1,\"\")","v":""}]
[null,null,null,null,{"$f":"IF(AND(YEAR(C1478)=Calendrier!$BD$8,B1478=Calendrier!$BD$11),MAX($E$2:E1477)+1,\"\")","v":""}]
[null,null,null,null,{"$f":"IF(AND(YEAR(C1479)=Calendrier!$BD$8,B1479=Calendrier!$BD$11),MAX($E$2:E1478)+1,\"\")","v":""}]
[null,null,null,null,{"$f":"IF(AND(YEAR(C1480)=Calendrier!$BD$8,B1480=Calendrier!$BD$11),MAX($E$2:E1479)+1,\"\")","v":""}]
[null,null,null,null,{"$f":"IF(AND(YEAR(C1481)=Calendrier!$BD$8,B1481=Calendrier!$BD$11),MAX($E$2:E1480)+1,\"\")","v":""}]
[null,null,null,null,{"$f":"IF(AND(YEAR(C1482)=Calendrier!$BD$8,B1482=Calendrier!$BD$11),MAX($E$2:E1481)+1,\"\")","v":""}]
[null,null,null,null,{"$f":"IF(AND(YEAR(C1483)=Calendrier!$BD$8,B1483=Calendrier!$BD$11),MAX($E$2:E1482)+1,\"\")","v":""}]
[null,null,null,null,{"$f":"IF(AND(YEAR(C1484)=Calendrier!$BD$8,B1484=Calendrier!$BD$11),MAX($E$2:E1483)+1,\"\")","v":""}]
[null,null,null,null,{"$f":"IF(AND(YEAR(C1485)=Calendrier!$BD$8,B1485=Calendrier!$BD$11),MAX($E$2:E1484)+1,\"\")","v":""}]
[null,null,null,null,{"$f":"IF(AND(YEAR(C1486)=Calendrier!$BD$8,B1486=Calendrier!$BD$11),MAX($E$2:E1485)+1,\"\")","v":""}]
[null,null,null,null,{"$f":"IF(AND(YEAR(C1487)=Calendrier!$BD$8,B1487=Calendrier!$BD$11),MAX($E$2:E1486)+1,\"\")","v":""}]
[null,null,null,null,{"$f":"IF(AND(YEAR(C1488)=Calendrier!$BD$8,B1488=Calendrier!$BD$11),MAX($E$2:E1487)+1,\"\")","v":""}]
[null,null,null,null,{"$f":"IF(AND(YEAR(C1489)=Calendrier!$BD$8,B1489=Calendrier!$BD$11),MAX($E$2:E1488)+1,\"\")","v":""}]

{"sheet":"Extraction","index":2,"n_rows":20,"n_cols":5,"rows_kept":20,"cut":false,"hidden":false,"merged":[]}
[]
[null,"Fortune Alain","2020-07-15","CP","Fortune Alain15-07-2020CP"]
[null,"Fortune Alain","2020-07-16","CP","Fortune Alain16-07-2020CP"]
[null,"Fortune Alain","2020-07-17","CP","Fortune Alain17-07-2020CP"]
[null,"Fortune Alain","2020-07-20","CP","Fortune Alain20-07-2020CP"]
[null,"Fortune Alain","2020-07-21","CP","Fortune Alain21-07-2020CP"]
[null,"Fortune Alain","2020-07-22","CP","Fortune Alain22-07-2020CP"]
[null,"Fortune Alain","2020-07-23","CP","Fortune Alain23-07-2020CP"]
[null,"Fortune Alain","2020-07-24","CP","Fortune Alain24-07-2020CP"]
[null,"Fortune Alain","2020-07-27","CP","Fortune Alain27-07-2020CP"]
[null,"Fortune Alain","2020-07-28","CP","Fortune Alain28-07-2020CP"]
[null,"Fortune Alain","2020-07-29","CP","Fortune Alain29-07-2020CP"]
[null,"Fortune Alain","2020-07-30","CP","Fortune Alain30-07-2020CP"]
[null,"Fortune Alain","2020-07-31","CP","Fortune Alain31-07-2020CP"]
[null,"Fortune Alain","2020-08-24","RTT","Fortune Alain24-08-2020RTT"]
[null,"Fortune Alain","2020-08-25","RTT","Fortune Alain25-08-2020RTT"]
[null,"Fortune Alain","2020-08-26","RTT","Fortune Alain26-08-2020RTT"]
[null,"Fortune Alain","2020-08-27","RTT","Fortune Alain27-08-2020RTT"]
[null,"Fortune Alain","2020-08-28","RTT","Fortune Alain28-08-2020RTT"]
[null,"Fortune Alain","2020-08-31","RTT","Fortune Alain31-08-2020RTT"]

{"sheet":"Sources","index":3,"n_rows":18,"n_cols":4,"rows_kept":18,"cut":false,"hidden":false,"merged":[]}
[]
[null,"Années",null,"Salariés"]
[null,2019,null,"Bonbeur Jean"]
[null,2020,null,"Braltar Giles"]
[null,2021,null,"Céhef Hassan"]
[null,2022,null,"Dagin Bruno"]
[null,2023,null,"De MontéCarlo Coralie"]
[null,2024,null,"Débois Romain"]
[null,2025,null,"Doeuf John"]
[null,2026,null,"Douche Raël"]
[null,2027,null,"Ecar Medi"]
[null,2028,null,"Feuille Emille"]
[null,2029,null,"Fonfec Sophie"]
[null,2030,null,"Fortune Alain"]
[null,null,null,"Galls Charline"]
[null,null,null,"Gature Emilie"]
[null,null,null,"Guet Pierre"]
[null,null,null,"Hamalibou Arlette"]

{"sheet":"Jour_feries","index":4,"n_rows":16,"n_cols":10,"rows_kept":16,"cut":false,"hidden":false,"merged":[[1,1,1,7]]}
[]
[null,"Jour fériés en France"]
[]
[null,null,2017,2018,2019,2020,2021,2022]
[null,null,1,2,3,4,5,6]
[null,"Jour de l'an","2017-01-01","2018-01-01","2019-01-01","2020-01-01","2021-01-01","2022-01-01",null,{"$f":"IFERROR(INDEX(C:H,ROW(I6),MATCH(Calendrier!$BD$8,$4:$4,0)-2),\"\")","v":"2020-01-01"}]
[null,"Lundi de Pâques","2017-04-17","2018-04-02","2019-04-22","2020-04-13","2021-04-05","2022-04-18",null,{"$f":"IFERROR(INDEX(C:H,ROW(I7),MATCH(Calendrier!$BD$8,$4:$4,0)-2),\"\")","v":"2020-04-13"}]
[null,"Fête du Travail","2017-05-01","2018-05-01","2019-05-01","2020-05-01","2021-05-01","2022-05-01",null,{"$f":"IFERROR(INDEX(C:H,ROW(I8),MATCH(Calendrier!$BD$8,$4:$4,0)-2),\"\")","v":"2020-05-01"}]
[null,"8 Mai","2017-05-08","2018-05-08","2019-05-08","2020-05-08","2021-05-08","2022-05-08",null,{"$f":"IFERROR(INDEX(C:H,ROW(I9),MATCH(Calendrier!$BD$8,$4:$4,0)-2),\"\")","v":"2020-05-08"}]
[null,"Jeudi de l'Ascension","2017-05-25","2018-05-10","2019-05-30","2020-05-21","2021-05-13","2022-05-26",null,{"$f":"IFERROR(INDEX(C:H,ROW(I10),MATCH(Calendrier!$BD$8,$4:$4,0)-2),\"\")","v":"2020-05-21"}]
[null,"Lundi de Pentecôte","2017-06-05","2018-05-21","2019-06-10","2020-06-01","2021-05-24","2022-06-06",null,{"$f":"IFERROR(INDEX(C:H,ROW(I11),MATCH(Calendrier!$BD$8,$4:$4,0)-2),\"\")","v":"2020-06-01"}]
[null,"Fête Nationale","2017-07-14","2018-07-14","2019-07-14","2020-07-14","2021-07-14","2022-07-14",null,{"$f":"IFERROR(INDEX(C:H,ROW(I12),MATCH(Calendrier!$BD$8,$4:$4,0)-2),\"\")","v":"2020-07-14"}]
[null,"Assomption","2017-08-15","2018-08-15","2019-08-15","2020-08-15","2021-08-15","2022-08-15",null,{"$f":"IFERROR(INDEX(C:H,ROW(I13),MATCH(Calendrier!$BD$8,$4:$4,0)-2),\"\")","v":"2020-08-15"}]
[null,"La Toussaint","2017-11-01","2018-11-01","2019-11-01","2020-11-01","2021-11-01","2022-11-01",null,{"$f":"IFERROR(INDEX(C:H,ROW(I14),MATCH(Calendrier!$BD$8,$4:$4,0)-2),\"\")","v":"2020-11-01"}]
[null,"Armistice","2017-11-11","2018-11-11","2019-11-11","2020-11-11","2021-11-11","2022-11-11",null,{"$f":"IFERROR(INDEX(C:H,ROW(I15),MATCH(Calendrier!$BD$8,$4:$4,0)-2),\"\")","v":"2020-11-11"}]
[null,"Noël","2017-12-25","2018-12-25","2019-12-25","2020-12-25","2021-12-25","2022-12-25",null,{"$f":"IFERROR(INDEX(C:H,ROW(I16),MATCH(Calendrier!$BD$8,$4:$4,0)-2),\"\")","v":"2020-12-25"}]

{"sheet":"Disponibilités","index":5,"n_rows":4,"n_cols":4,"rows_kept":4,"cut":false,"hidden":false,"merged":[[1,1,1,3]]}
[]
[null,"Disponibilités pour la période"]
[]
[null,"Nom","Fréq. Présence","Dates absence"]