{"text_format":"1","workbook":"xlsx","n_sheets":2,"sheets":["Prospection","Villes"],"not_rendered":{"charts":0,"images":0,"macros":0,"external_links":0,"defined_names":0,"comments":0,"pivot_tables":0},"unopened":[],"bounds":{"document_bytes":16777216,"sheet_cells":100000,"rows_first":2000,"rows_last":500,"rows_between":2000,"halvings":0,"cell_chars":16384,"cell_head_chars":4096},"cells_cut":0,"cells_raw":0,"read":"whole","date_system":"1900"}

{"sheet":"Prospection","index":0,"n_rows":11,"n_cols":9,"rows_kept":11,"cut":false,"hidden":false,"merged":[[0,1,0,2],[0,3,0,4],[0,5,0,7],[2,1,2,5]]}
[null,"Bonbache.fr",null,"Bonbache.fr/Excel",null,"Bonbache.fr/ExcelVBA",null,null,"Livres Excel"]
[]
[null,"Fichier Clients"]
[]
[null,"Civilité","Nom","Prénom","CP","Ville",null,null,"CP référence"]
[null,"Monsieur","Hochon","Paul","84000","avigon",null,null,"83840"]
[null,"Madame","Audine","Anne","83630","AIGUINES"]
[null,"Madame","Rouana","Marie","13129","ARLES"]
[null,"Madame","Hamalibou","Arlette","83210","BELGENTIER"]
[null,"Monsieur","Céhef","Hassan","04120","CASTELLANE"]
[null,"Madame","Galls","Charline","13120","GARDANNE"]

{"sheet":"Villes","index":1,"n_rows":847,"n_cols":8,"rows_kept":847,"cut":false,"hidden":false,"merged":[]}
[]
[null,"Commune_id","Commune_nom","Commune_dep",null,null,null,"Extraction"]
[null,1004,"ST TROPEZ","83990",{"$f":"IF(Prospection!$I$6=D3,MAX($E$2:E2)+1,\"\")","v":""},null,null,{"$f":"IFERROR(INDEX(C:C,MATCH(ROW(A1),E:E,0),1),\"\")","v":"BARGEME"}]
[null,1005,"LE LAVANDOU","83980",{"$f":"IF(Prospection!$I$6=D4,MAX($E$2:E3)+1,\"\")","v":""},null,null,{"$f":"IFERROR(INDEX(C:C,MATCH(ROW(A2),E:E,0),1),\"\")","v":"BRENON"}]
[null,1006,"LA MOTTE","83920",{"$f":"IF(Prospection!$I$6=D5,MAX($E$2:E4)+1,\"\")","v":""},null,null,"CHATEAUVIEUX"]
[null,1007,"POURRIERES","83910",{"$f":"IF(Prospection!$I$6=D6,MAX($E$2:E5)+1,\"\")","v":""},null,null,"COMPS SUR ARTUBY"]
[null,1008,"BESSE SUR ISSOLE","83890",{"$f":"IF(Prospection!$I$6=D7,MAX($E$2:E6)+1,\"\")","v":""},null,null,"LA BASTIDE"]
[null,1009,"SIGNES","83870",{"$f":"IF(Prospection!$I$6=D8,MAX($E$2:E7)+1,\"\")","v":""},null,null,"LA MARTRE"]
[null,1010,"NANS LES PINS","83860",{"$f":"IF(Prospection!$I$6=D9,MAX($E$2:E8)+1,\"\")","v":""},null,null,"LA ROQUE ESCLAPON"]
[null,1011,"BARGEME","83840",{"$f":"IF(Prospection!$I$6=D10,MAX($E$2:E9)+1,\"\")","v":1},null,null,"LE BOURGUET"]
[null,1012,"BRENON","83840",{"$f":"IF(Prospection!$I$6=D11,MAX($E$2:E10)+1,\"\")","v":2},null,null,"TRIGANCE"]
[null,1013,"CHATEAUVIEUX","83840",{"$f":"IF(Prospection!$I$6=D12,MAX($E$2:E11)+1,\"\")","v":3},null,null,""]
[null,1014,"COMPS SUR ARTUBY","83840",{"$f":"IF(Prospection!$I$6=D13,MAX($E$2:E12)+1,\"\")","v":4},null,null,""]
[null,1015,"LA BASTIDE","83840",{"$f":"IF(Prospection!$I$6=D14,MAX($E$2:E13)+1,\"\")","v":5},null,null,""]
[null,1016,"LA MARTRE","83840",{"$f":"IF(Prospection!$I$6=D15,MAX($E$2:E14)+1,\"\")","v":6},null,null,""]
[null,1017,"LA ROQUE ESCLAPON","83840",{"$f":"IF(Prospection!$I$6=D16,MAX($E$2:E15)+1,\"\")","v":7},null,null,""]
[null,1018,"LE BOURGUET","83840",{"$f":"IF(Prospection!$I$6=D17,MAX($E$2:E16)+1,\"\")","v":8},null,null,""]
[null,1019,"TRIGANCE","83840",{"$f":"IF(Prospection!$I$6=D18,MAX($E$2:E17)+1,\"\")","v":9},null,null,""]
[null,1020,"BARGEMON","83830",{"$f":"IF(Prospection!$I$6=D19,MAX($E$2:E18)+1,\"\")","v":""},null,null,""]
[null,1021,"CALLAS","83830",{"$f":"IF(Prospection!$I$6=D20,MAX($E$2:E19)+1,\"\")","v":""},null,null,""]
[null,1022,"CLAVIERS","83830",{"$f":"IF(Prospection!$I$6=D21,MAX($E$2:E20)+1,\"\")","v":""},null,null,""]
[null,1023,"FIGANIERES","83830",{"$f":"IF(Prospection!$I$6=D22,MAX($E$2:E21)+1,\"\")","v":""},null,null,""]
[null,1024,"RAYOL CANADEL SUR MER","83820",{"$f":"IF(Prospection!$I$6=D23,MAX($E$2:E22)+1,\"\")","v":""},null,null,""]
[null,1025,"PIGNANS","83790",{"$f":"IF(Prospection!$I$6=D24,MAX($E$2:E23)+1,\"\")","v":""},null,null,""]
[null,1026,"FLAYOSC","83780",{"$f":"IF(Prospection!$I$6=D25,MAX($E$2:E24)+1,\"\")","v":""},null,null,""]
[null,1027,"LA CADIERE D AZUR","83740",{"$f":"IF(Prospection!$I$6=D26,MAX($E$2:E25)+1,\"\")","v":""},null,null,""]
[null,1028,"TRANS EN PROVENCE","83720",{"$f":"IF(Prospection!$I$6=D27,MAX($E$2:E26)+1,\"\")","v":""},null,null,""]
[null,1029,"ST RAPHAEL","83700",{"$f":"IF(Prospection!$I$6=D28,MAX($E$2:E27)+1,\"\")","v":""},null,null,""]
[null,1030,"SALERNES","83690",{"$f":"IF(Prospection!$I$6=D29,MAX($E$2:E28)+1,\"\")","v":""},null,null,""]
[null,1031,"SILLANS LA CASCADE","83690",{"$f":"IF(Prospection!$I$6=D30,MAX($E$2:E29)+1,\"\")","v":""},null,null,""]
[null,1032,"TOURTOUR","83690",{"$f":"IF(Prospection!$I$6=D31,MAX($E$2:E30)+1,\"\")","v":""},null,null,""]
[null,1033,"VILLECROZE","83690",{"$f":"IF(Prospection!$I$6=D32,MAX($E$2:E31)+1,\"\")","v":""},null,null,""]
[null,1034,"LA GARDE FREINET","83680",{"$f":"IF(Prospection!$I$6=D33,MAX($E$2:E32)+1,\"\")","v":""},null,null,""]
[null,1035,"BARJOLS","83670",{"$f":"IF(Prospection!$I$6=D34,MAX($E$2:E33)+1,\"\")","v":""},null,null,""]
[null,1036,"CHATEAUVERT","83670",{"$f":"IF(Prospection!$I$6=D35,MAX($E$2:E34)+1,\"\")","v":""},null,null,""]
[null,1037,"FOX AMPHOUX","83670",{"$f":"IF(Prospection!$I$6=D36,MAX($E$2:E35)+1,\"\")","v":""},null,null,""]
[null,1038,"MONTMEYAN","83670",{"$f":"IF(Prospection!$I$6=D37,MAX($E$2:E36)+1,\"\")","v":""},null,null,""]
[null,1039,"PONTEVES","83670",{"$f":"IF(Prospection!$I$6=D38,MAX($E$2:E37)+1,\"\")","v":""},null,null,""]
[null,1040,"TAVERNES","83670",{"$f":"IF(Prospection!$I$6=D39,MAX($E$2:E38)+1,\"\")","v":""},null,null,""]
[null,1041,"VARAGES","83670",{"$f":"IF(Prospection!$I$6=D40,MAX($E$2:E39)+1,\"\")","v":""},null,null,""]
[null,1042,"CARNOULES","83660",{"$f":"IF(Prospection!$I$6=D41,MAX($E$2:E40)+1,\"\")","v":""},null,null,""]
[null,1043,"PLAN D AUPS STE BAUME","83640",{"$f":"IF(Prospection!$I$6=D42,MAX($E$2:E41)+1,\"\")","v":""},null,null,""]
[null,1044,"ST ZACHARIE","83640",{"$f":"IF(Prospection!$I$6=D43,MAX($E$2:E42)+1,\"\")","v":""},null,null,""]
[null,1045,"AIGUINES","83630",{"$f":"IF(Prospection!$I$6=D44,MAX($E$2:E43)+1,\"\")","v":""},null,null,""]
[null,1046,"ARTIGNOSC SUR VERDON","83630",{"$f":"IF(Prospection!$I$6=D45,MAX($E$2:E44)+1,\"\")","v":""},null,null,""]
[null,1047,"AUPS","83630",{"$f":"IF(Prospection!$I$6=D46,MAX($E$2:E45)+1,\"\")","v":""},null,null,""]
[null,1048,"BAUDINARD SUR VERDON","83630",{"$f":"IF(Prospection!$I$6=D47,MAX($E$2:E46)+1,\"\")","v":""},null,null,""]
[null,1049,"BAUDUEN","83630",{"$f":"IF(Prospection!$I$6=D48,MAX($E$2:E47)+1,\"\")","v":""},null,null,""]
[null,1050,"LES SALLES SUR VERDON","83630",{"$f":"IF(Prospection!$I$6=D49,MAX($E$2:E48)+1,\"\")","v":""},null,null,""]
[null,1051,"MOISSAC BELLEVUE","83630",{"$f":"IF(Prospection!$I$6=D50,MAX($E$2:E49)+1,\"\")","v":""},null,null,""]
[null,1052,"REGUSSE","83630",{"$f":"IF(Prospection!$I$6=D51,MAX($E$2:E50)+1,\"\")","v":""},null,null,""]
[null,1053,"VERIGNON","83630",{"$f":"IF(Prospection!$I$6=D52,MAX($E$2:E51)+1,\"\")","v":""},null,null,""]
[null,1054,"COLLOBRIERES","83610",{"$f":"IF(Prospection!$I$6=D53,MAX($E$2:E52)+1,\"\")","v":""},null,null,""]
[null,1055,"BAGNOLS EN FORET","83600",{"$f":"IF(Prospection!$I$6=D54,MAX($E$2:E53)+1,\"\")","v":""},null,null,""]
[null,1056,"FREJUS","83600",{"$f":"IF(Prospection!$I$6=D55,MAX($E$2:E54)+1,\"\")","v":""},null,null,""]
[null,1057,"LES ADRETS DE L ESTEREL","83600",{"$f":"IF(Prospection!$I$6=D56,MAX($E$2:E55)+1,\"\")","v":""},null,null,""]
[null,1058,"GONFARON","83590",{"$f":"IF(Prospection!$I$6=D57,MAX($E$2:E56)+1,\"\")","v":""},null,null,""]
[null,1059,"GASSIN","83580",{"$f":"IF(Prospection!$I$6=D58,MAX($E$2:E57)+1,\"\")","v":""},null,null,""]
[null,1060,"CARCES","83570",{"$f":"IF(Prospection!$I$6=D59,MAX($E$2:E58)+1,\"\")","v":""},null,null,""]
[null,1061,"CORRENS","83570",{"$f":"IF(Prospection!$I$6=D60,MAX($E$2:E59)+1,\"\")","v":""},null,null,""]
[null,1062,"COTIGNAC","83570",{"$f":"IF(Prospection!$I$6=D61,MAX($E$2:E60)+1,\"\")","v":""},null,null,""]
[null,1063,"ENTRECASTEAUX","83570",{"$f":"IF(Prospection!$I$6=D62,MAX($E$2:E61)+1,\"\")","v":""},null,null,""]
[null,1064,"MONTFORT SUR ARGENS","83570",{"$f":"IF(Prospection!$I$6=D63,MAX($E$2:E62)+1,\"\")","v":""},null,null,""]
[null,1065,"ARTIGUES","83560",{"$f":"IF(Prospection!$I$6=D64,MAX($E$2:E63)+1,\"\")","v":""},null,null,""]
[null,1066,"ESPARRON","83560",{"$f":"IF(Prospection!$I$6=D65,MAX($E$2:E64)+1,\"\")","v":""},null,null,""]
[null,1067,"GINASSERVIS","83560",{"$f":"IF(Prospection!$I$6=D66,MAX($E$2:E65)+1,\"\")","v":""},null,null,""]
[null,1068,"LA VERDIERE","83560",{"$f":"IF(Prospection!$I$6=D67,MAX($E$2:E66)+1,\"\")","v":""},null,null,""]
[null,1069,"RIANS","83560",{"$f":"IF(Prospection!$I$6=D68,MAX($E$2:E67)+1,\"\")","v":""},null,null,{"$f":"IFERROR(INDEX(C:C,MATCH(ROW(A66),E:E,0),1),\"\")","v":""}]
[null,1070,"ST JULIEN","83560",{"$f":"IF(Prospection!$I$6=D69,MAX($E$2:E68)+1,\"\")","v":""},null,null,""]
[null,1071,"ST MARTIN DE PALLIERES","83560",{"$f":"IF(Prospection!$I$6=D70,MAX($E$2:E69)+1,\"\")","v":""},null,null,""]
[null,1072,"VINON SUR VERDON","83560",{"$f":"IF(Prospection!$I$6=D71,MAX($E$2:E70)+1,\"\")","v":""},null,null,""]
[null,1073,"VIDAUBAN","83550",{"$f":"IF(Prospection!$I$6=D72,MAX($E$2:E71)+1,\"\")","v":""},null,null,""]
[null,1074,"ST RAPHAEL","83530",{"$f":"IF(Prospection!$I$6=D73,MAX($E$2:E72)+1,\"\")","v":""},null,null,""]
[null,1075,"ROQUEBRUNE SUR ARGENS","83520",{"$f":"IF(Prospection!$I$6=D74,MAX($E$2:E73)+1,\"\")","v":""},null,null,""]
[null,1076,"LORGUES","83510",{"$f":"IF(Prospection!$I$6=D75,MAX($E$2:E74)+1,\"\")","v":""},null,null,""]
[null,1077,"ST ANTONIN DU VAR","83510",{"$f":"IF(Prospection!$I$6=D76,MAX($E$2:E75)+1,\"\")","v":""},null,null,""]
[null,1078,"LA SEYNE SUR MER","83500",{"$f":"IF(Prospection!$I$6=D77,MAX($E$2:E76)+1,\"\")","v":""},null,null,""]
[null,1079,"LE MUY","83490",{"$f":"IF(Prospection!$I$6=D78,MAX($E$2:E77)+1,\"\")","v":""},null,null,""]
[null,1080,"PUGET SUR ARGENS","83480",{"$f":"IF(Prospection!$I$6=D79,MAX($E$2:E78)+1,\"\")","v":""},null,null,""]
[null,1081,"OLLIERES","83470",{"$f":"IF(Prospection!$I$6=D80,MAX($E$2:E79)+1,\"\")","v":""},null,null,""]
[null,1082,"POURCIEUX","83470",{"$f":"IF(Prospection!$I$6=D81,MAX($E$2:E80)+1,\"\")","v":""},null,null,""]
[null,1083,"SEILLONS SOURCE D ARGENS","83470",{"$f":"IF(Prospection!$I$6=D82,MAX($E$2:E81)+1,\"\")","v":""},null,null,""]
[null,1084,"ST MAXIMIN LA STE BAUME","83470",{"$f":"IF(Prospection!$I$6=D83,MAX($E$2:E82)+1,\"\")","v":""},null,null,""]
[null,1085,"LES ARCS","83460",{"$f":"IF(Prospection!$I$6=D84,MAX($E$2:E83)+1,\"\")","v":""},null,null,""]
[null,1086,"TARADEAU","83460",{"$f":"IF(Prospection!$I$6=D85,MAX($E$2:E84)+1,\"\")","v":""},null,null,""]
[null,1087,"CALLIAN","83440",{"$f":"IF(Prospection!$I$6=D86,MAX($E$2:E85)+1,\"\")","v":""},null,null,""]
[null,1088,"FAYENCE","83440",{"$f":"IF(Prospection!$I$6=D87,MAX($E$2:E86)+1,\"\")","v":""},null,null,""]
[null,1089,"MONS","83440",{"$f":"IF(Prospection!$I$6=D88,MAX($E$2:E87)+1,\"\")","v":""},null,null,""]
[null,1090,"MONTAUROUX","83440",{"$f":"IF(Prospection!$I$6=D89,MAX($E$2:E88)+1,\"\")","v":""},null,null,""]
[null,1091,"SEILLANS","83440",{"$f":"IF(Prospection!$I$6=D90,MAX($E$2:E89)+1,\"\")","v":""},null,null,""]
[null,1092,"ST PAUL EN FORET","83440",{"$f":"IF(Prospection!$I$6=D91,MAX($E$2:E90)+1,\"\")","v":""},null,null,""]
[null,1093,"TANNERON","83440",{"$f":"IF(Prospection!$I$6=D92,MAX($E$2:E91)+1,\"\")","v":""},null,null,""]
[null,1094,"TOURRETTES","83440",{"$f":"IF(Prospection!$I$6=D93,MAX($E$2:E92)+1,\"\")","v":""},null,null,""]
[null,1095,"ST MANDRIER SUR MER","83430",{"$f":"IF(Prospection!$I$6=D94,MAX($E$2:E93)+1,\"\")","v":""},null,null,""]
[null,1096,"LA CROIX VALMER","83420",{"$f":"IF(Prospection!$I$6=D95,MAX($E$2:E94)+1,\"\")","v":""},null,null,""]
[null,1097,"HYERES","83400",{"$f":"IF(Prospection!$I$6=D96,MAX($E$2:E95)+1,\"\")","v":""},null,null,""]
[null,1098,"CUERS","83390",{"$f":"IF(Prospection!$I$6=D97,MAX($E$2:E96)+1,\"\")","v":""},null,null,""]
[null,1099,"PIERREFEU DU VAR","83390",{"$f":"IF(Prospection!$I$6=D98,MAX($E$2:E97)+1,\"\")","v":""},null,null,""]
[null,1100,"PUGET VILLE","83390",{"$f":"IF(Prospection!$I$6=D99,MAX($E$2:E98)+1,\"\")","v":""},null,null,""]
[null,1101,"ROQUEBRUNE SUR ARGENS","83380",{"$f":"IF(Prospection!$I$6=D100,MAX($E$2:E99)+1,\"\")","v":""},null,null,""]
[null,1102,"FREJUS","83370",{"$f":"IF(Prospection!$I$6=D101,MAX($E$2:E100)+1,\"\")","v":""},null,null,""]
[null,1103,"RAMATUELLE","83350",{"$f":"IF(Prospection!$I$6=D102,MAX($E$2:E101)+1,\"\")","v":""},null,null,""]
[null,1104,"CABASSE","83340",{"$f":"IF(Prospection!$I$6=D103,MAX($E$2:E102)+1,\"\")","v":""},null,null,""]
[null,1105,"FLASSANS SUR ISSOLE","83340",{"$f":"IF(Prospection!$I$6=D104,MAX($E$2:E103)+1,\"\")","v":""},null,null,""]
[null,1106,"LE CANNET DES MAURES","83340",{"$f":"IF(Prospection!$I$6=D105,MAX($E$2:E104)+1,\"\")","v":""},null,null,""]
[null,1107,"LE LUC","83340",{"$f":"IF(Prospection!$I$6=D106,MAX($E$2:E105)+1,\"\")","v":""},null,null,""]
[null,1108,"LE THORONET","83340",{"$f":"IF(Prospection!$I$6=D107,MAX($E$2:E106)+1,\"\")","v":""},null,null,""]
[null,1109,"LES MAYONS","83340",{"$f":"IF(Prospection!$I$6=D108,MAX($E$2:E107)+1,\"\")","v":""},null,null,""]
[null,1110,"EVENOS","83330",{"$f":"IF(Prospection!$I$6=D109,MAX($E$2:E108)+1,\"\")","v":""},null,null,""]
[null,1111,"LE BEAUSSET","83330",{"$f":"IF(Prospection!$I$6=D110,MAX($E$2:E109)+1,\"\")","v":""},null,null,""]
[null,1112,"LE CASTELLET","83330",{"$f":"IF(Prospection!$I$6=D111,MAX($E$2:E110)+1,\"\")","v":""}]
[null,1113,"CARQUEIRANNE","83320",{"$f":"IF(Prospection!$I$6=D112,MAX($E$2:E111)+1,\"\")","v":""}]
[null,1114,"COGOLIN","83310",{"$f":"IF(Prospection!$I$6=D113,MAX($E$2:E112)+1,\"\")","v":""}]
[null,1115,"GRIMAUD","83310",{"$f":"IF(Prospection!$I$6=D114,MAX($E$2:E113)+1,\"\")","v":""}]
[null,1116,"LA MOLE","83310",{"$f":"IF(Prospection!$I$6=D115,MAX($E$2:E114)+1,\"\")","v":""}]
[null,1117,"CHATEAUDOUBLE","83300",{"$f":"IF(Prospection!$I$6=D116,MAX($E$2:E115)+1,\"\")","v":""}]
[null,1118,"DRAGUIGNAN","83300",{"$f":"IF(Prospection!$I$6=D117,MAX($E$2:E116)+1,\"\")","v":""}]
[null,1119,"ST CYR SUR MER","83270",{"$f":"IF(Prospection!$I$6=D118,MAX($E$2:E117)+1,\"\")","v":""}]
[null,1120,"LA CRAU","83260",{"$f":"IF(Prospection!$I$6=D119,MAX($E$2:E118)+1,\"\")","v":""}]
[null,1121,"LA LONDE LES MAURES","83250",{"$f":"IF(Prospection!$I$6=D120,MAX($E$2:E119)+1,\"\")","v":""}]
[null,1122,"CAVALAIRE SUR MER","83240",{"$f":"IF(Prospection!$I$6=D121,MAX($E$2:E120)+1,\"\")","v":""}]
[null,1123,"BORMES LES MIMOSAS","83230",{"$f":"IF(Prospection!$I$6=D122,MAX($E$2:E121)+1,\"\")","v":""}]
[null,1124,"LE PRADET","83220",{"$f":"IF(Prospection!$I$6=D123,MAX($E$2:E122)+1,\"\")","v":""}]
[null,1125,"BELGENTIER","83210",{"$f":"IF(Prospection!$I$6=D124,MAX($E$2:E123)+1,\"\")","v":""}]
[null,1126,"LA FARLEDE","83210",{"$f":"IF(Prospection!$I$6=D125,MAX($E$2:E124)+1,\"\")","v":""}]
[null,1127,"SOLLIES PONT","83210",{"$f":"IF(Prospection!$I$6=D126,MAX($E$2:E125)+1,\"\")","v":""}]
[null,1128,"SOLLIES TOUCAS","83210",{"$f":"IF(Prospection!$I$6=D127,MAX($E$2:E126)+1,\"\")","v":""}]
[null,1129,"SOLLIES VILLE","83210",{"$f":"IF(Prospection!$I$6=D128,MAX($E$2:E127)+1,\"\")","v":""}]
[null,1130,"LE REVEST LES EAUX","83200",{"$f":"IF(Prospection!$I$6=D129,MAX($E$2:E128)+1,\"\")","v":""}]
[null,1131,"TOULON","83200",{"$f":"IF(Prospection!$I$6=D130,MAX($E$2:E129)+1,\"\")","v":""}]
[null,1132,"OLLIOULES","83190",{"$f":"IF(Prospection!$I$6=D131,MAX($E$2:E130)+1,\"\")","v":""}]
[null,1133,"BRIGNOLES","83170",{"$f":"IF(Prospection!$I$6=D132,MAX($E$2:E131)+1,\"\")","v":""}]
[null,1134,"CAMPS LA SOURCE","83170",{"$f":"IF(Prospection!$I$6=D133,MAX($E$2:E132)+1,\"\")","v":""}]
[null,1135,"LA CELLE","83170",{"$f":"IF(Prospection!$I$6=D134,MAX($E$2:E133)+1,\"\")","v":""}]
[null,1136,"ROUGIERS","83170",{"$f":"IF(Prospection!$I$6=D135,MAX($E$2:E134)+1,\"\")","v":""}]
[null,1137,"TOURVES","83170",{"$f":"IF(Prospection!$I$6=D136,MAX($E$2:E135)+1,\"\")","v":""}]
[null,1138,"VINS SUR CARAMY","83170",{"$f":"IF(Prospection!$I$6=D137,MAX($E$2:E136)+1,\"\")","v":""}]
[null,1139,"LA VALETTE DU VAR","83160",{"$f":"IF(Prospection!$I$6=D138,MAX($E$2:E137)+1,\"\")","v":""}]
[null,1140,"BANDOL","83150",{"$f":"IF(Prospection!$I$6=D139,MAX($E$2:E138)+1,\"\")","v":""}]
[null,1141,"BRAS","83149",{"$f":"IF(Prospection!$I$6=D140,MAX($E$2:E139)+1,\"\")","v":""}]
[null,1142,"LE VAL","83143",{"$f":"IF(Prospection!$I$6=D141,MAX($E$2:E140)+1,\"\")","v":""}]
[null,1143,"SIX FOURS LES PLAGES","83140",{"$f":"IF(Prospection!$I$6=D142,MAX($E$2:E141)+1,\"\")","v":""}]
[null,1144,"FORCALQUEIRET","83136",{"$f":"IF(Prospection!$I$6=D143,MAX($E$2:E142)+1,\"\")","v":""}]
[null,1145,"GAREOULT","83136",{"$f":"IF(Prospection!$I$6=D144,MAX($E$2:E143)+1,\"\")","v":""}]
[null,1146,"LA ROQUEBRUSSANNE","83136",{"$f":"IF(Prospection!$I$6=D145,MAX($E$2:E144)+1,\"\")","v":""}]
[null,1147,"MAZAUGUES","83136",{"$f":"IF(Prospection!$I$6=D146,MAX($E$2:E145)+1,\"\")","v":""}]
[null,1148,"MEOUNES LES MONTRIEUX","83136",{"$f":"IF(Prospection!$I$6=D147,MAX($E$2:E146)+1,\"\")","v":""}]
[null,1149,"NEOULES","83136",{"$f":"IF(Prospection!$I$6=D148,MAX($E$2:E147)+1,\"\")","v":""}]
[null,1150,"ROCBARON","83136",{"$f":"IF(Prospection!$I$6=D149,MAX($E$2:E148)+1,\"\")","v":""}]
[null,1151,"STE ANASTASIE SUR ISSOLE","83136",{"$f":"IF(Prospection!$I$6=D150,MAX($E$2:E149)+1,\"\")","v":""}]
[null,1152,"MONTFERRAT","83131",{"$f":"IF(Prospection!$I$6=D151,MAX($E$2:E150)+1,\"\")","v":""}]
[null,1153,"LA GARDE","83130",{"$f":"IF(Prospection!$I$6=D152,MAX($E$2:E151)+1,\"\")","v":""}]
[null,1154,"LE PLAN DE LA TOUR","83120",{"$f":"IF(Prospection!$I$6=D153,MAX($E$2:E152)+1,\"\")","v":""}]
[null,1155,"STE MAXIME","83120",{"$f":"IF(Prospection!$I$6=D154,MAX($E$2:E153)+1,\"\")","v":""}]
[null,1156,"BRUE AURIAC","83119",{"$f":"IF(Prospection!$I$6=D155,MAX($E$2:E154)+1,\"\")","v":""}]
[null,1157,"AMPUS","83111",{"$f":"IF(Prospection!$I$6=D156,MAX($E$2:E155)+1,\"\")","v":""}]
[null,1158,"SANARY SUR MER","83110",{"$f":"IF(Prospection!$I$6=D157,MAX($E$2:E156)+1,\"\")","v":""}]
[null,1159,"TOULON","83100",{"$f":"IF(Prospection!$I$6=D158,MAX($E$2:E157)+1,\"\")","v":""}]
[null,1160,"TOULON","83000",{"$f":"IF(Prospection!$I$6=D159,MAX($E$2:E158)+1,\"\")","v":""}]
[null,1161,"FONTVIEILLE","13990",{"$f":"IF(Prospection!$I$6=D160,MAX($E$2:E159)+1,\"\")","v":""}]
[null,1162,"ALLEINS","13980",{"$f":"IF(Prospection!$I$6=D161,MAX($E$2:E160)+1,\"\")","v":""}]
[null,1163,"SAUSSET LES PINS","13960",{"$f":"IF(Prospection!$I$6=D162,MAX($E$2:E161)+1,\"\")","v":""}]
[null,1164,"CADOLIVE","13950",{"$f":"IF(Prospection!$I$6=D163,MAX($E$2:E162)+1,\"\")","v":""}]
[null,1165,"MOLLEGES","13940",{"$f":"IF(Prospection!$I$6=D164,MAX($E$2:E163)+1,\"\")","v":""}]
[null,1166,"AUREILLE","13930",{"$f":"IF(Prospection!$I$6=D165,MAX($E$2:E164)+1,\"\")","v":""}]
[null,1167,"ST MITRE LES REMPARTS","13920",{"$f":"IF(Prospection!$I$6=D166,MAX($E$2:E165)+1,\"\")","v":""}]
[null,1168,"MAILLANE","13910",{"$f":"IF(Prospection!$I$6=D167,MAX($E$2:E166)+1,\"\")","v":""}]
[null,1169,"MOURIES","13890",{"$f":"IF(Prospection!$I$6=D168,MAX($E$2:E167)+1,\"\")","v":""}]
[null,1170,"VELAUX","13880",{"$f":"IF(Prospection!$I$6=D169,MAX($E$2:E168)+1,\"\")","v":""}]
[null,1171,"ROGNONAS","13870",{"$f":"IF(Prospection!$I$6=D170,MAX($E$2:E169)+1,\"\")","v":""}]
[null,1172,"PEYROLLES EN PROVENCE","13860",{"$f":"IF(Prospection!$I$6=D171,MAX($E$2:E170)+1,\"\")","v":""}]
[null,1173,"GREASQUE","13850",{"$f":"IF(Prospection!$I$6=D172,MAX($E$2:E171)+1,\"\")","v":""}]
[null,1174,"ROGNES","13840",{"$f":"IF(Prospection!$I$6=D173,MAX($E$2:E172)+1,\"\")","v":""}]
[null,1175,"ROQUEFORT LA BEDOULE","13830",{"$f":"IF(Prospection!$I$6=D174,MAX($E$2:E173)+1,\"\")","v":""}]
[null,1176,"LA PENNE SUR HUVEAUNE","13821",{"$f":"IF(Prospection!$I$6=D175,MAX($E$2:E174)+1,\"\")","v":""}]
[null,1177,"ENSUES LA REDONNE","13820",{"$f":"IF(Prospection!$I$6=D176,MAX($E$2:E175)+1,\"\")","v":""}]
[null,1178,"EYGALIERES","13810",{"$f":"IF(Prospection!$I$6=D177,MAX($E$2:E176)+1,\"\")","v":""}]
[null,1179,"ISTRES","13800",{"$f":"IF(Prospection!$I$6=D178,MAX($E$2:E177)+1,\"\")","v":""}]
[null,1180,"CHATEAUNEUF LE ROUGE","13790",{"$f":"IF(Prospection!$I$6=D179,MAX($E$2:E178)+1,\"\")","v":""}]
[null,1181,"PEYNIER","13790",{"$f":"IF(Prospection!$I$6=D180,MAX($E$2:E179)+1,\"\")","v":""}]
[null,1182,"ROUSSET","13790",{"$f":"IF(Prospection!$I$6=D181,MAX($E$2:E180)+1,\"\")","v":""}]
[null,1183,"CUGES LES PINS","13780",{"$f":"IF(Prospection!$I$6=D182,MAX($E$2:E181)+1,\"\")","v":""}]
[null,1184,"RIBOUX","13780",{"$f":"IF(Prospection!$I$6=D183,MAX($E$2:E182)+1,\"\")","v":""}]
[null,1185,"VENELLES","13770",{"$f":"IF(Prospection!$I$6=D184,MAX($E$2:E183)+1,\"\")","v":""}]
[null,1186,"ST CANNAT","13760",{"$f":"IF(Prospection!$I$6=D185,MAX($E$2:E184)+1,\"\")","v":""}]
[null,1187,"PLAN D ORGON","13750",{"$f":"IF(Prospection!$I$6=D186,MAX($E$2:E185)+1,\"\")","v":""}]
[null,1188,"LE ROVE","13740",{"$f":"IF(Prospection!$I$6=D187,MAX($E$2:E186)+1,\"\")","v":""}]
[null,1189,"ST VICTORET","13730",{"$f":"IF(Prospection!$I$6=D188,MAX($E$2:E187)+1,\"\")","v":""}]
[null,1190,"BELCODENE","13720",{"$f":"IF(Prospection!$I$6=D189,MAX($E$2:E188)+1,\"\")","v":""}]
[null,1191,"LA BOUILLADISSE","13720",{"$f":"IF(Prospection!$I$6=D190,MAX($E$2:E189)+1,\"\")","v":""}]
[null,1192,"FUVEAU","13710",{"$f":"IF(Prospection!$I$6=D191,MAX($E$2:E190)+1,\"\")","v":""}]
[null,1193,"MARIGNANE","13700",{"$f":"IF(Prospection!$I$6=D192,MAX($E$2:E191)+1,\"\")","v":""}]
[null,1194,"ST VICTORET","13700",{"$f":"IF(Prospection!$I$6=D193,MAX($E$2:E192)+1,\"\")","v":""}]
[null,1195,"GRAVESON","13690",{"$f":"IF(Prospection!$I$6=D194,MAX($E$2:E193)+1,\"\")","v":""}]
[null,1196,"LANCON PROVENCE","13680",{"$f":"IF(Prospection!$I$6=D195,MAX($E$2:E194)+1,\"\")","v":""}]
[null,1197,"ST ANDIOL","13670",{"$f":"IF(Prospection!$I$6=D196,MAX($E$2:E195)+1,\"\")","v":""}]
[null,1198,"VERQUIERES","13670",{"$f":"IF(Prospection!$I$6=D197,MAX($E$2:E196)+1,\"\")","v":""}]
[null,1199,"ORGON","13660",{"$f":"IF(Prospection!$I$6=D198,MAX($E$2:E197)+1,\"\")","v":""}]
[null,1200,"MEYRARGUES","13650",{"$f":"IF(Prospection!$I$6=D199,MAX($E$2:E198)+1,\"\")","v":""}]
[null,1201,"LA ROQUE D ANTHERON","13640",{"$f":"IF(Prospection!$I$6=D200,MAX($E$2:E199)+1,\"\")","v":""}]
[null,1202,"EYRAGUES","13630",{"$f":"IF(Prospection!$I$6=D201,MAX($E$2:E200)+1,\"\")","v":""}]
[null,1203,"CARRY LE ROUET","13620",{"$f":"IF(Prospection!$I$6=D202,MAX($E$2:E201)+1,\"\")","v":""}]
[null,1204,"LE PUY STE REPARADE","13610",{"$f":"IF(Prospection!$I$6=D203,MAX($E$2:E202)+1,\"\")","v":""}]
[null,1205,"ST ESTEVE JANSON","13610",{"$f":"IF(Prospection!$I$6=D204,MAX($E$2:E203)+1,\"\")","v":""}]
[null,1206,"CEYRESTE","13600",{"$f":"IF(Prospection!$I$6=D205,MAX($E$2:E204)+1,\"\")","v":""}]
[null,1207,"LA CIOTAT","13600",{"$f":"IF(Prospection!$I$6=D206,MAX($E$2:E205)+1,\"\")","v":""}]
[null,1208,"MEYREUIL","13590",{"$f":"IF(Prospection!$I$6=D207,MAX($E$2:E206)+1,\"\")","v":""}]
[null,1209,"LA FARE LES OLIVIERS","13580",{"$f":"IF(Prospection!$I$6=D208,MAX($E$2:E207)+1,\"\")","v":""}]
[null,1210,"BARBENTANE","13570",{"$f":"IF(Prospection!$I$6=D209,MAX($E$2:E208)+1,\"\")","v":""}]
[null,1211,"SENAS","13560",{"$f":"IF(Prospection!$I$6=D210,MAX($E$2:E209)+1,\"\")","v":""}]
[null,1212,"NOVES","13550",{"$f":"IF(Prospection!$I$6=D211,MAX($E$2:E210)+1,\"\")","v":""}]
[null,1213,"AIX EN PROVENCE","13540",{"$f":"IF(Prospection!$I$6=D212,MAX($E$2:E211)+1,\"\")","v":""}]
[null,1214,"TRETS","13530",{"$f":"IF(Prospection!$I$6=D213,MAX($E$2:E212)+1,\"\")","v":""}]
[null,1215,"LES BAUX DE PROVENCE","13520",{"$f":"IF(Prospection!$I$6=D214,MAX($E$2:E213)+1,\"\")","v":""}]
[null,1216,"MAUSSANE LES ALPILLES","13520",{"$f":"IF(Prospection!$I$6=D215,MAX($E$2:E214)+1,\"\")","v":""}]
[null,1217,"PARADOU","13520",{"$f":"IF(Prospection!$I$6=D216,MAX($E$2:E215)+1,\"\")","v":""}]
[null,1218,"EGUILLES","13510",{"$f":"IF(Prospection!$I$6=D217,MAX($E$2:E216)+1,\"\")","v":""}]
[null,1219,"MARTIGUES","13500",{"$f":"IF(Prospection!$I$6=D218,MAX($E$2:E217)+1,\"\")","v":""}]
[null,1220,"JOUQUES","13490",{"$f":"IF(Prospection!$I$6=D219,MAX($E$2:E218)+1,\"\")","v":""}]
[null,1221,"CABRIES","13480",{"$f":"IF(Prospection!$I$6=D220,MAX($E$2:E219)+1,\"\")","v":""}]
[null,1222,"CARNOUX EN PROVENCE","13470",{"$f":"IF(Prospection!$I$6=D221,MAX($E$2:E220)+1,\"\")","v":""}]
[null,1223,"SAINTES MARIES DE LA MER","13460",{"$f":"IF(Prospection!$I$6=D222,MAX($E$2:E221)+1,\"\")","v":""}]
[null,1224,"GRANS","13450",{"$f":"IF(Prospection!$I$6=D223,MAX($E$2:E222)+1,\"\")","v":""}]
[null,1225,"CABANNES","13440",{"$f":"IF(Prospection!$I$6=D224,MAX($E$2:E223)+1,\"\")","v":""}]
[null,1226,"EYGUIERES","13430",{"$f":"IF(Prospection!$I$6=D225,MAX($E$2:E224)+1,\"\")","v":""}]
[null,1227,"GEMENOS","13420",{"$f":"IF(Prospection!$I$6=D226,MAX($E$2:E225)+1,\"\")","v":""}]
[null,1228,"LAMBESC","13410",{"$f":"IF(Prospection!$I$6=D227,MAX($E$2:E226)+1,\"\")","v":""}]
[null,1229,"AUBAGNE","13400",{"$f":"IF(Prospection!$I$6=D228,MAX($E$2:E227)+1,\"\")","v":""}]
[null,1230,"AURIOL","13390",{"$f":"IF(Prospection!$I$6=D229,MAX($E$2:E228)+1,\"\")","v":""}]
[null,1231,"PLAN DE CUQUES","13380",{"$f":"IF(Prospection!$I$6=D230,MAX($E$2:E229)+1,\"\")","v":""}]
[null,1232,"MALLEMORT","13370",{"$f":"IF(Prospection!$I$6=D231,MAX($E$2:E230)+1,\"\")","v":""}]
[null,1233,"ROQUEVAIRE","13360",{"$f":"IF(Prospection!$I$6=D232,MAX($E$2:E231)+1,\"\")","v":""}]
[null,1234,"CHARLEVAL","13350",{"$f":"IF(Prospection!$I$6=D233,MAX($E$2:E232)+1,\"\")","v":""}]
[null,1235,"ROGNAC","13340",{"$f":"IF(Prospection!$I$6=D234,MAX($E$2:E233)+1,\"\")","v":""}]
[null,1236,"LA BARBEN","13330",{"$f":"IF(Prospection!$I$6=D235,MAX($E$2:E234)+1,\"\")","v":""}]
[null,1237,"PELISSANNE","13330",{"$f":"IF(Prospection!$I$6=D236,MAX($E$2:E235)+1,\"\")","v":""}]
[null,1238,"BOUC BEL AIR","13320",{"$f":"IF(Prospection!$I$6=D237,MAX($E$2:E236)+1,\"\")","v":""}]
[null,1239,"ST MARTIN DE CRAU","13310",{"$f":"IF(Prospection!$I$6=D238,MAX($E$2:E237)+1,\"\")","v":""}]
[null,1240,"SALON DE PROVENCE","13300",{"$f":"IF(Prospection!$I$6=D239,MAX($E$2:E238)+1,\"\")","v":""}]
[null,1241,"AIX EN PROVENCE","13290",{"$f":"IF(Prospection!$I$6=D240,MAX($E$2:E239)+1,\"\")","v":""}]
[null,1242,"ARLES","13280",{"$f":"IF(Prospection!$I$6=D241,MAX($E$2:E240)+1,\"\")","v":""}]
[null,1243,"FOS SUR MER","13270",{"$f":"IF(Prospection!$I$6=D242,MAX($E$2:E241)+1,\"\")","v":""}]
[null,1244,"CASSIS","13260",{"$f":"IF(Prospection!$I$6=D243,MAX($E$2:E242)+1,\"\")","v":""}]
[null,1245,"CORNILLON CONFOUX","13250",{"$f":"IF(Prospection!$I$6=D244,MAX($E$2:E243)+1,\"\")","v":""}]
[null,1246,"ST CHAMAS","13250",{"$f":"IF(Prospection!$I$6=D245,MAX($E$2:E244)+1,\"\")","v":""}]
[null,1247,"SEPTEMES LES VALLONS","13240",{"$f":"IF(Prospection!$I$6=D246,MAX($E$2:E245)+1,\"\")","v":""}]
[null,1248,"PORT ST LOUIS DU RHONE","13230",{"$f":"IF(Prospection!$I$6=D247,MAX($E$2:E246)+1,\"\")","v":""}]
[null,1249,"CHATEAUNEUF LES MARTIGUES","13220",{"$f":"IF(Prospection!$I$6=D248,MAX($E$2:E247)+1,\"\")","v":""}]
[null,1250,"ST REMY DE PROVENCE","13210",{"$f":"IF(Prospection!$I$6=D249,MAX($E$2:E248)+1,\"\")","v":""}]
[null,1251,"ARLES","13200",{"$f":"IF(Prospection!$I$6=D250,MAX($E$2:E249)+1,\"\")","v":""}]
[null,1252,"ALLAUCH","13190",{"$f":"IF(Prospection!$I$6=D251,MAX($E$2:E250)+1,\"\")","v":""}]
[null,1253,"GIGNAC LA NERTHE","13180",{"$f":"IF(Prospection!$I$6=D252,MAX($E$2:E251)+1,\"\")","v":""}]
[null,1254,"LES PENNES MIRABEAU","13170",{"$f":"IF(Prospection!$I$6=D253,MAX($E$2:E252)+1,\"\")","v":""}]
[null,1255,"CHATEAURENARD","13160",{"$f":"IF(Prospection!$I$6=D254,MAX($E$2:E253)+1,\"\")","v":""}]
[null,1256,"BOULBON","13150",{"$f":"IF(Prospection!$I$6=D255,MAX($E$2:E254)+1,\"\")","v":""}]
[null,1257,"ST PIERRE DE MEZOARGUES","13150",{"$f":"IF(Prospection!$I$6=D256,MAX($E$2:E255)+1,\"\")","v":""}]
[null,1258,"TARASCON","13150",{"$f":"IF(Prospection!$I$6=D257,MAX($E$2:E256)+1,\"\")","v":""}]
[null,1259,"MIRAMAS","13140",{"$f":"IF(Prospection!$I$6=D258,MAX($E$2:E257)+1,\"\")","v":""}]
[null,1260,"BERRE L ETANG","13130",{"$f":"IF(Prospection!$I$6=D259,MAX($E$2:E258)+1,\"\")","v":""}]
[null,1261,"ARLES","13129",{"$f":"IF(Prospection!$I$6=D260,MAX($E$2:E259)+1,\"\")","v":""}]
[null,1262,"VITROLLES","13127",{"$f":"IF(Prospection!$I$6=D261,MAX($E$2:E260)+1,\"\")","v":""}]
[null,1263,"VAUVENARGUES","13126",{"$f":"IF(Prospection!$I$6=D262,MAX($E$2:E261)+1,\"\")","v":""}]
[null,1264,"PEYPIN","13124",{"$f":"IF(Prospection!$I$6=D263,MAX($E$2:E262)+1,\"\")","v":""}]
[null,1265,"ARLES","13123",{"$f":"IF(Prospection!$I$6=D264,MAX($E$2:E263)+1,\"\")","v":""}]
[null,1266,"VENTABREN","13122",{"$f":"IF(Prospection!$I$6=D265,MAX($E$2:E264)+1,\"\")","v":""}]
[null,1267,"AURONS","13121",{"$f":"IF(Prospection!$I$6=D266,MAX($E$2:E265)+1,\"\")","v":""}]
[null,1268,"GARDANNE","13120",{"$f":"IF(Prospection!$I$6=D267,MAX($E$2:E266)+1,\"\")","v":""}]
[null,1269,"ST SAVOURNIN","13119",{"$f":"IF(Prospection!$I$6=D268,MAX($E$2:E267)+1,\"\")","v":""}]
[null,1270,"ISTRES","13118",{"$f":"IF(Prospection!$I$6=D269,MAX($E$2:E268)+1,\"\")","v":""}]
[null,1271,"MARTIGUES","13117",{"$f":"IF(Prospection!$I$6=D270,MAX($E$2:E269)+1,\"\")","v":""}]
[null,1272,"VERNEGUES","13116",{"$f":"IF(Prospection!$I$6=D271,MAX($E$2:E270)+1,\"\")","v":""}]
[null,1273,"ST PAUL LES DURANCE","13115",{"$f":"IF(Prospection!$I$6=D272,MAX($E$2:E271)+1,\"\")","v":""}]
[null,1274,"PUYLOUBIER","13114",{"$f":"IF(Prospection!$I$6=D273,MAX($E$2:E272)+1,\"\")","v":""}]
[null,1275,"LAMANON","13113",{"$f":"IF(Prospection!$I$6=D274,MAX($E$2:E273)+1,\"\")","v":""}]
[null,1276,"LA DESTROUSSE","13112",{"$f":"IF(Prospection!$I$6=D275,MAX($E$2:E274)+1,\"\")","v":""}]
[null,1277,"COUDOUX","13111",{"$f":"IF(Prospection!$I$6=D276,MAX($E$2:E275)+1,\"\")","v":""}]
[null,1278,"PORT DE BOUC","13110",{"$f":"IF(Prospection!$I$6=D277,MAX($E$2:E276)+1,\"\")","v":""}]
[null,1279,"SIMIANE COLLONGUE","13109",{"$f":"IF(Prospection!$I$6=D278,MAX($E$2:E277)+1,\"\")","v":""}]
[null,1280,"MIMET","13105",{"$f":"IF(Prospection!$I$6=D279,MAX($E$2:E278)+1,\"\")","v":""}]
[null,1281,"ARLES","13104",{"$f":"IF(Prospection!$I$6=D280,MAX($E$2:E279)+1,\"\")","v":""}]
[null,1282,"MAS BLANC DES ALPILLES","13103",{"$f":"IF(Prospection!$I$6=D281,MAX($E$2:E280)+1,\"\")","v":""}]
[null,1283,"ST ETIENNE DU GRES","13103",{"$f":"IF(Prospection!$I$6=D282,MAX($E$2:E281)+1,\"\")","v":""}]
[null,1284,"AIX EN PROVENCE","13100",{"$f":"IF(Prospection!$I$6=D283,MAX($E$2:E282)+1,\"\")","v":""}]
[null,1285,"BEAURECUEIL","13100",{"$f":"IF(Prospection!$I$6=D284,MAX($E$2:E283)+1,\"\")","v":""}]
[null,1286,"LE THOLONET","13100",{"$f":"IF(Prospection!$I$6=D285,MAX($E$2:E284)+1,\"\")","v":""}]
[null,1287,"ST ANTONIN SUR BAYON","13100",{"$f":"IF(Prospection!$I$6=D286,MAX($E$2:E285)+1,\"\")","v":""}]
[null,1288,"ST MARC JAUMEGARDE","13100",{"$f":"IF(Prospection!$I$6=D287,MAX($E$2:E286)+1,\"\")","v":""}]
[null,1289,"AIX EN PROVENCE","13090",{"$f":"IF(Prospection!$I$6=D288,MAX($E$2:E287)+1,\"\")","v":""}]
[null,1290,"AIX EN PROVENCE","13080",{"$f":"IF(Prospection!$I$6=D289,MAX($E$2:E288)+1,\"\")","v":""}]
[null,1291,"MARSEILLE 16","13016",{"$f":"IF(Prospection!$I$6=D290,MAX($E$2:E289)+1,\"\")","v":""}]
[null,1292,"MARSEILLE 15","13015",{"$f":"IF(Prospection!$I$6=D291,MAX($E$2:E290)+1,\"\")","v":""}]
[null,1293,"MARSEILLE 14","13014",{"$f":"IF(Prospection!$I$6=D292,MAX($E$2:E291)+1,\"\")","v":""}]
[null,1294,"MARSEILLE 13","13013",{"$f":"IF(Prospection!$I$6=D293,MAX($E$2:E292)+1,\"\")","v":""}]
[null,1295,"MARSEILLE 12","13012",{"$f":"IF(Prospection!$I$6=D294,MAX($E$2:E293)+1,\"\")","v":""}]
[null,1296,"MARSEILLE 11","13011",{"$f":"IF(Prospection!$I$6=D295,MAX($E$2:E294)+1,\"\")","v":""}]
[null,1297,"MARSEILLE 10","13010",{"$f":"IF(Prospection!$I$6=D296,MAX($E$2:E295)+1,\"\")","v":""}]
[null,1298,"MARSEILLE 09","13009",{"$f":"IF(Prospection!$I$6=D297,MAX($E$2:E296)+1,\"\")","v":""}]
[null,1299,"MARSEILLE 08","13008",{"$f":"IF(Prospection!$I$6=D298,MAX($E$2:E297)+1,\"\")","v":""}]
[null,1300,"MARSEILLE 07","13007",{"$f":"IF(Prospection!$I$6=D299,MAX($E$2:E298)+1,\"\")","v":""}]
[null,1301,"MARSEILLE 06","13006",{"$f":"IF(Prospection!$I$6=D300,MAX($E$2:E299)+1,\"\")","v":""}]
[null,1302,"MARSEILLE 05","13005",{"$f":"IF(Prospection!$I$6=D301,MAX($E$2:E300)+1,\"\")","v":""}]
[null,1303,"MARSEILLE 04","13004",{"$f":"IF(Prospection!$I$6=D302,MAX($E$2:E301)+1,\"\")","v":""}]
[null,1304,"MARSEILLE 03","13003",{"$f":"IF(Prospection!$I$6=D303,MAX($E$2:E302)+1,\"\")","v":""}]
[null,1305,"MARSEILLE 02","13002",{"$f":"IF(Prospection!$I$6=D304,MAX($E$2:E303)+1,\"\")","v":""}]
[null,1306,"MARSEILLE 01","13001",{"$f":"IF(Prospection!$I$6=D305,MAX($E$2:E304)+1,\"\")","v":""}]
[null,1307,"FALICON","06950",{"$f":"IF(Prospection!$I$6=D306,MAX($E$2:E305)+1,\"\")","v":""}]
[null,1308,"AIGLUN","06910",{"$f":"IF(Prospection!$I$6=D307,MAX($E$2:E306)+1,\"\")","v":""}]
[null,1309,"AMIRAT","06910",{"$f":"IF(Prospection!$I$6=D308,MAX($E$2:E307)+1,\"\")","v":""}]
[null,1310,"COLLONGUES","06910",{"$f":"IF(Prospection!$I$6=D309,MAX($E$2:E308)+1,\"\")","v":""}]
[null,1311,"CUEBRIS","06910",{"$f":"IF(Prospection!$I$6=D310,MAX($E$2:E309)+1,\"\")","v":""}]
[null,1312,"LA ROQUE EN PROVENCE","06910",{"$f":"IF(Prospection!$I$6=D311,MAX($E$2:E310)+1,\"\")","v":""}]
[null,1313,"LE MAS","06910",{"$f":"IF(Prospection!$I$6=D312,MAX($E$2:E311)+1,\"\")","v":""}]
[null,1314,"LES MUJOULS","06910",{"$f":"IF(Prospection!$I$6=D313,MAX($E$2:E312)+1,\"\")","v":""}]
[null,1315,"PIERREFEU","06910",{"$f":"IF(Prospection!$I$6=D314,MAX($E$2:E313)+1,\"\")","v":""}]
[null,1316,"ROQUESTERON","06910",{"$f":"IF(Prospection!$I$6=D315,MAX($E$2:E314)+1,\"\")","v":""}]
[null,1317,"SALLAGRIFFON","06910",{"$f":"IF(Prospection!$I$6=D316,MAX($E$2:E315)+1,\"\")","v":""}]
[null,1318,"SIGALE","06910",{"$f":"IF(Prospection!$I$6=D317,MAX($E$2:E316)+1,\"\")","v":""}]
[null,1319,"BRIANCONNET","06850",{"$f":"IF(Prospection!$I$6=D318,MAX($E$2:E317)+1,\"\")","v":""}]
[null,1320,"GARS","06850",{"$f":"IF(Prospection!$I$6=D319,MAX($E$2:E318)+1,\"\")","v":""}]
[null,1321,"ST AUBAN","06850",{"$f":"IF(Prospection!$I$6=D320,MAX($E$2:E319)+1,\"\")","v":""}]
[null,1322,"BONSON","06830",{"$f":"IF(Prospection!$I$6=D321,MAX($E$2:E320)+1,\"\")","v":""}]
[null,1323,"GILETTE","06830",{"$f":"IF(Prospection!$I$6=D322,MAX($E$2:E321)+1,\"\")","v":""}]
[null,1324,"REVEST LES ROCHES","06830",{"$f":"IF(Prospection!$I$6=D323,MAX($E$2:E322)+1,\"\")","v":""}]
[null,1325,"TOUDON","06830",{"$f":"IF(Prospection!$I$6=D324,MAX($E$2:E323)+1,\"\")","v":""}]
[null,1326,"TOURETTE DU CHATEAU","06830",{"$f":"IF(Prospection!$I$6=D325,MAX($E$2:E324)+1,\"\")","v":""}]
[null,1327,"AURIBEAU SUR SIAGNE","06810",{"$f":"IF(Prospection!$I$6=D326,MAX($E$2:E325)+1,\"\")","v":""}]
[null,1328,"CAGNES SUR MER","06800",{"$f":"IF(Prospection!$I$6=D327,MAX($E$2:E326)+1,\"\")","v":""}]
[null,1329,"ASPREMONT","06790",{"$f":"IF(Prospection!$I$6=D328,MAX($E$2:E327)+1,\"\")","v":""}]
[null,1330,"ANDON","06750",{"$f":"IF(Prospection!$I$6=D329,MAX($E$2:E328)+1,\"\")","v":""}]
[null,1331,"CAILLE","06750",{"$f":"IF(Prospection!$I$6=D330,MAX($E$2:E329)+1,\"\")","v":""}]
[null,1332,"SERANON","06750",{"$f":"IF(Prospection!$I$6=D331,MAX($E$2:E330)+1,\"\")","v":""}]
[null,1333,"VALDEROURE","06750",{"$f":"IF(Prospection!$I$6=D332,MAX($E$2:E331)+1,\"\")","v":""}]
[null,1334,"CHATEAUNEUF GRASSE","06740",{"$f":"IF(Prospection!$I$6=D333,MAX($E$2:E332)+1,\"\")","v":""}]
[null,1335,"ST ANDRE DE LA ROCHE","06730",{"$f":"IF(Prospection!$I$6=D334,MAX($E$2:E333)+1,\"\")","v":""}]
[null,1336,"MALAUSSENE","06710",{"$f":"IF(Prospection!$I$6=D335,MAX($E$2:E334)+1,\"\")","v":""}]
[null,1337,"MASSOINS","06710",{"$f":"IF(Prospection!$I$6=D336,MAX($E$2:E335)+1,\"\")","v":""}]
[null,1338,"THIERY","06710",{"$f":"IF(Prospection!$I$6=D337,MAX($E$2:E336)+1,\"\")","v":""}]
[null,1339,"TOUET SUR VAR","06710",{"$f":"IF(Prospection!$I$6=D338,MAX($E$2:E337)+1,\"\")","v":""}]
[null,1340,"VILLARS SUR VAR","06710",{"$f":"IF(Prospection!$I$6=D339,MAX($E$2:E338)+1,\"\")","v":""}]
[null,1341,"ST LAURENT DU VAR","06700",{"$f":"IF(Prospection!$I$6=D340,MAX($E$2:E339)+1,\"\")","v":""}]
[null,1342,"TOURRETTE LEVENS","06690",{"$f":"IF(Prospection!$I$6=D341,MAX($E$2:E340)+1,\"\")","v":""}]
[null,1343,"CASTAGNIERS","06670",{"$f":"IF(Prospection!$I$6=D342,MAX($E$2:E341)+1,\"\")","v":""}]
[null,1344,"COLOMARS","06670",{"$f":"IF(Prospection!$I$6=D343,MAX($E$2:E342)+1,\"\")","v":""}]
[null,1345,"DURANUS","06670",{"$f":"IF(Prospection!$I$6=D344,MAX($E$2:E343)+1,\"\")","v":""}]
[null,1346,"LA ROQUETTE SUR VAR","06670",{"$f":"IF(Prospection!$I$6=D345,MAX($E$2:E344)+1,\"\")","v":""}]
[null,1347,"LEVENS","06670",{"$f":"IF(Prospection!$I$6=D346,MAX($E$2:E345)+1,\"\")","v":""}]
[null,1348,"ST BLAISE","06670",{"$f":"IF(Prospection!$I$6=D347,MAX($E$2:E346)+1,\"\")","v":""}]
[null,1349,"ST MARTIN DU VAR","06670",{"$f":"IF(Prospection!$I$6=D348,MAX($E$2:E347)+1,\"\")","v":""}]
[null,1350,"ST DALMAS LE SELVAGE","06660",{"$f":"IF(Prospection!$I$6=D349,MAX($E$2:E348)+1,\"\")","v":""}]
[null,1351,"ST ETIENNE DE TINEE","06660",{"$f":"IF(Prospection!$I$6=D350,MAX($E$2:E349)+1,\"\")","v":""}]
[null,1352,"LE ROURET","06650",{"$f":"IF(Prospection!$I$6=D351,MAX($E$2:E350)+1,\"\")","v":""}]
[null,1353,"OPIO","06650",{"$f":"IF(Prospection!$I$6=D352,MAX($E$2:E351)+1,\"\")","v":""}]
[null,1354,"ST JEANNET","06640",{"$f":"IF(Prospection!$I$6=D353,MAX($E$2:E352)+1,\"\")","v":""}]
[null,1355,"CIPIERES","06620",{"$f":"IF(Prospection!$I$6=D354,MAX($E$2:E353)+1,\"\")","v":""}]
[null,1356,"COURMES","06620",{"$f":"IF(Prospection!$I$6=D355,MAX($E$2:E354)+1,\"\")","v":""}]
[null,1357,"GOURDON","06620",{"$f":"IF(Prospection!$I$6=D356,MAX($E$2:E355)+1,\"\")","v":""}]
[null,1358,"GREOLIERES","06620",{"$f":"IF(Prospection!$I$6=D357,MAX($E$2:E356)+1,\"\")","v":""}]
[null,1359,"LE BAR SUR LOUP","06620",{"$f":"IF(Prospection!$I$6=D358,MAX($E$2:E357)+1,\"\")","v":""}]
[null,1360,"LA GAUDE","06610",{"$f":"IF(Prospection!$I$6=D359,MAX($E$2:E358)+1,\"\")","v":""}]
[null,1361,"ANTIBES","06600",{"$f":"IF(Prospection!$I$6=D360,MAX($E$2:E359)+1,\"\")","v":""}]
[null,1362,"THEOULE SUR MER","06590",{"$f":"IF(Prospection!$I$6=D361,MAX($E$2:E360)+1,\"\")","v":""}]
[null,1363,"PEGOMAS","06580",{"$f":"IF(Prospection!$I$6=D362,MAX($E$2:E361)+1,\"\")","v":""}]
[null,1364,"ST PAUL DE VENCE","06570",{"$f":"IF(Prospection!$I$6=D363,MAX($E$2:E362)+1,\"\")","v":""}]
[null,1365,"VALBONNE","06560",{"$f":"IF(Prospection!$I$6=D364,MAX($E$2:E363)+1,\"\")","v":""}]
[null,1366,"LA ROQUETTE SUR SIAGNE","06550",{"$f":"IF(Prospection!$I$6=D365,MAX($E$2:E364)+1,\"\")","v":""}]
[null,1367,"BREIL SUR ROYA","06540",{"$f":"IF(Prospection!$I$6=D366,MAX($E$2:E365)+1,\"\")","v":""}]
[null,1368,"FONTAN","06540",{"$f":"IF(Prospection!$I$6=D367,MAX($E$2:E366)+1,\"\")","v":""}]
[null,1369,"SAORGE","06540",{"$f":"IF(Prospection!$I$6=D368,MAX($E$2:E367)+1,\"\")","v":""}]
[null,1370,"CABRIS","06530",{"$f":"IF(Prospection!$I$6=D369,MAX($E$2:E368)+1,\"\")","v":""}]
[null,1371,"LE TIGNET","06530",{"$f":"IF(Prospection!$I$6=D370,MAX($E$2:E369)+1,\"\")","v":""}]
[null,1372,"PEYMEINADE","06530",{"$f":"IF(Prospection!$I$6=D371,MAX($E$2:E370)+1,\"\")","v":""}]
[null,1373,"SPERACEDES","06530",{"$f":"IF(Prospection!$I$6=D372,MAX($E$2:E371)+1,\"\")","v":""}]
[null,1374,"ST CEZAIRE SUR SIAGNE","06530",{"$f":"IF(Prospection!$I$6=D373,MAX($E$2:E372)+1,\"\")","v":""}]
[null,1375,"GRASSE","06520",{"$f":"IF(Prospection!$I$6=D374,MAX($E$2:E373)+1,\"\")","v":""}]
[null,1376,"BEZAUDUN LES ALPES","06510",{"$f":"IF(Prospection!$I$6=D375,MAX($E$2:E374)+1,\"\")","v":""}]
[null,1377,"BOUYON","06510",{"$f":"IF(Prospection!$I$6=D376,MAX($E$2:E375)+1,\"\")","v":""}]
[null,1378,"CARROS","06510",{"$f":"IF(Prospection!$I$6=D377,MAX($E$2:E376)+1,\"\")","v":""}]
[null,1379,"CONSEGUDES","06510",{"$f":"IF(Prospection!$I$6=D378,MAX($E$2:E377)+1,\"\")","v":""}]
[null,1380,"GATTIERES","06510",{"$f":"IF(Prospection!$I$6=D379,MAX($E$2:E378)+1,\"\")","v":""}]
[null,1381,"LE BROC","06510",{"$f":"IF(Prospection!$I$6=D380,MAX($E$2:E379)+1,\"\")","v":""}]
[null,1382,"LES FERRES","06510",{"$f":"IF(Prospection!$I$6=D381,MAX($E$2:E380)+1,\"\")","v":""}]
[null,1383,"CASTELLAR","06500",{"$f":"IF(Prospection!$I$6=D382,MAX($E$2:E381)+1,\"\")","v":""}]
[null,1384,"CASTILLON","06500",{"$f":"IF(Prospection!$I$6=D383,MAX($E$2:E382)+1,\"\")","v":""}]
[null,1385,"GORBIO","06500",{"$f":"IF(Prospection!$I$6=D384,MAX($E$2:E383)+1,\"\")","v":""}]
[null,1386,"MENTON","06500",{"$f":"IF(Prospection!$I$6=D385,MAX($E$2:E384)+1,\"\")","v":""}]
[null,1387,"STE AGNES","06500",{"$f":"IF(Prospection!$I$6=D386,MAX($E$2:E385)+1,\"\")","v":""}]
[null,1388,"LA COLLE SUR LOUP","06480",{"$f":"IF(Prospection!$I$6=D387,MAX($E$2:E386)+1,\"\")","v":""}]
[null,1389,"BEUIL","06470",{"$f":"IF(Prospection!$I$6=D388,MAX($E$2:E387)+1,\"\")","v":""}]
[null,1390,"CHATEAUNEUF D ENTRAUNES","06470",{"$f":"IF(Prospection!$I$6=D389,MAX($E$2:E388)+1,\"\")","v":""}]
[null,1391,"DALUIS","06470",{"$f":"IF(Prospection!$I$6=D390,MAX($E$2:E389)+1,\"\")","v":""}]
[null,1392,"ENTRAUNES","06470",{"$f":"IF(Prospection!$I$6=D391,MAX($E$2:E390)+1,\"\")","v":""}]
[null,1393,"GUILLAUMES","06470",{"$f":"IF(Prospection!$I$6=D392,MAX($E$2:E391)+1,\"\")","v":""}]
[null,1394,"PEONE","06470",{"$f":"IF(Prospection!$I$6=D393,MAX($E$2:E392)+1,\"\")","v":""}]
[null,1395,"SAUZE","06470",{"$f":"IF(Prospection!$I$6=D394,MAX($E$2:E393)+1,\"\")","v":""}]
[null,1396,"ST MARTIN D ENTRAUNES","06470",{"$f":"IF(Prospection!$I$6=D395,MAX($E$2:E394)+1,\"\")","v":""}]
[null,1397,"VILLENEUVE D ENTRAUNES","06470",{"$f":"IF(Prospection!$I$6=D396,MAX($E$2:E395)+1,\"\")","v":""}]
[null,1398,"CAUSSOLS","06460",{"$f":"IF(Prospection!$I$6=D397,MAX($E$2:E396)+1,\"\")","v":""}]
[null,1399,"ESCRAGNOLLES","06460",{"$f":"IF(Prospection!$I$6=D398,MAX($E$2:E397)+1,\"\")","v":""}]
[null,1400,"ST VALLIER DE THIEY","06460",{"$f":"IF(Prospection!$I$6=D399,MAX($E$2:E398)+1,\"\")","v":""}]
[null,1401,"BELVEDERE","06450",{"$f":"IF(Prospection!$I$6=D400,MAX($E$2:E399)+1,\"\")","v":""}]
[null,1402,"LA BOLLENE VESUBIE","06450",{"$f":"IF(Prospection!$I$6=D401,MAX($E$2:E400)+1,\"\")","v":""}]
[null,1403,"LANTOSQUE","06450",{"$f":"IF(Prospection!$I$6=D402,MAX($E$2:E401)+1,\"\")","v":""}]
[null,1404,"ROQUEBILLIERE","06450",{"$f":"IF(Prospection!$I$6=D403,MAX($E$2:E402)+1,\"\")","v":""}]
[null,1405,"ST MARTIN VESUBIE","06450",{"$f":"IF(Prospection!$I$6=D404,MAX($E$2:E403)+1,\"\")","v":""}]
[null,1406,"UTELLE","06450",{"$f":"IF(Prospection!$I$6=D405,MAX($E$2:E404)+1,\"\")","v":""}]
[null,1407,"VENANSON","06450",{"$f":"IF(Prospection!$I$6=D406,MAX($E$2:E405)+1,\"\")","v":""}]
[null,1408,"BLAUSASC","06440",{"$f":"IF(Prospection!$I$6=D407,MAX($E$2:E406)+1,\"\")","v":""}]
[null,1409,"L ESCARENE","06440",{"$f":"IF(Prospection!$I$6=D408,MAX($E$2:E407)+1,\"\")","v":""}]
[null,1410,"LUCERAM","06440",{"$f":"IF(Prospection!$I$6=D409,MAX($E$2:E408)+1,\"\")","v":""}]
[null,1411,"PEILLE","06440",{"$f":"IF(Prospection!$I$6=D410,MAX($E$2:E409)+1,\"\")","v":""}]
[null,1412,"PEILLON","06440",{"$f":"IF(Prospection!$I$6=D411,MAX($E$2:E410)+1,\"\")","v":""}]
[null,1413,"TOUET DE L ESCARENE","06440",{"$f":"IF(Prospection!$I$6=D412,MAX($E$2:E411)+1,\"\")","v":""}]
[null,1414,"LA BRIGUE","06430",{"$f":"IF(Prospection!$I$6=D413,MAX($E$2:E412)+1,\"\")","v":""}]
[null,1415,"TENDE","06430",{"$f":"IF(Prospection!$I$6=D414,MAX($E$2:E413)+1,\"\")","v":""}]
[null,1416,"BAIROLS","06420",{"$f":"IF(Prospection!$I$6=D415,MAX($E$2:E414)+1,\"\")","v":""}]
[null,1417,"CLANS","06420",{"$f":"IF(Prospection!$I$6=D416,MAX($E$2:E415)+1,\"\")","v":""}]
[null,1418,"ILONSE","06420",{"$f":"IF(Prospection!$I$6=D417,MAX($E$2:E416)+1,\"\")","v":""}]
[null,1419,"ISOLA","06420",{"$f":"IF(Prospection!$I$6=D418,MAX($E$2:E417)+1,\"\")","v":""}]
[null,1420,"LA TOUR","06420",{"$f":"IF(Prospection!$I$6=D419,MAX($E$2:E418)+1,\"\")","v":""}]
[null,1421,"MARIE","06420",{"$f":"IF(Prospection!$I$6=D420,MAX($E$2:E419)+1,\"\")","v":""}]
[null,1422,"RIMPLAS","06420",{"$f":"IF(Prospection!$I$6=D421,MAX($E$2:E420)+1,\"\")","v":""}]
[null,1423,"ROUBION","06420",{"$f":"IF(Prospection!$I$6=D422,MAX($E$2:E421)+1,\"\")","v":""}]
[null,1424,"ROURE","06420",{"$f":"IF(Prospection!$I$6=D423,MAX($E$2:E422)+1,\"\")","v":""}]
[null,1425,"ST SAUVEUR SUR TINEE","06420",{"$f":"IF(Prospection!$I$6=D424,MAX($E$2:E423)+1,\"\")","v":""}]
[null,1426,"TOURNEFORT","06420",{"$f":"IF(Prospection!$I$6=D425,MAX($E$2:E424)+1,\"\")","v":""}]
[null,1427,"VALDEBLORE","06420",{"$f":"IF(Prospection!$I$6=D426,MAX($E$2:E425)+1,\"\")","v":""}]
[null,1428,"BIOT","06410",{"$f":"IF(Prospection!$I$6=D427,MAX($E$2:E426)+1,\"\")","v":""}]
[null,1429,"CANNES","06400",{"$f":"IF(Prospection!$I$6=D428,MAX($E$2:E427)+1,\"\")","v":""}]
[null,1430,"BENDEJUN","06390",{"$f":"IF(Prospection!$I$6=D429,MAX($E$2:E428)+1,\"\")","v":""}]
[null,1431,"BERRE LES ALPES","06390",{"$f":"IF(Prospection!$I$6=D430,MAX($E$2:E429)+1,\"\")","v":""}]
[null,1432,"CHATEAUNEUF VILLEVIEILLE","06390",{"$f":"IF(Prospection!$I$6=D431,MAX($E$2:E430)+1,\"\")","v":""}]
[null,1433,"COARAZE","06390",{"$f":"IF(Prospection!$I$6=D432,MAX($E$2:E431)+1,\"\")","v":""}]
[null,1434,"CONTES","06390",{"$f":"IF(Prospection!$I$6=D433,MAX($E$2:E432)+1,\"\")","v":""}]
[null,1435,"MOULINET","06380",{"$f":"IF(Prospection!$I$6=D434,MAX($E$2:E433)+1,\"\")","v":""}]
[null,1436,"SOSPEL","06380",{"$f":"IF(Prospection!$I$6=D435,MAX($E$2:E434)+1,\"\")","v":""}]
[null,1437,"MOUANS SARTOUX","06370",{"$f":"IF(Prospection!$I$6=D436,MAX($E$2:E435)+1,\"\")","v":""}]
[null,1438,"EZE","06360",{"$f":"IF(Prospection!$I$6=D437,MAX($E$2:E436)+1,\"\")","v":""}]
[null,1439,"CANTARON","06340",{"$f":"IF(Prospection!$I$6=D438,MAX($E$2:E437)+1,\"\")","v":""}]
[null,1440,"DRAP","06340",{"$f":"IF(Prospection!$I$6=D439,MAX($E$2:E438)+1,\"\")","v":""}]
[null,1441,"LA TRINITE","06340",{"$f":"IF(Prospection!$I$6=D440,MAX($E$2:E439)+1,\"\")","v":""}]
[null,1442,"ROQUEFORT LES PINS","06330",{"$f":"IF(Prospection!$I$6=D441,MAX($E$2:E440)+1,\"\")","v":""}]
[null,1443,"CAP D AIL","06320",{"$f":"IF(Prospection!$I$6=D442,MAX($E$2:E441)+1,\"\")","v":""}]
[null,1444,"LA TURBIE","06320",{"$f":"IF(Prospection!$I$6=D443,MAX($E$2:E442)+1,\"\")","v":""}]
[null,1445,"BEAULIEU SUR MER","06310",{"$f":"IF(Prospection!$I$6=D444,MAX($E$2:E443)+1,\"\")","v":""}]
[null,1446,"NICE","06300",{"$f":"IF(Prospection!$I$6=D445,MAX($E$2:E444)+1,\"\")","v":""}]
[null,1447,"VILLENEUVE LOUBET","06270",{"$f":"IF(Prospection!$I$6=D446,MAX($E$2:E445)+1,\"\")","v":""}]
[null,1448,"ASCROS","06260",{"$f":"IF(Prospection!$I$6=D447,MAX($E$2:E446)+1,\"\")","v":""}]
[null,1449,"AUVARE","06260",{"$f":"IF(Prospection!$I$6=D448,MAX($E$2:E447)+1,\"\")","v":""}]
[null,1450,"LA CROIX SUR ROUDOULE","06260",{"$f":"IF(Prospection!$I$6=D449,MAX($E$2:E448)+1,\"\")","v":""}]
[null,1451,"LA PENNE","06260",{"$f":"IF(Prospection!$I$6=D450,MAX($E$2:E449)+1,\"\")","v":""}]
[null,1452,"LA ROCHETTE","06260",{"$f":"IF(Prospection!$I$6=D451,MAX($E$2:E450)+1,\"\")","v":""}]
[null,1453,"LIEUCHE","06260",{"$f":"IF(Prospection!$I$6=D452,MAX($E$2:E451)+1,\"\")","v":""}]
[null,1454,"PIERLAS","06260",{"$f":"IF(Prospection!$I$6=D453,MAX($E$2:E452)+1,\"\")","v":""}]
[null,1455,"PUGET ROSTANG","06260",{"$f":"IF(Prospection!$I$6=D454,MAX($E$2:E453)+1,\"\")","v":""}]
[null,1456,"PUGET THENIERS","06260",{"$f":"IF(Prospection!$I$6=D455,MAX($E$2:E454)+1,\"\")","v":""}]
[null,1457,"RIGAUD","06260",{"$f":"IF(Prospection!$I$6=D456,MAX($E$2:E455)+1,\"\")","v":""}]
[null,1458,"ST ANTONIN","06260",{"$f":"IF(Prospection!$I$6=D457,MAX($E$2:E456)+1,\"\")","v":""}]
[null,1459,"ST LEGER","06260",{"$f":"IF(Prospection!$I$6=D458,MAX($E$2:E457)+1,\"\")","v":""}]
[null,1460,"ST PIERRE","06260",{"$f":"IF(Prospection!$I$6=D459,MAX($E$2:E458)+1,\"\")","v":""}]
[null,1461,"MOUGINS","06250",{"$f":"IF(Prospection!$I$6=D460,MAX($E$2:E459)+1,\"\")","v":""}]
[null,1462,"BEAUSOLEIL","06240",{"$f":"IF(Prospection!$I$6=D461,MAX($E$2:E460)+1,\"\")","v":""}]
[null,1463,"ST JEAN CAP FERRAT","06230",{"$f":"IF(Prospection!$I$6=D462,MAX($E$2:E461)+1,\"\")","v":""}]
[null,1464,"VILLEFRANCHE SUR MER","06230",{"$f":"IF(Prospection!$I$6=D463,MAX($E$2:E462)+1,\"\")","v":""}]
[null,1465,"VALLAURIS","06220",{"$f":"IF(Prospection!$I$6=D464,MAX($E$2:E463)+1,\"\")","v":""}]
[null,1466,"MANDELIEU LA NAPOULE","06210",{"$f":"IF(Prospection!$I$6=D465,MAX($E$2:E464)+1,\"\")","v":""}]
[null,1467,"NICE","06200",{"$f":"IF(Prospection!$I$6=D466,MAX($E$2:E465)+1,\"\")","v":""}]
[null,1468,"ROQUEBRUNE CAP MARTIN","06190",{"$f":"IF(Prospection!$I$6=D467,MAX($E$2:E466)+1,\"\")","v":""}]
[null,1469,"ANTIBES","06160",{"$f":"IF(Prospection!$I$6=D468,MAX($E$2:E467)+1,\"\")","v":""}]
[null,1470,"CANNES","06150",{"$f":"IF(Prospection!$I$6=D469,MAX($E$2:E468)+1,\"\")","v":""}]
[null,1471,"COURSEGOULES","06140",{"$f":"IF(Prospection!$I$6=D470,MAX($E$2:E469)+1,\"\")","v":""}]
[null,1472,"TOURRETTES SUR LOUP","06140",{"$f":"IF(Prospection!$I$6=D471,MAX($E$2:E470)+1,\"\")","v":""}]
[null,1473,"VENCE","06140",{"$f":"IF(Prospection!$I$6=D472,MAX($E$2:E471)+1,\"\")","v":""}]
[null,1474,"GRASSE","06130",{"$f":"IF(Prospection!$I$6=D473,MAX($E$2:E472)+1,\"\")","v":""}]
[null,1475,"LE CANNET","06110",{"$f":"IF(Prospection!$I$6=D474,MAX($E$2:E473)+1,\"\")","v":""}]
[null,1476,"NICE","06100",{"$f":"IF(Prospection!$I$6=D475,MAX($E$2:E474)+1,\"\")","v":""}]
[null,1477,"NICE","06000",{"$f":"IF(Prospection!$I$6=D476,MAX($E$2:E475)+1,\"\")","v":""}]
[null,1478,"ASPRES LES CORPS","05800",{"$f":"IF(Prospection!$I$6=D477,MAX($E$2:E476)+1,\"\")","v":""}]
[null,1479,"CHAUFFAYER","05800",{"$f":"IF(Prospection!$I$6=D478,MAX($E$2:E477)+1,\"\")","v":""}]
[null,1480,"LA CHAPELLE EN VALGAUDEMAR","05800",{"$f":"IF(Prospection!$I$6=D479,MAX($E$2:E478)+1,\"\")","v":""}]
[null,1481,"LE GLAIZIL","05800",{"$f":"IF(Prospection!$I$6=D480,MAX($E$2:E479)+1,\"\")","v":""}]
[null,1482,"ST FIRMIN","05800",{"$f":"IF(Prospection!$I$6=D481,MAX($E$2:E480)+1,\"\")","v":""}]
[null,1483,"ST JACQUES EN VALGODEMARD","05800",{"$f":"IF(Prospection!$I$6=D482,MAX($E$2:E481)+1,\"\")","v":""}]
[null,1484,"ST MAURICE EN VALGODEMARD","05800",{"$f":"IF(Prospection!$I$6=D483,MAX($E$2:E482)+1,\"\")","v":""}]
[null,1485,"VILLAR LOUBIERE","05800",{"$f":"IF(Prospection!$I$6=D484,MAX($E$2:E483)+1,\"\")","v":""}]
[null,1486,"CHANOUSSE","05700",{"$f":"IF(Prospection!$I$6=D485,MAX($E$2:E484)+1,\"\")","v":""}]
[null,1487,"ETOILE ST CYRICE","05700",{"$f":"IF(Prospection!$I$6=D486,MAX($E$2:E485)+1,\"\")","v":""}]
[null,1488,"L EPINE","05700",{"$f":"IF(Prospection!$I$6=D487,MAX($E$2:E486)+1,\"\")","v":""}]
[null,1489,"LA BATIE MONTSALEON","05700",{"$f":"IF(Prospection!$I$6=D488,MAX($E$2:E487)+1,\"\")","v":""}]
[null,1490,"LA PIARRE","05700",{"$f":"IF(Prospection!$I$6=D489,MAX($E$2:E488)+1,\"\")","v":""}]
[null,1491,"LE BERSAC","05700",{"$f":"IF(Prospection!$I$6=D490,MAX($E$2:E489)+1,\"\")","v":""}]
[null,1492,"MEREUIL","05700",{"$f":"IF(Prospection!$I$6=D491,MAX($E$2:E490)+1,\"\")","v":""}]
[null,1493,"MONTCLUS","05700",{"$f":"IF(Prospection!$I$6=D492,MAX($E$2:E491)+1,\"\")","v":""}]
[null,1494,"MONTROND","05700",{"$f":"IF(Prospection!$I$6=D493,MAX($E$2:E492)+1,\"\")","v":""}]
[null,1495,"NOSSAGE ET BENEVENT","05700",{"$f":"IF(Prospection!$I$6=D494,MAX($E$2:E493)+1,\"\")","v":""}]
[null,1496,"ORPIERRE","05700",{"$f":"IF(Prospection!$I$6=D495,MAX($E$2:E494)+1,\"\")","v":""}]
[null,1497,"SAVOURNON","05700",{"$f":"IF(Prospection!$I$6=D496,MAX($E$2:E495)+1,\"\")","v":""}]
[null,1498,"SERRES","05700",{"$f":"IF(Prospection!$I$6=D497,MAX($E$2:E496)+1,\"\")","v":""}]
[null,1499,"SIGOTTIER","05700",{"$f":"IF(Prospection!$I$6=D498,MAX($E$2:E497)+1,\"\")","v":""}]
[null,1500,"STE COLOMBE","05700",{"$f":"IF(Prospection!$I$6=D499,MAX($E$2:E498)+1,\"\")","v":""}]
[null,1501,"TRESCLEOUX","05700",{"$f":"IF(Prospection!$I$6=D500,MAX($E$2:E499)+1,\"\")","v":""}]
[null,1502,"VILLEBOIS LES PINS","05700",{"$f":"IF(Prospection!$I$6=D501,MAX($E$2:E500)+1,\"\")","v":""}]
[null,1503,"ABRIES","05600",{"$f":"IF(Prospection!$I$6=D502,MAX($E$2:E501)+1,\"\")","v":""}]
[null,1504,"CEILLAC","05600",{"$f":"IF(Prospection!$I$6=D503,MAX($E$2:E502)+1,\"\")","v":""}]
[null,1505,"EYGLIERS","05600",{"$f":"IF(Prospection!$I$6=D504,MAX($E$2:E503)+1,\"\")","v":""}]
[null,1506,"GUILLESTRE","05600",{"$f":"IF(Prospection!$I$6=D505,MAX($E$2:E504)+1,\"\")","v":""}]
[null,1507,"MONT DAUPHIN","05600",{"$f":"IF(Prospection!$I$6=D506,MAX($E$2:E505)+1,\"\")","v":""}]
[null,1508,"REOTIER","05600",{"$f":"IF(Prospection!$I$6=D507,MAX($E$2:E506)+1,\"\")","v":""}]
[null,1509,"RISOUL","05600",{"$f":"IF(Prospection!$I$6=D508,MAX($E$2:E507)+1,\"\")","v":""}]
[null,1510,"ST CLEMENT SUR DURANCE","05600",{"$f":"IF(Prospection!$I$6=D509,MAX($E$2:E508)+1,\"\")","v":""}]
[null,1511,"ST CREPIN","05600",{"$f":"IF(Prospection!$I$6=D510,MAX($E$2:E509)+1,\"\")","v":""}]
[null,1512,"VARS","05560",{"$f":"IF(Prospection!$I$6=D511,MAX($E$2:E510)+1,\"\")","v":""}]
[null,1513,"BUISSARD","05500",{"$f":"IF(Prospection!$I$6=D512,MAX($E$2:E511)+1,\"\")","v":""}]
[null,1514,"LA FARE EN CHAMPSAUR","05500",{"$f":"IF(Prospection!$I$6=D513,MAX($E$2:E512)+1,\"\")","v":""}]
[null,1515,"LA MOTTE EN CHAMPSAUR","05500",{"$f":"IF(Prospection!$I$6=D514,MAX($E$2:E513)+1,\"\")","v":""}]
[null,1516,"LAYE","05500",{"$f":"IF(Prospection!$I$6=D515,MAX($E$2:E514)+1,\"\")","v":""}]
[null,1517,"LE NOYER","05500",{"$f":"IF(Prospection!$I$6=D516,MAX($E$2:E515)+1,\"\")","v":""}]
[null,1518,"LES COSTES","05500",{"$f":"IF(Prospection!$I$6=D517,MAX($E$2:E516)+1,\"\")","v":""}]
[null,1519,"POLIGNY","05500",{"$f":"IF(Prospection!$I$6=D518,MAX($E$2:E517)+1,\"\")","v":""}]
[null,1520,"ST BONNET EN CHAMPSAUR","05500",{"$f":"IF(Prospection!$I$6=D519,MAX($E$2:E518)+1,\"\")","v":""}]
[null,1521,"ST EUSEBE EN CHAMPSAUR","05500",{"$f":"IF(Prospection!$I$6=D520,MAX($E$2:E519)+1,\"\")","v":""}]
[null,1522,"ST JULIEN EN CHAMPSAUR","05500",{"$f":"IF(Prospection!$I$6=D521,MAX($E$2:E520)+1,\"\")","v":""}]
[null,1523,"ST LAURENT DU CROS","05500",{"$f":"IF(Prospection!$I$6=D522,MAX($E$2:E521)+1,\"\")","v":""}]
[null,1524,"VILLAR D ARENE","05480",{"$f":"IF(Prospection!$I$6=D523,MAX($E$2:E522)+1,\"\")","v":""}]
[null,1525,"AIGUILLES","05470",{"$f":"IF(Prospection!$I$6=D524,MAX($E$2:E523)+1,\"\")","v":""}]
[null,1526,"RISTOLAS","05460",{"$f":"IF(Prospection!$I$6=D525,MAX($E$2:E524)+1,\"\")","v":""}]
[null,1527,"CHABESTAN","05400",{"$f":"IF(Prospection!$I$6=D526,MAX($E$2:E525)+1,\"\")","v":""}]
[null,1528,"CHATEAUNEUF D OZE","05400",{"$f":"IF(Prospection!$I$6=D527,MAX($E$2:E526)+1,\"\")","v":""}]
[null,1529,"FURMEYER","05400",{"$f":"IF(Prospection!$I$6=D528,MAX($E$2:E527)+1,\"\")","v":""}]
[null,1530,"LA ROCHE DES ARNAUDS","05400",{"$f":"IF(Prospection!$I$6=D529,MAX($E$2:E528)+1,\"\")","v":""}]
[null,1531,"LE SAIX","05400",{"$f":"IF(Prospection!$I$6=D530,MAX($E$2:E529)+1,\"\")","v":""}]
[null,1532,"MANTEYER","05400",{"$f":"IF(Prospection!$I$6=D531,MAX($E$2:E530)+1,\"\")","v":""}]
[null,1533,"MONTMAUR","05400",{"$f":"IF(Prospection!$I$6=D532,MAX($E$2:E531)+1,\"\")","v":""}]
[null,1534,"OZE","05400",{"$f":"IF(Prospection!$I$6=D533,MAX($E$2:E532)+1,\"\")","v":""}]
[null,1535,"RABOU","05400",{"$f":"IF(Prospection!$I$6=D534,MAX($E$2:E533)+1,\"\")","v":""}]
[null,1536,"ST AUBAN D OZE","05400",{"$f":"IF(Prospection!$I$6=D535,MAX($E$2:E534)+1,\"\")","v":""}]
[null,1537,"VEYNES","05400",{"$f":"IF(Prospection!$I$6=D536,MAX($E$2:E535)+1,\"\")","v":""}]
[null,1538,"CHATEAUROUX LES ALPES","05380",{"$f":"IF(Prospection!$I$6=D537,MAX($E$2:E536)+1,\"\")","v":""}]
[null,1539,"ARVIEUX","05350",{"$f":"IF(Prospection!$I$6=D538,MAX($E$2:E537)+1,\"\")","v":""}]
[null,1540,"CHATEAU VILLE VIEILLE","05350",{"$f":"IF(Prospection!$I$6=D539,MAX($E$2:E538)+1,\"\")","v":""}]
[null,1541,"MOLINES EN QUEYRAS","05350",{"$f":"IF(Prospection!$I$6=D540,MAX($E$2:E539)+1,\"\")","v":""}]
[null,1542,"ST VERAN","05350",{"$f":"IF(Prospection!$I$6=D541,MAX($E$2:E540)+1,\"\")","v":""}]
[null,1543,"PELVOUX","05340",{"$f":"IF(Prospection!$I$6=D542,MAX($E$2:E541)+1,\"\")","v":""}]
[null,1544,"ST CHAFFREY","05330",{"$f":"IF(Prospection!$I$6=D543,MAX($E$2:E542)+1,\"\")","v":""}]
[null,1545,"LA GRAVE","05320",{"$f":"IF(Prospection!$I$6=D544,MAX($E$2:E543)+1,\"\")","v":""}]
[null,1546,"CHAMPCELLA","05310",{"$f":"IF(Prospection!$I$6=D545,MAX($E$2:E544)+1,\"\")","v":""}]
[null,1547,"FREISSINIERES","05310",{"$f":"IF(Prospection!$I$6=D546,MAX($E$2:E545)+1,\"\")","v":""}]
[null,1548,"LA ROCHE DE RAME","05310",{"$f":"IF(Prospection!$I$6=D547,MAX($E$2:E546)+1,\"\")","v":""}]
[null,1549,"BARRET SUR MEOUGE","05300",{"$f":"IF(Prospection!$I$6=D548,MAX($E$2:E547)+1,\"\")","v":""}]
[null,1550,"EOURRES","05300",{"$f":"IF(Prospection!$I$6=D549,MAX($E$2:E548)+1,\"\")","v":""}]
[null,1551,"GARDE COLOMBE","05300",{"$f":"IF(Prospection!$I$6=D550,MAX($E$2:E549)+1,\"\")","v":""}]
[null,1552,"LARAGNE MONTEGLIN","05300",{"$f":"IF(Prospection!$I$6=D551,MAX($E$2:E550)+1,\"\")","v":""}]
[null,1553,"LAZER","05300",{"$f":"IF(Prospection!$I$6=D552,MAX($E$2:E551)+1,\"\")","v":""}]
[null,1554,"LE POET","05300",{"$f":"IF(Prospection!$I$6=D553,MAX($E$2:E552)+1,\"\")","v":""}]
[null,1555,"SALEON","05300",{"$f":"IF(Prospection!$I$6=D554,MAX($E$2:E553)+1,\"\")","v":""}]
[null,1556,"SALERANS","05300",{"$f":"IF(Prospection!$I$6=D555,MAX($E$2:E554)+1,\"\")","v":""}]
[null,1557,"ST PIERRE AVEZ","05300",{"$f":"IF(Prospection!$I$6=D556,MAX($E$2:E555)+1,\"\")","v":""}]
[null,1558,"UPAIX","05300",{"$f":"IF(Prospection!$I$6=D557,MAX($E$2:E556)+1,\"\")","v":""}]
[null,1559,"VAL BUECH MEOUGE","05300",{"$f":"IF(Prospection!$I$6=D558,MAX($E$2:E557)+1,\"\")","v":""}]
[null,1560,"VENTAVON","05300",{"$f":"IF(Prospection!$I$6=D559,MAX($E$2:E558)+1,\"\")","v":""}]
[null,1561,"PUY ST VINCENT","05290",{"$f":"IF(Prospection!$I$6=D560,MAX($E$2:E559)+1,\"\")","v":""}]
[null,1562,"VALLOUISE","05290",{"$f":"IF(Prospection!$I$6=D561,MAX($E$2:E560)+1,\"\")","v":""}]
[null,1563,"ANCELLE","05260",{"$f":"IF(Prospection!$I$6=D562,MAX($E$2:E561)+1,\"\")","v":""}]
[null,1564,"CHABOTTES","05260",{"$f":"IF(Prospection!$I$6=D563,MAX($E$2:E562)+1,\"\")","v":""}]
[null,1565,"CHAMPOLEON","05260",{"$f":"IF(Prospection!$I$6=D564,MAX($E$2:E563)+1,\"\")","v":""}]
[null,1566,"FOREST ST JULIEN","05260",{"$f":"IF(Prospection!$I$6=D565,MAX($E$2:E564)+1,\"\")","v":""}]
[null,1567,"ST JEAN ST NICOLAS","05260",{"$f":"IF(Prospection!$I$6=D566,MAX($E$2:E565)+1,\"\")","v":""}]
[null,1568,"ST LEGER LES MELEZES","05260",{"$f":"IF(Prospection!$I$6=D567,MAX($E$2:E566)+1,\"\")","v":""}]
[null,1569,"ST MICHEL DE CHAILLOL","05260",{"$f":"IF(Prospection!$I$6=D568,MAX($E$2:E567)+1,\"\")","v":""}]
[null,1570,"LE DEVOLUY","05250",{"$f":"IF(Prospection!$I$6=D569,MAX($E$2:E568)+1,\"\")","v":""}]
[null,1571,"LA SALLE LES ALPES","05240",{"$f":"IF(Prospection!$I$6=D570,MAX($E$2:E569)+1,\"\")","v":""}]
[null,1572,"AVANCON","05230",{"$f":"IF(Prospection!$I$6=D571,MAX($E$2:E570)+1,\"\")","v":""}]
[null,1573,"CHORGES","05230",{"$f":"IF(Prospection!$I$6=D572,MAX($E$2:E571)+1,\"\")","v":""}]
[null,1574,"LA BATIE NEUVE","05230",{"$f":"IF(Prospection!$I$6=D573,MAX($E$2:E572)+1,\"\")","v":""}]
[null,1575,"MONTGARDIN","05230",{"$f":"IF(Prospection!$I$6=D574,MAX($E$2:E573)+1,\"\")","v":""}]
[null,1576,"PRUNIERES","05230",{"$f":"IF(Prospection!$I$6=D575,MAX($E$2:E574)+1,\"\")","v":""}]
[null,1577,"LE MONETIER LES BAINS","05220",{"$f":"IF(Prospection!$I$6=D576,MAX($E$2:E575)+1,\"\")","v":""}]
[null,1578,"BARATIER","05200",{"$f":"IF(Prospection!$I$6=D577,MAX($E$2:E576)+1,\"\")","v":""}]
[null,1579,"CREVOUX","05200",{"$f":"IF(Prospection!$I$6=D578,MAX($E$2:E577)+1,\"\")","v":""}]
[null,1580,"CROTS","05200",{"$f":"IF(Prospection!$I$6=D579,MAX($E$2:E578)+1,\"\")","v":""}]
[null,1581,"EMBRUN","05200",{"$f":"IF(Prospection!$I$6=D580,MAX($E$2:E579)+1,\"\")","v":""}]
[null,1582,"LES ORRES","05200",{"$f":"IF(Prospection!$I$6=D581,MAX($E$2:E580)+1,\"\")","v":""}]
[null,1583,"PUY SANIERES","05200",{"$f":"IF(Prospection!$I$6=D582,MAX($E$2:E581)+1,\"\")","v":""}]
[null,1584,"PUY ST EUSEBE","05200",{"$f":"IF(Prospection!$I$6=D583,MAX($E$2:E582)+1,\"\")","v":""}]
[null,1585,"ST ANDRE D EMBRUN","05200",{"$f":"IF(Prospection!$I$6=D584,MAX($E$2:E583)+1,\"\")","v":""}]
[null,1586,"ST SAUVEUR","05200",{"$f":"IF(Prospection!$I$6=D585,MAX($E$2:E584)+1,\"\")","v":""}]
[null,1587,"BREZIERS","05190",{"$f":"IF(Prospection!$I$6=D586,MAX($E$2:E585)+1,\"\")","v":""}]
[null,1588,"ESPINASSES","05190",{"$f":"IF(Prospection!$I$6=D587,MAX($E$2:E586)+1,\"\")","v":""}]
[null,1589,"REMOLLON","05190",{"$f":"IF(Prospection!$I$6=D588,MAX($E$2:E587)+1,\"\")","v":""}]
[null,1590,"ROCHEBRUNE","05190",{"$f":"IF(Prospection!$I$6=D589,MAX($E$2:E588)+1,\"\")","v":""}]
[null,1591,"ROUSSET","05190",{"$f":"IF(Prospection!$I$6=D590,MAX($E$2:E589)+1,\"\")","v":""}]
[null,1592,"THEUS","05190",{"$f":"IF(Prospection!$I$6=D591,MAX($E$2:E590)+1,\"\")","v":""}]
[null,1593,"ORCIERES","05170",{"$f":"IF(Prospection!$I$6=D592,MAX($E$2:E591)+1,\"\")","v":""}]
[null,1594,"LE SAUZE DU LAC","05160",{"$f":"IF(Prospection!$I$6=D593,MAX($E$2:E592)+1,\"\")","v":""}]
[null,1595,"PONTIS","05160",{"$f":"IF(Prospection!$I$6=D594,MAX($E$2:E593)+1,\"\")","v":""}]
[null,1596,"REALLON","05160",{"$f":"IF(Prospection!$I$6=D595,MAX($E$2:E594)+1,\"\")","v":""}]
[null,1597,"SAVINES LE LAC","05160",{"$f":"IF(Prospection!$I$6=D596,MAX($E$2:E595)+1,\"\")","v":""}]
[null,1598,"ST APOLLINAIRE","05160",{"$f":"IF(Prospection!$I$6=D597,MAX($E$2:E596)+1,\"\")","v":""}]
[null,1599,"BRUIS","05150",{"$f":"IF(Prospection!$I$6=D598,MAX($E$2:E597)+1,\"\")","v":""}]
[null,1600,"MONTJAY","05150",{"$f":"IF(Prospection!$I$6=D599,MAX($E$2:E598)+1,\"\")","v":""}]
[null,1601,"MONTMORIN","05150",{"$f":"IF(Prospection!$I$6=D600,MAX($E$2:E599)+1,\"\")","v":""}]
[null,1602,"MOYDANS","05150",{"$f":"IF(Prospection!$I$6=D601,MAX($E$2:E600)+1,\"\")","v":""}]
[null,1603,"RIBEYRET","05150",{"$f":"IF(Prospection!$I$6=D602,MAX($E$2:E601)+1,\"\")","v":""}]
[null,1604,"ROSANS","05150",{"$f":"IF(Prospection!$I$6=D603,MAX($E$2:E602)+1,\"\")","v":""}]
[null,1605,"SORBIERS","05150",{"$f":"IF(Prospection!$I$6=D604,MAX($E$2:E603)+1,\"\")","v":""}]
[null,1606,"ST ANDRE DE ROSANS","05150",{"$f":"IF(Prospection!$I$6=D605,MAX($E$2:E604)+1,\"\")","v":""}]
[null,1607,"STE MARIE","05150",{"$f":"IF(Prospection!$I$6=D606,MAX($E$2:E605)+1,\"\")","v":""}]
[null,1608,"ASPREMONT","05140",{"$f":"IF(Prospection!$I$6=D607,MAX($E$2:E606)+1,\"\")","v":""}]
[null,1609,"ASPRES SUR BUECH","05140",{"$f":"IF(Prospection!$I$6=D608,MAX($E$2:E607)+1,\"\")","v":""}]
[null,1610,"LA BEAUME","05140",{"$f":"IF(Prospection!$I$6=D609,MAX($E$2:E608)+1,\"\")","v":""}]
[null,1611,"LA FAURIE","05140",{"$f":"IF(Prospection!$I$6=D610,MAX($E$2:E609)+1,\"\")","v":""}]
[null,1612,"LA HAUTE BEAUME","05140",{"$f":"IF(Prospection!$I$6=D611,MAX($E$2:E610)+1,\"\")","v":""}]
[null,1613,"MONTBRAND","05140",{"$f":"IF(Prospection!$I$6=D612,MAX($E$2:E611)+1,\"\")","v":""}]
[null,1614,"ST JULIEN EN BEAUCHENE","05140",{"$f":"IF(Prospection!$I$6=D613,MAX($E$2:E612)+1,\"\")","v":""}]
[null,1615,"ST PIERRE D ARGENCON","05140",{"$f":"IF(Prospection!$I$6=D614,MAX($E$2:E613)+1,\"\")","v":""}]
[null,1616,"FOUILLOUSE","05130",{"$f":"IF(Prospection!$I$6=D615,MAX($E$2:E614)+1,\"\")","v":""}]
[null,1617,"JARJAYES","05130",{"$f":"IF(Prospection!$I$6=D616,MAX($E$2:E615)+1,\"\")","v":""}]
[null,1618,"LETTRET","05130",{"$f":"IF(Prospection!$I$6=D617,MAX($E$2:E616)+1,\"\")","v":""}]
[null,1619,"PIEGUT","05130",{"$f":"IF(Prospection!$I$6=D618,MAX($E$2:E617)+1,\"\")","v":""}]
[null,1620,"SIGOYER","05130",{"$f":"IF(Prospection!$I$6=D619,MAX($E$2:E618)+1,\"\")","v":""}]
[null,1621,"ST ETIENNE LE LAUS","05130",{"$f":"IF(Prospection!$I$6=D620,MAX($E$2:E619)+1,\"\")","v":""}]
[null,1622,"TALLARD","05130",{"$f":"IF(Prospection!$I$6=D621,MAX($E$2:E620)+1,\"\")","v":""}]
[null,1623,"VALSERRES","05130",{"$f":"IF(Prospection!$I$6=D622,MAX($E$2:E621)+1,\"\")","v":""}]
[null,1624,"VENTEROL","05130",{"$f":"IF(Prospection!$I$6=D623,MAX($E$2:E622)+1,\"\")","v":""}]
[null,1625,"L ARGENTIERE LA BESSEE","05120",{"$f":"IF(Prospection!$I$6=D624,MAX($E$2:E623)+1,\"\")","v":""}]
[null,1626,"LES VIGNEAUX","05120",{"$f":"IF(Prospection!$I$6=D625,MAX($E$2:E624)+1,\"\")","v":""}]
[null,1627,"ST MARTIN DE QUEYRIERES","05120",{"$f":"IF(Prospection!$I$6=D626,MAX($E$2:E625)+1,\"\")","v":""}]
[null,1628,"BARCILLONNETTE","05110",{"$f":"IF(Prospection!$I$6=D627,MAX($E$2:E626)+1,\"\")","v":""}]
[null,1629,"CLARET","05110",{"$f":"IF(Prospection!$I$6=D628,MAX($E$2:E627)+1,\"\")","v":""}]
[null,1630,"CURBANS","05110",{"$f":"IF(Prospection!$I$6=D629,MAX($E$2:E628)+1,\"\")","v":""}]
[null,1631,"ESPARRON","05110",{"$f":"IF(Prospection!$I$6=D630,MAX($E$2:E629)+1,\"\")","v":""}]
[null,1632,"LA SAULCE","05110",{"$f":"IF(Prospection!$I$6=D631,MAX($E$2:E630)+1,\"\")","v":""}]
[null,1633,"LARDIER ET VALENCA","05110",{"$f":"IF(Prospection!$I$6=D632,MAX($E$2:E631)+1,\"\")","v":""}]
[null,1634,"MONETIER ALLEMONT","05110",{"$f":"IF(Prospection!$I$6=D633,MAX($E$2:E632)+1,\"\")","v":""}]
[null,1635,"VITROLLES","05110",{"$f":"IF(Prospection!$I$6=D634,MAX($E$2:E633)+1,\"\")","v":""}]
[null,1636,"BRIANCON","05100",{"$f":"IF(Prospection!$I$6=D635,MAX($E$2:E634)+1,\"\")","v":""}]
[null,1637,"CERVIERES","05100",{"$f":"IF(Prospection!$I$6=D636,MAX($E$2:E635)+1,\"\")","v":""}]
[null,1638,"MONTGENEVRE","05100",{"$f":"IF(Prospection!$I$6=D637,MAX($E$2:E636)+1,\"\")","v":""}]
[null,1639,"NEVACHE","05100",{"$f":"IF(Prospection!$I$6=D638,MAX($E$2:E637)+1,\"\")","v":""}]
[null,1640,"PUY ST ANDRE","05100",{"$f":"IF(Prospection!$I$6=D639,MAX($E$2:E638)+1,\"\")","v":""}]
[null,1641,"PUY ST PIERRE","05100",{"$f":"IF(Prospection!$I$6=D640,MAX($E$2:E639)+1,\"\")","v":""}]
[null,1642,"VAL DES PRES","05100",{"$f":"IF(Prospection!$I$6=D641,MAX($E$2:E640)+1,\"\")","v":""}]
[null,1643,"VILLAR ST PANCRACE","05100",{"$f":"IF(Prospection!$I$6=D642,MAX($E$2:E641)+1,\"\")","v":""}]
[null,1644,"CHATEAUVIEUX","05000",{"$f":"IF(Prospection!$I$6=D643,MAX($E$2:E642)+1,\"\")","v":""}]
[null,1645,"GAP","05000",{"$f":"IF(Prospection!$I$6=D644,MAX($E$2:E643)+1,\"\")","v":""}]
[null,1646,"LA BATIE VIEILLE","05000",{"$f":"IF(Prospection!$I$6=D645,MAX($E$2:E644)+1,\"\")","v":""}]
[null,1647,"LA FREISSINOUSE","05000",{"$f":"IF(Prospection!$I$6=D646,MAX($E$2:E645)+1,\"\")","v":""}]
[null,1648,"LA ROCHETTE","05000",{"$f":"IF(Prospection!$I$6=D647,MAX($E$2:E646)+1,\"\")","v":""}]
[null,1649,"NEFFES","05000",{"$f":"IF(Prospection!$I$6=D648,MAX($E$2:E647)+1,\"\")","v":""}]
[null,1650,"PELLEAUTIER","05000",{"$f":"IF(Prospection!$I$6=D649,MAX($E$2:E648)+1,\"\")","v":""}]
[null,1651,"RAMBAUD","05000",{"$f":"IF(Prospection!$I$6=D650,MAX($E$2:E649)+1,\"\")","v":""}]
[null,1652,"ST MICHEL L OBSERVATOIRE","04870",{"$f":"IF(Prospection!$I$6=D651,MAX($E$2:E650)+1,\"\")","v":""}]
[null,1653,"PIERREVERT","04860",{"$f":"IF(Prospection!$I$6=D652,MAX($E$2:E651)+1,\"\")","v":""}]
[null,1654,"JAUSIERS","04850",{"$f":"IF(Prospection!$I$6=D653,MAX($E$2:E652)+1,\"\")","v":""}]
[null,1655,"ESPARRON DE VERDON","04800",{"$f":"IF(Prospection!$I$6=D654,MAX($E$2:E653)+1,\"\")","v":""}]
[null,1656,"GREOUX LES BAINS","04800",{"$f":"IF(Prospection!$I$6=D655,MAX($E$2:E654)+1,\"\")","v":""}]
[null,1657,"ST MARTIN DE BROMES","04800",{"$f":"IF(Prospection!$I$6=D656,MAX($E$2:E655)+1,\"\")","v":""}]
[null,1658,"ENTREVENNES","04700",{"$f":"IF(Prospection!$I$6=D657,MAX($E$2:E656)+1,\"\")","v":""}]
[null,1659,"LA BRILLANNE","04700",{"$f":"IF(Prospection!$I$6=D658,MAX($E$2:E657)+1,\"\")","v":""}]
[null,1660,"LE CASTELLET","04700",{"$f":"IF(Prospection!$I$6=D659,MAX($E$2:E658)+1,\"\")","v":""}]
[null,1661,"LURS","04700",{"$f":"IF(Prospection!$I$6=D660,MAX($E$2:E659)+1,\"\")","v":""}]
[null,1662,"ORAISON","04700",{"$f":"IF(Prospection!$I$6=D661,MAX($E$2:E660)+1,\"\")","v":""}]
[null,1663,"PUIMICHEL","04700",{"$f":"IF(Prospection!$I$6=D662,MAX($E$2:E661)+1,\"\")","v":""}]
[null,1664,"CHAMPTERCIER","04660",{"$f":"IF(Prospection!$I$6=D663,MAX($E$2:E662)+1,\"\")","v":""}]
[null,1665,"CHATEAU ARNOUX ST AUBAN","04600",{"$f":"IF(Prospection!$I$6=D664,MAX($E$2:E663)+1,\"\")","v":""}]
[null,1666,"MONTFORT","04600",{"$f":"IF(Prospection!$I$6=D665,MAX($E$2:E664)+1,\"\")","v":""}]
[null,1667,"LA CONDAMINE CHATELARD","04530",{"$f":"IF(Prospection!$I$6=D666,MAX($E$2:E665)+1,\"\")","v":""}]
[null,1668,"ST PAUL SUR UBAYE","04530",{"$f":"IF(Prospection!$I$6=D667,MAX($E$2:E666)+1,\"\")","v":""}]
[null,1669,"VAL D ORONAYE","04530",{"$f":"IF(Prospection!$I$6=D668,MAX($E$2:E667)+1,\"\")","v":""}]
[null,1670,"AIGLUN","04510",{"$f":"IF(Prospection!$I$6=D669,MAX($E$2:E668)+1,\"\")","v":""}]
[null,1671,"LE CHAFFAUT ST JURSON","04510",{"$f":"IF(Prospection!$I$6=D670,MAX($E$2:E669)+1,\"\")","v":""}]
[null,1672,"MALIJAI","04510",{"$f":"IF(Prospection!$I$6=D671,MAX($E$2:E670)+1,\"\")","v":""}]
[null,1673,"MALLEMOISSON","04510",{"$f":"IF(Prospection!$I$6=D672,MAX($E$2:E671)+1,\"\")","v":""}]
[null,1674,"MIRABEAU","04510",{"$f":"IF(Prospection!$I$6=D673,MAX($E$2:E672)+1,\"\")","v":""}]
[null,1675,"ALLEMAGNE EN PROVENCE","04500",{"$f":"IF(Prospection!$I$6=D674,MAX($E$2:E673)+1,\"\")","v":""}]
[null,1676,"MONTAGNAC MONTPEZAT","04500",{"$f":"IF(Prospection!$I$6=D675,MAX($E$2:E674)+1,\"\")","v":""}]
[null,1677,"QUINSON","04500",{"$f":"IF(Prospection!$I$6=D676,MAX($E$2:E675)+1,\"\")","v":""}]
[null,1678,"RIEZ","04500",{"$f":"IF(Prospection!$I$6=D677,MAX($E$2:E676)+1,\"\")","v":""}]
[null,1679,"ROUMOULES","04500",{"$f":"IF(Prospection!$I$6=D678,MAX($E$2:E677)+1,\"\")","v":""}]
[null,1680,"ST LAURENT DU VERDON","04500",{"$f":"IF(Prospection!$I$6=D679,MAX($E$2:E678)+1,\"\")","v":""}]
[null,1681,"STE CROIX DU VERDON","04500",{"$f":"IF(Prospection!$I$6=D680,MAX($E$2:E679)+1,\"\")","v":""}]
[null,1682,"ARCHAIL","04420",{"$f":"IF(Prospection!$I$6=D681,MAX($E$2:E680)+1,\"\")","v":""}]
[null,1683,"BEAUJEU","04420",{"$f":"IF(Prospection!$I$6=D682,MAX($E$2:E681)+1,\"\")","v":""}]
[null,1684,"DRAIX","04420",{"$f":"IF(Prospection!$I$6=D683,MAX($E$2:E682)+1,\"\")","v":""}]
[null,1685,"LA JAVIE","04420",{"$f":"IF(Prospection!$I$6=D684,MAX($E$2:E683)+1,\"\")","v":""}]
[null,1686,"LE BRUSQUET","04420",{"$f":"IF(Prospection!$I$6=D685,MAX($E$2:E684)+1,\"\")","v":""}]
[null,1687,"MARCOUX","04420",{"$f":"IF(Prospection!$I$6=D686,MAX($E$2:E685)+1,\"\")","v":""}]
[null,1688,"PRADS HAUTE BLEONE","04420",{"$f":"IF(Prospection!$I$6=D687,MAX($E$2:E686)+1,\"\")","v":""}]
[null,1689,"PUIMOISSON","04410",{"$f":"IF(Prospection!$I$6=D688,MAX($E$2:E687)+1,\"\")","v":""}]
[null,1690,"ST JURS","04410",{"$f":"IF(Prospection!$I$6=D689,MAX($E$2:E688)+1,\"\")","v":""}]
[null,1691,"BARCELONNETTE","04400",{"$f":"IF(Prospection!$I$6=D690,MAX($E$2:E689)+1,\"\")","v":""}]
[null,1692,"ENCHASTRAYES","04400",{"$f":"IF(Prospection!$I$6=D691,MAX($E$2:E690)+1,\"\")","v":""}]
[null,1693,"FAUCON DE BARCELONNETTE","04400",{"$f":"IF(Prospection!$I$6=D692,MAX($E$2:E691)+1,\"\")","v":""}]
[null,1694,"LES THUILES","04400",{"$f":"IF(Prospection!$I$6=D693,MAX($E$2:E692)+1,\"\")","v":""}]
[null,1695,"ST PONS","04400",{"$f":"IF(Prospection!$I$6=D694,MAX($E$2:E693)+1,\"\")","v":""}]
[null,1696,"UVERNET FOURS","04400",{"$f":"IF(Prospection!$I$6=D695,MAX($E$2:E694)+1,\"\")","v":""}]
[null,1697,"BARRAS","04380",{"$f":"IF(Prospection!$I$6=D696,MAX($E$2:E695)+1,\"\")","v":""}]
[null,1698,"HAUTES DUYES","04380",{"$f":"IF(Prospection!$I$6=D697,MAX($E$2:E696)+1,\"\")","v":""}]
[null,1699,"LE CASTELLARD MELAN","04380",{"$f":"IF(Prospection!$I$6=D698,MAX($E$2:E697)+1,\"\")","v":""}]
[null,1700,"THOARD","04380",{"$f":"IF(Prospection!$I$6=D699,MAX($E$2:E698)+1,\"\")","v":""}]
[null,1701,"BEAUVEZER","04370",{"$f":"IF(Prospection!$I$6=D700,MAX($E$2:E699)+1,\"\")","v":""}]
[null,1702,"COLMARS","04370",{"$f":"IF(Prospection!$I$6=D701,MAX($E$2:E700)+1,\"\")","v":""}]
[null,1703,"VILLARS COLMARS","04370",{"$f":"IF(Prospection!$I$6=D702,MAX($E$2:E701)+1,\"\")","v":""}]
[null,1704,"MOUSTIERS STE MARIE","04360",{"$f":"IF(Prospection!$I$6=D703,MAX($E$2:E702)+1,\"\")","v":""}]
[null,1705,"MALIJAI","04350",{"$f":"IF(Prospection!$I$6=D704,MAX($E$2:E703)+1,\"\")","v":""}]
[null,1706,"LA BREOLE","04340",{"$f":"IF(Prospection!$I$6=D705,MAX($E$2:E704)+1,\"\")","v":""}]
[null,1707,"LE LAUZET UBAYE","04340",{"$f":"IF(Prospection!$I$6=D706,MAX($E$2:E705)+1,\"\")","v":""}]
[null,1708,"MEOLANS REVEL","04340",{"$f":"IF(Prospection!$I$6=D707,MAX($E$2:E706)+1,\"\")","v":""}]
[null,1709,"ST VINCENT LES FORTS","04340",{"$f":"IF(Prospection!$I$6=D708,MAX($E$2:E707)+1,\"\")","v":""}]
[null,1710,"BARREME","04330",{"$f":"IF(Prospection!$I$6=D709,MAX($E$2:E708)+1,\"\")","v":""}]
[null,1711,"BLIEUX","04330",{"$f":"IF(Prospection!$I$6=D710,MAX($E$2:E709)+1,\"\")","v":""}]
[null,1712,"CHAUDON NORANTE","04330",{"$f":"IF(Prospection!$I$6=D711,MAX($E$2:E710)+1,\"\")","v":""}]
[null,1713,"CLUMANC","04330",{"$f":"IF(Prospection!$I$6=D712,MAX($E$2:E711)+1,\"\")","v":""}]
[null,1714,"SENEZ","04330",{"$f":"IF(Prospection!$I$6=D713,MAX($E$2:E712)+1,\"\")","v":""}]
[null,1715,"ST JACQUES","04330",{"$f":"IF(Prospection!$I$6=D714,MAX($E$2:E713)+1,\"\")","v":""}]
[null,1716,"ST LIONS","04330",{"$f":"IF(Prospection!$I$6=D715,MAX($E$2:E714)+1,\"\")","v":""}]
[null,1717,"TARTONNE","04330",{"$f":"IF(Prospection!$I$6=D716,MAX($E$2:E715)+1,\"\")","v":""}]
[null,1718,"CASTELLET LES SAUSSES","04320",{"$f":"IF(Prospection!$I$6=D717,MAX($E$2:E716)+1,\"\")","v":""}]
[null,1719,"ENTREVAUX","04320",{"$f":"IF(Prospection!$I$6=D718,MAX($E$2:E717)+1,\"\")","v":""}]
[null,1720,"SAUSSES","04320",{"$f":"IF(Prospection!$I$6=D719,MAX($E$2:E718)+1,\"\")","v":""}]
[null,1721,"VAL DE CHALVAGNE","04320",{"$f":"IF(Prospection!$I$6=D720,MAX($E$2:E719)+1,\"\")","v":""}]
[null,1722,"GANAGOBIE","04310",{"$f":"IF(Prospection!$I$6=D721,MAX($E$2:E720)+1,\"\")","v":""}]
[null,1723,"PEYRUIS","04310",{"$f":"IF(Prospection!$I$6=D722,MAX($E$2:E721)+1,\"\")","v":""}]
[null,1724,"DAUPHIN","04300",{"$f":"IF(Prospection!$I$6=D723,MAX($E$2:E722)+1,\"\")","v":""}]
[null,1725,"FORCALQUIER","04300",{"$f":"IF(Prospection!$I$6=D724,MAX($E$2:E723)+1,\"\")","v":""}]
[null,1726,"LIMANS","04300",{"$f":"IF(Prospection!$I$6=D725,MAX($E$2:E724)+1,\"\")","v":""}]
[null,1727,"MANE","04300",{"$f":"IF(Prospection!$I$6=D726,MAX($E$2:E725)+1,\"\")","v":""}]
[null,1728,"NIOZELLES","04300",{"$f":"IF(Prospection!$I$6=D727,MAX($E$2:E726)+1,\"\")","v":""}]
[null,1729,"PIERRERUE","04300",{"$f":"IF(Prospection!$I$6=D728,MAX($E$2:E727)+1,\"\")","v":""}]
[null,1730,"SIGONCE","04300",{"$f":"IF(Prospection!$I$6=D729,MAX($E$2:E728)+1,\"\")","v":""}]
[null,1731,"ST MAIME","04300",{"$f":"IF(Prospection!$I$6=D730,MAX($E$2:E729)+1,\"\")","v":""}]
[null,1732,"ST MARTIN LES EAUX","04300",{"$f":"IF(Prospection!$I$6=D731,MAX($E$2:E730)+1,\"\")","v":""}]
[null,1733,"SALIGNAC","04290",{"$f":"IF(Prospection!$I$6=D732,MAX($E$2:E731)+1,\"\")","v":""}]
[null,1734,"SOURRIBES","04290",{"$f":"IF(Prospection!$I$6=D733,MAX($E$2:E732)+1,\"\")","v":""}]
[null,1735,"VOLONNE","04290",{"$f":"IF(Prospection!$I$6=D734,MAX($E$2:E733)+1,\"\")","v":""}]
[null,1736,"CERESTE","04280",{"$f":"IF(Prospection!$I$6=D735,MAX($E$2:E734)+1,\"\")","v":""}]
[null,1737,"BEYNES","04270",{"$f":"IF(Prospection!$I$6=D736,MAX($E$2:E735)+1,\"\")","v":""}]
[null,1738,"BRAS D ASSE","04270",{"$f":"IF(Prospection!$I$6=D737,MAX($E$2:E736)+1,\"\")","v":""}]
[null,1739,"CHATEAUREDON","04270",{"$f":"IF(Prospection!$I$6=D738,MAX($E$2:E737)+1,\"\")","v":""}]
[null,1740,"ENTRAGES","04270",{"$f":"IF(Prospection!$I$6=D739,MAX($E$2:E738)+1,\"\")","v":""}]
[null,1741,"ESTOUBLON","04270",{"$f":"IF(Prospection!$I$6=D740,MAX($E$2:E739)+1,\"\")","v":""}]
[null,1742,"MAJASTRES","04270",{"$f":"IF(Prospection!$I$6=D741,MAX($E$2:E740)+1,\"\")","v":""}]
[null,1743,"MEZEL","04270",{"$f":"IF(Prospection!$I$6=D742,MAX($E$2:E741)+1,\"\")","v":""}]
[null,1744,"SENEZ","04270",{"$f":"IF(Prospection!$I$6=D743,MAX($E$2:E742)+1,\"\")","v":""}]
[null,1745,"ST JEANNET","04270",{"$f":"IF(Prospection!$I$6=D744,MAX($E$2:E743)+1,\"\")","v":""}]
[null,1746,"ST JULIEN D ASSE","04270",{"$f":"IF(Prospection!$I$6=D745,MAX($E$2:E744)+1,\"\")","v":""}]
[null,1747,"ALLOS","04260",{"$f":"IF(Prospection!$I$6=D746,MAX($E$2:E745)+1,\"\")","v":""}]
[null,1748,"BAYONS","04250",{"$f":"IF(Prospection!$I$6=D747,MAX($E$2:E746)+1,\"\")","v":""}]
[null,1749,"BELLAFFAIRE","04250",{"$f":"IF(Prospection!$I$6=D748,MAX($E$2:E747)+1,\"\")","v":""}]
[null,1750,"CHATEAUFORT","04250",{"$f":"IF(Prospection!$I$6=D749,MAX($E$2:E748)+1,\"\")","v":""}]
[null,1751,"CLAMENSANE","04250",{"$f":"IF(Prospection!$I$6=D750,MAX($E$2:E749)+1,\"\")","v":""}]
[null,1752,"FAUCON DU CAIRE","04250",{"$f":"IF(Prospection!$I$6=D751,MAX($E$2:E750)+1,\"\")","v":""}]
[null,1753,"GIGORS","04250",{"$f":"IF(Prospection!$I$6=D752,MAX($E$2:E751)+1,\"\")","v":""}]
[null,1754,"LA MOTTE DU CAIRE","04250",{"$f":"IF(Prospection!$I$6=D753,MAX($E$2:E752)+1,\"\")","v":""}]
[null,1755,"LE CAIRE","04250",{"$f":"IF(Prospection!$I$6=D754,MAX($E$2:E753)+1,\"\")","v":""}]
[null,1756,"MELVE","04250",{"$f":"IF(Prospection!$I$6=D755,MAX($E$2:E754)+1,\"\")","v":""}]
[null,1757,"NIBLES","04250",{"$f":"IF(Prospection!$I$6=D756,MAX($E$2:E755)+1,\"\")","v":""}]
[null,1758,"TURRIERS","04250",{"$f":"IF(Prospection!$I$6=D757,MAX($E$2:E756)+1,\"\")","v":""}]
[null,1759,"VALAVOIRE","04250",{"$f":"IF(Prospection!$I$6=D758,MAX($E$2:E757)+1,\"\")","v":""}]
[null,1760,"ANNOT","04240",{"$f":"IF(Prospection!$I$6=D759,MAX($E$2:E758)+1,\"\")","v":""}]
[null,1761,"BRAUX","04240",{"$f":"IF(Prospection!$I$6=D760,MAX($E$2:E759)+1,\"\")","v":""}]
[null,1762,"LE FUGERET","04240",{"$f":"IF(Prospection!$I$6=D761,MAX($E$2:E760)+1,\"\")","v":""}]
[null,1763,"MEAILLES","04240",{"$f":"IF(Prospection!$I$6=D762,MAX($E$2:E761)+1,\"\")","v":""}]
[null,1764,"ST BENOIT","04240",{"$f":"IF(Prospection!$I$6=D763,MAX($E$2:E762)+1,\"\")","v":""}]
[null,1765,"UBRAYE","04240",{"$f":"IF(Prospection!$I$6=D764,MAX($E$2:E763)+1,\"\")","v":""}]
[null,1766,"CRUIS","04230",{"$f":"IF(Prospection!$I$6=D765,MAX($E$2:E764)+1,\"\")","v":""}]
[null,1767,"FONTIENNE","04230",{"$f":"IF(Prospection!$I$6=D766,MAX($E$2:E765)+1,\"\")","v":""}]
[null,1768,"LARDIERS","04230",{"$f":"IF(Prospection!$I$6=D767,MAX($E$2:E766)+1,\"\")","v":""}]
[null,1769,"MALLEFOUGASSE AUGES","04230",{"$f":"IF(Prospection!$I$6=D768,MAX($E$2:E767)+1,\"\")","v":""}]
[null,1770,"MONTLAUX","04230",{"$f":"IF(Prospection!$I$6=D769,MAX($E$2:E768)+1,\"\")","v":""}]
[null,1771,"ONGLES","04230",{"$f":"IF(Prospection!$I$6=D770,MAX($E$2:E769)+1,\"\")","v":""}]
[null,1772,"REVEST ST MARTIN","04230",{"$f":"IF(Prospection!$I$6=D771,MAX($E$2:E770)+1,\"\")","v":""}]
[null,1773,"ST ETIENNE LES ORGUES","04230",{"$f":"IF(Prospection!$I$6=D772,MAX($E$2:E771)+1,\"\")","v":""}]
[null,1774,"CORBIERES","04220",{"$f":"IF(Prospection!$I$6=D773,MAX($E$2:E772)+1,\"\")","v":""}]
[null,1775,"STE TULLE","04220",{"$f":"IF(Prospection!$I$6=D774,MAX($E$2:E773)+1,\"\")","v":""}]
[null,1776,"BRUNET","04210",{"$f":"IF(Prospection!$I$6=D775,MAX($E$2:E774)+1,\"\")","v":""}]
[null,1777,"VALENSOLE","04210",{"$f":"IF(Prospection!$I$6=D776,MAX($E$2:E775)+1,\"\")","v":""}]
[null,1778,"AUBIGNOSC","04200",{"$f":"IF(Prospection!$I$6=D777,MAX($E$2:E776)+1,\"\")","v":""}]
[null,1779,"AUTHON","04200",{"$f":"IF(Prospection!$I$6=D778,MAX($E$2:E777)+1,\"\")","v":""}]
[null,1780,"BEVONS","04200",{"$f":"IF(Prospection!$I$6=D779,MAX($E$2:E778)+1,\"\")","v":""}]
[null,1781,"CHATEAUNEUF MIRAVAIL","04200",{"$f":"IF(Prospection!$I$6=D780,MAX($E$2:E779)+1,\"\")","v":""}]
[null,1782,"CHATEAUNEUF VAL ST DONAT","04200",{"$f":"IF(Prospection!$I$6=D781,MAX($E$2:E780)+1,\"\")","v":""}]
[null,1783,"CUREL","04200",{"$f":"IF(Prospection!$I$6=D782,MAX($E$2:E781)+1,\"\")","v":""}]
[null,1784,"ENTREPIERRES","04200",{"$f":"IF(Prospection!$I$6=D783,MAX($E$2:E782)+1,\"\")","v":""}]
[null,1785,"LES OMERGUES","04200",{"$f":"IF(Prospection!$I$6=D784,MAX($E$2:E783)+1,\"\")","v":""}]
[null,1786,"MISON","04200",{"$f":"IF(Prospection!$I$6=D785,MAX($E$2:E784)+1,\"\")","v":""}]
[null,1787,"NOYERS SUR JABRON","04200",{"$f":"IF(Prospection!$I$6=D786,MAX($E$2:E785)+1,\"\")","v":""}]
[null,1788,"PEIPIN","04200",{"$f":"IF(Prospection!$I$6=D787,MAX($E$2:E786)+1,\"\")","v":""}]
[null,1789,"SIGOYER","04200",{"$f":"IF(Prospection!$I$6=D788,MAX($E$2:E787)+1,\"\")","v":""}]
[null,1790,"SISTERON","04200",{"$f":"IF(Prospection!$I$6=D789,MAX($E$2:E788)+1,\"\")","v":""}]
[null,1791,"ST GENIEZ","04200",{"$f":"IF(Prospection!$I$6=D790,MAX($E$2:E789)+1,\"\")","v":""}]
[null,1792,"ST VINCENT SUR JABRON","04200",{"$f":"IF(Prospection!$I$6=D791,MAX($E$2:E790)+1,\"\")","v":""}]
[null,1793,"THEZE","04200",{"$f":"IF(Prospection!$I$6=D792,MAX($E$2:E791)+1,\"\")","v":""}]
[null,1794,"VALBELLE","04200",{"$f":"IF(Prospection!$I$6=D793,MAX($E$2:E792)+1,\"\")","v":""}]
[null,1795,"VALERNES","04200",{"$f":"IF(Prospection!$I$6=D794,MAX($E$2:E793)+1,\"\")","v":""}]
[null,1796,"VAUMEILH","04200",{"$f":"IF(Prospection!$I$6=D795,MAX($E$2:E794)+1,\"\")","v":""}]
[null,1797,"LES MEES","04190",{"$f":"IF(Prospection!$I$6=D796,MAX($E$2:E795)+1,\"\")","v":""}]
[null,1798,"VILLENEUVE","04180",{"$f":"IF(Prospection!$I$6=D797,MAX($E$2:E796)+1,\"\")","v":""}]
[null,1799,"ALLONS","04170",{"$f":"IF(Prospection!$I$6=D798,MAX($E$2:E797)+1,\"\")","v":""}]
[null,1800,"ANGLES","04170",{"$f":"IF(Prospection!$I$6=D799,MAX($E$2:E798)+1,\"\")","v":""}]
[null,1801,"LA MURE ARGENS","04170",{"$f":"IF(Prospection!$I$6=D800,MAX($E$2:E799)+1,\"\")","v":""}]
[null,1802,"LAMBRUISSE","04170",{"$f":"IF(Prospection!$I$6=D801,MAX($E$2:E800)+1,\"\")","v":""}]
[null,1803,"MORIEZ","04170",{"$f":"IF(Prospection!$I$6=D802,MAX($E$2:E801)+1,\"\")","v":""}]
[null,1804,"ST ANDRE LES ALPES","04170",{"$f":"IF(Prospection!$I$6=D803,MAX($E$2:E802)+1,\"\")","v":""}]
[null,1805,"ST JULIEN DU VERDON","04170",{"$f":"IF(Prospection!$I$6=D804,MAX($E$2:E803)+1,\"\")","v":""}]
[null,1806,"THORAME BASSE","04170",{"$f":"IF(Prospection!$I$6=D805,MAX($E$2:E804)+1,\"\")","v":""}]
[null,1807,"THORAME HAUTE","04170",{"$f":"IF(Prospection!$I$6=D806,MAX($E$2:E805)+1,\"\")","v":""}]
[null,1808,"VERGONS","04170",{"$f":"IF(Prospection!$I$6=D807,MAX($E$2:E806)+1,\"\")","v":""}]
[null,1809,"CHATEAU ARNOUX ST AUBAN","04160",{"$f":"IF(Prospection!$I$6=D808,MAX($E$2:E807)+1,\"\")","v":""}]
[null,1810,"L ESCALE","04160",{"$f":"IF(Prospection!$I$6=D809,MAX($E$2:E808)+1,\"\")","v":""}]
[null,1811,"BANON","04150",{"$f":"IF(Prospection!$I$6=D810,MAX($E$2:E809)+1,\"\")","v":""}]
[null,1812,"L HOSPITALET","04150",{"$f":"IF(Prospection!$I$6=D811,MAX($E$2:E810)+1,\"\")","v":""}]
[null,1813,"LA ROCHEGIRON","04150",{"$f":"IF(Prospection!$I$6=D812,MAX($E$2:E811)+1,\"\")","v":""}]
[null,1814,"MONTSALIER","04150",{"$f":"IF(Prospection!$I$6=D813,MAX($E$2:E812)+1,\"\")","v":""}]
[null,1815,"REDORTIERS","04150",{"$f":"IF(Prospection!$I$6=D814,MAX($E$2:E813)+1,\"\")","v":""}]
[null,1816,"REVEST DES BROUSSES","04150",{"$f":"IF(Prospection!$I$6=D815,MAX($E$2:E814)+1,\"\")","v":""}]
[null,1817,"REVEST DU BION","04150",{"$f":"IF(Prospection!$I$6=D816,MAX($E$2:E815)+1,\"\")","v":""}]
[null,1818,"SAUMANE","04150",{"$f":"IF(Prospection!$I$6=D817,MAX($E$2:E816)+1,\"\")","v":""}]
[null,1819,"SIMIANE LA ROTONDE","04150",{"$f":"IF(Prospection!$I$6=D818,MAX($E$2:E817)+1,\"\")","v":""}]
[null,1820,"AUZET","04140",{"$f":"IF(Prospection!$I$6=D819,MAX($E$2:E818)+1,\"\")","v":""}]
[null,1821,"BARLES","04140",{"$f":"IF(Prospection!$I$6=D820,MAX($E$2:E819)+1,\"\")","v":""}]
[null,1822,"LE VERNET","04140",{"$f":"IF(Prospection!$I$6=D821,MAX($E$2:E820)+1,\"\")","v":""}]
[null,1823,"MONTCLAR","04140",{"$f":"IF(Prospection!$I$6=D822,MAX($E$2:E821)+1,\"\")","v":""}]
[null,1824,"SELONNET","04140",{"$f":"IF(Prospection!$I$6=D823,MAX($E$2:E822)+1,\"\")","v":""}]
[null,1825,"SEYNE","04140",{"$f":"IF(Prospection!$I$6=D824,MAX($E$2:E823)+1,\"\")","v":""}]
[null,1826,"ST MARTIN LES SEYNE","04140",{"$f":"IF(Prospection!$I$6=D825,MAX($E$2:E824)+1,\"\")","v":""}]
[null,1827,"VERDACHES","04140",{"$f":"IF(Prospection!$I$6=D826,MAX($E$2:E825)+1,\"\")","v":""}]
[null,1828,"VOLX","04130",{"$f":"IF(Prospection!$I$6=D827,MAX($E$2:E826)+1,\"\")","v":""}]
[null,1829,"CASTELLANE","04120",{"$f":"IF(Prospection!$I$6=D828,MAX($E$2:E827)+1,\"\")","v":""}]
[null,1830,"DEMANDOLX","04120",{"$f":"IF(Prospection!$I$6=D829,MAX($E$2:E828)+1,\"\")","v":""}]
[null,1831,"LA GARDE","04120",{"$f":"IF(Prospection!$I$6=D830,MAX($E$2:E829)+1,\"\")","v":""}]
[null,1832,"LA PALUD SUR VERDON","04120",{"$f":"IF(Prospection!$I$6=D831,MAX($E$2:E830)+1,\"\")","v":""}]
[null,1833,"PEYROULES","04120",{"$f":"IF(Prospection!$I$6=D832,MAX($E$2:E831)+1,\"\")","v":""}]
[null,1834,"ROUGON","04120",{"$f":"IF(Prospection!$I$6=D833,MAX($E$2:E832)+1,\"\")","v":""}]
[null,1835,"SOLEILHAS","04120",{"$f":"IF(Prospection!$I$6=D834,MAX($E$2:E833)+1,\"\")","v":""}]
[null,1836,"AUBENAS LES ALPES","04110",{"$f":"IF(Prospection!$I$6=D835,MAX($E$2:E834)+1,\"\")","v":""}]
[null,1837,"MONTFURON","04110",{"$f":"IF(Prospection!$I$6=D836,MAX($E$2:E835)+1,\"\")","v":""}]
[null,1838,"MONTJUSTIN","04110",{"$f":"IF(Prospection!$I$6=D837,MAX($E$2:E836)+1,\"\")","v":""}]
[null,1839,"OPPEDETTE","04110",{"$f":"IF(Prospection!$I$6=D838,MAX($E$2:E837)+1,\"\")","v":""}]
[null,1840,"REILLANNE","04110",{"$f":"IF(Prospection!$I$6=D839,MAX($E$2:E838)+1,\"\")","v":""}]
[null,1841,"STE CROIX A LAUZE","04110",{"$f":"IF(Prospection!$I$6=D840,MAX($E$2:E839)+1,\"\")","v":""}]
[null,1842,"VACHERES","04110",{"$f":"IF(Prospection!$I$6=D841,MAX($E$2:E840)+1,\"\")","v":""}]
[null,1843,"VILLEMUS","04110",{"$f":"IF(Prospection!$I$6=D842,MAX($E$2:E841)+1,\"\")","v":""}]
[null,1844,"MANOSQUE","04100",{"$f":"IF(Prospection!$I$6=D843,MAX($E$2:E842)+1,\"\")","v":""}]
[null,1845,"DIGNE LES BAINS","04000",{"$f":"IF(Prospection!$I$6=D844,MAX($E$2:E843)+1,\"\")","v":""}]
[null,1846,"ENTRAGES","04000",{"$f":"IF(Prospection!$I$6=D845,MAX($E$2:E844)+1,\"\")","v":""}]
[null,1847,"LA JAVIE","04000",{"$f":"IF(Prospection!$I$6=D846,MAX($E$2:E845)+1,\"\")","v":""}]
[null,1848,"LA ROBINE SUR GALABRE","04000",{"$f":"IF(Prospection!$I$6=D847,MAX($E$2:E846)+1,\"\")","v":""}]